BEGIN:VCALENDAR
VERSION:2.0
PRODID:-//Ryedale Methodist Circuit - ECPv6.15.20//NONSGML v1.0//EN
CALSCALE:GREGORIAN
METHOD:PUBLISH
X-WR-CALNAME:Ryedale Methodist Circuit
X-ORIGINAL-URL:https://www.ryedalemethodist.org.uk
X-WR-CALDESC:Events for Ryedale Methodist Circuit
REFRESH-INTERVAL;VALUE=DURATION:PT1H
X-Robots-Tag:noindex
X-PUBLISHED-TTL:PT1H
BEGIN:VTIMEZONE
TZID:Europe/London
BEGIN:DAYLIGHT
TZOFFSETFROM:+0000
TZOFFSETTO:+0100
TZNAME:BST
DTSTART:20300331T010000
END:DAYLIGHT
BEGIN:STANDARD
TZOFFSETFROM:+0100
TZOFFSETTO:+0000
TZNAME:GMT
DTSTART:20301027T010000
END:STANDARD
BEGIN:DAYLIGHT
TZOFFSETFROM:+0000
TZOFFSETTO:+0100
TZNAME:BST
DTSTART:20310330T010000
END:DAYLIGHT
BEGIN:STANDARD
TZOFFSETFROM:+0100
TZOFFSETTO:+0000
TZNAME:GMT
DTSTART:20311026T010000
END:STANDARD
BEGIN:DAYLIGHT
TZOFFSETFROM:+0000
TZOFFSETTO:+0100
TZNAME:BST
DTSTART:20320328T010000
END:DAYLIGHT
BEGIN:STANDARD
TZOFFSETFROM:+0100
TZOFFSETTO:+0000
TZNAME:GMT
DTSTART:20321031T010000
END:STANDARD
END:VTIMEZONE
BEGIN:VEVENT
DTSTART;TZID=Europe/London:20310216T103000
DTEND;TZID=Europe/London:20310216T113000
DTSTAMP:20260421T073749
CREATED:20260420T115317Z
LAST-MODIFIED:20260420T115317Z
UID:10008295-1929004200-1929007800@www.ryedalemethodist.org.uk
SUMMARY:Sunday Worship @ Hovingham Methodist
DESCRIPTION:Join us on a Sunday Morning at 10:30am for our weekly act of worship.\nHovingham congregation worships at three locations.  Hovingham Chapel\, The Parish Church and Slingsby Methodist.  Do check the worship plan\, to verify where we are meeting each week. \nOur services are led by our minister\, or local preachers from the Ryedale Methodist circuit.  The service usually lasts around an hour\, and includes the singing of hymns\, readings from the bible\, a reflection on the readings\, and led prayers.  Once a month we also share in bread and wine (communion) to which everyone is welcome. \nFollowing the service tea and coffee are served and we take the opportunity to catch up with one another. \n 
URL:https://www.ryedalemethodist.org.uk/event/sunday-worship-hovingham-methodist-2/2031-02-16/
LOCATION:Hovingham Methodist Church\, Church Street\, Hovingham\, North Yorkshire\, YO62 4JX\, United Kingdom
CATEGORIES:Churches,Faith Event,Hovingham,Slingsby,Worship
ATTACH;FMTTYPE=image/jpeg:https://www.ryedalemethodist.org.uk/new/wp-content/uploads/2023/10/Hovingjham.jpg
ORGANIZER;CN="Rev Jane Brown":MAILTO:jane.brown@ryedalemethodist.org.uk
END:VEVENT
BEGIN:VEVENT
DTSTART;TZID=Europe/London:20310223T103000
DTEND;TZID=Europe/London:20310223T113000
DTSTAMP:20260421T073749
CREATED:20260420T115317Z
LAST-MODIFIED:20260420T115317Z
UID:10008296-1929609000-1929612600@www.ryedalemethodist.org.uk
SUMMARY:Sunday Worship @ Hovingham Methodist
DESCRIPTION:Join us on a Sunday Morning at 10:30am for our weekly act of worship.\nHovingham congregation worships at three locations.  Hovingham Chapel\, The Parish Church and Slingsby Methodist.  Do check the worship plan\, to verify where we are meeting each week. \nOur services are led by our minister\, or local preachers from the Ryedale Methodist circuit.  The service usually lasts around an hour\, and includes the singing of hymns\, readings from the bible\, a reflection on the readings\, and led prayers.  Once a month we also share in bread and wine (communion) to which everyone is welcome. \nFollowing the service tea and coffee are served and we take the opportunity to catch up with one another. \n 
URL:https://www.ryedalemethodist.org.uk/event/sunday-worship-hovingham-methodist-2/2031-02-23/
LOCATION:Hovingham Methodist Church\, Church Street\, Hovingham\, North Yorkshire\, YO62 4JX\, United Kingdom
CATEGORIES:Churches,Faith Event,Hovingham,Slingsby,Worship
ATTACH;FMTTYPE=image/jpeg:https://www.ryedalemethodist.org.uk/new/wp-content/uploads/2023/10/Hovingjham.jpg
ORGANIZER;CN="Rev Jane Brown":MAILTO:jane.brown@ryedalemethodist.org.uk
END:VEVENT
BEGIN:VEVENT
DTSTART;TZID=Europe/London:20310302T103000
DTEND;TZID=Europe/London:20310302T113000
DTSTAMP:20260421T073749
CREATED:20260420T115317Z
LAST-MODIFIED:20260420T115317Z
UID:10008297-1930213800-1930217400@www.ryedalemethodist.org.uk
SUMMARY:Sunday Worship @ Hovingham Methodist
DESCRIPTION:Join us on a Sunday Morning at 10:30am for our weekly act of worship.\nHovingham congregation worships at three locations.  Hovingham Chapel\, The Parish Church and Slingsby Methodist.  Do check the worship plan\, to verify where we are meeting each week. \nOur services are led by our minister\, or local preachers from the Ryedale Methodist circuit.  The service usually lasts around an hour\, and includes the singing of hymns\, readings from the bible\, a reflection on the readings\, and led prayers.  Once a month we also share in bread and wine (communion) to which everyone is welcome. \nFollowing the service tea and coffee are served and we take the opportunity to catch up with one another. \n 
URL:https://www.ryedalemethodist.org.uk/event/sunday-worship-hovingham-methodist-2/2031-03-02/
LOCATION:Hovingham Methodist Church\, Church Street\, Hovingham\, North Yorkshire\, YO62 4JX\, United Kingdom
CATEGORIES:Churches,Faith Event,Hovingham,Slingsby,Worship
ATTACH;FMTTYPE=image/jpeg:https://www.ryedalemethodist.org.uk/new/wp-content/uploads/2023/10/Hovingjham.jpg
ORGANIZER;CN="Rev Jane Brown":MAILTO:jane.brown@ryedalemethodist.org.uk
END:VEVENT
BEGIN:VEVENT
DTSTART;TZID=Europe/London:20310309T103000
DTEND;TZID=Europe/London:20310309T113000
DTSTAMP:20260421T073749
CREATED:20260420T115317Z
LAST-MODIFIED:20260420T115317Z
UID:10008298-1930818600-1930822200@www.ryedalemethodist.org.uk
SUMMARY:Sunday Worship @ Hovingham Methodist
DESCRIPTION:Join us on a Sunday Morning at 10:30am for our weekly act of worship.\nHovingham congregation worships at three locations.  Hovingham Chapel\, The Parish Church and Slingsby Methodist.  Do check the worship plan\, to verify where we are meeting each week. \nOur services are led by our minister\, or local preachers from the Ryedale Methodist circuit.  The service usually lasts around an hour\, and includes the singing of hymns\, readings from the bible\, a reflection on the readings\, and led prayers.  Once a month we also share in bread and wine (communion) to which everyone is welcome. \nFollowing the service tea and coffee are served and we take the opportunity to catch up with one another. \n 
URL:https://www.ryedalemethodist.org.uk/event/sunday-worship-hovingham-methodist-2/2031-03-09/
LOCATION:Hovingham Methodist Church\, Church Street\, Hovingham\, North Yorkshire\, YO62 4JX\, United Kingdom
CATEGORIES:Churches,Faith Event,Hovingham,Slingsby,Worship
ATTACH;FMTTYPE=image/jpeg:https://www.ryedalemethodist.org.uk/new/wp-content/uploads/2023/10/Hovingjham.jpg
ORGANIZER;CN="Rev Jane Brown":MAILTO:jane.brown@ryedalemethodist.org.uk
END:VEVENT
BEGIN:VEVENT
DTSTART;TZID=Europe/London:20310316T103000
DTEND;TZID=Europe/London:20310316T113000
DTSTAMP:20260421T073749
CREATED:20260420T115317Z
LAST-MODIFIED:20260420T115317Z
UID:10008299-1931423400-1931427000@www.ryedalemethodist.org.uk
SUMMARY:Sunday Worship @ Hovingham Methodist
DESCRIPTION:Join us on a Sunday Morning at 10:30am for our weekly act of worship.\nHovingham congregation worships at three locations.  Hovingham Chapel\, The Parish Church and Slingsby Methodist.  Do check the worship plan\, to verify where we are meeting each week. \nOur services are led by our minister\, or local preachers from the Ryedale Methodist circuit.  The service usually lasts around an hour\, and includes the singing of hymns\, readings from the bible\, a reflection on the readings\, and led prayers.  Once a month we also share in bread and wine (communion) to which everyone is welcome. \nFollowing the service tea and coffee are served and we take the opportunity to catch up with one another. \n 
URL:https://www.ryedalemethodist.org.uk/event/sunday-worship-hovingham-methodist-2/2031-03-16/
LOCATION:Hovingham Methodist Church\, Church Street\, Hovingham\, North Yorkshire\, YO62 4JX\, United Kingdom
CATEGORIES:Churches,Faith Event,Hovingham,Slingsby,Worship
ATTACH;FMTTYPE=image/jpeg:https://www.ryedalemethodist.org.uk/new/wp-content/uploads/2023/10/Hovingjham.jpg
ORGANIZER;CN="Rev Jane Brown":MAILTO:jane.brown@ryedalemethodist.org.uk
END:VEVENT
BEGIN:VEVENT
DTSTART;TZID=Europe/London:20310323T103000
DTEND;TZID=Europe/London:20310323T113000
DTSTAMP:20260421T073749
CREATED:20260420T115317Z
LAST-MODIFIED:20260420T115317Z
UID:10010765-1932028200-1932031800@www.ryedalemethodist.org.uk
SUMMARY:Sunday Worship @ Hovingham Methodist
DESCRIPTION:Join us on a Sunday Morning at 10:30am for our weekly act of worship.\nHovingham congregation worships at three locations.  Hovingham Chapel\, The Parish Church and Slingsby Methodist.  Do check the worship plan\, to verify where we are meeting each week. \nOur services are led by our minister\, or local preachers from the Ryedale Methodist circuit.  The service usually lasts around an hour\, and includes the singing of hymns\, readings from the bible\, a reflection on the readings\, and led prayers.  Once a month we also share in bread and wine (communion) to which everyone is welcome. \nFollowing the service tea and coffee are served and we take the opportunity to catch up with one another. \n 
URL:https://www.ryedalemethodist.org.uk/event/sunday-worship-hovingham-methodist-2/2031-03-23/
LOCATION:Hovingham Methodist Church\, Church Street\, Hovingham\, North Yorkshire\, YO62 4JX\, United Kingdom
CATEGORIES:Churches,Faith Event,Hovingham,Slingsby,Worship
ATTACH;FMTTYPE=image/jpeg:https://www.ryedalemethodist.org.uk/new/wp-content/uploads/2023/10/Hovingjham.jpg
ORGANIZER;CN="Rev Jane Brown":MAILTO:jane.brown@ryedalemethodist.org.uk
END:VEVENT
BEGIN:VEVENT
DTSTART;TZID=Europe/London:20310330T103000
DTEND;TZID=Europe/London:20310330T113000
DTSTAMP:20260421T073749
CREATED:20260420T115317Z
LAST-MODIFIED:20260420T115317Z
UID:10010766-1932633000-1932636600@www.ryedalemethodist.org.uk
SUMMARY:Sunday Worship @ Hovingham Methodist
DESCRIPTION:Join us on a Sunday Morning at 10:30am for our weekly act of worship.\nHovingham congregation worships at three locations.  Hovingham Chapel\, The Parish Church and Slingsby Methodist.  Do check the worship plan\, to verify where we are meeting each week. \nOur services are led by our minister\, or local preachers from the Ryedale Methodist circuit.  The service usually lasts around an hour\, and includes the singing of hymns\, readings from the bible\, a reflection on the readings\, and led prayers.  Once a month we also share in bread and wine (communion) to which everyone is welcome. \nFollowing the service tea and coffee are served and we take the opportunity to catch up with one another. \n 
URL:https://www.ryedalemethodist.org.uk/event/sunday-worship-hovingham-methodist-2/2031-03-30/
LOCATION:Hovingham Methodist Church\, Church Street\, Hovingham\, North Yorkshire\, YO62 4JX\, United Kingdom
CATEGORIES:Churches,Faith Event,Hovingham,Slingsby,Worship
ATTACH;FMTTYPE=image/jpeg:https://www.ryedalemethodist.org.uk/new/wp-content/uploads/2023/10/Hovingjham.jpg
ORGANIZER;CN="Rev Jane Brown":MAILTO:jane.brown@ryedalemethodist.org.uk
END:VEVENT
BEGIN:VEVENT
DTSTART;TZID=Europe/London:20310406T103000
DTEND;TZID=Europe/London:20310406T113000
DTSTAMP:20260421T073749
CREATED:20260420T115317Z
LAST-MODIFIED:20260420T115317Z
UID:10010767-1933237800-1933241400@www.ryedalemethodist.org.uk
SUMMARY:Sunday Worship @ Hovingham Methodist
DESCRIPTION:Join us on a Sunday Morning at 10:30am for our weekly act of worship.\nHovingham congregation worships at three locations.  Hovingham Chapel\, The Parish Church and Slingsby Methodist.  Do check the worship plan\, to verify where we are meeting each week. \nOur services are led by our minister\, or local preachers from the Ryedale Methodist circuit.  The service usually lasts around an hour\, and includes the singing of hymns\, readings from the bible\, a reflection on the readings\, and led prayers.  Once a month we also share in bread and wine (communion) to which everyone is welcome. \nFollowing the service tea and coffee are served and we take the opportunity to catch up with one another. \n 
URL:https://www.ryedalemethodist.org.uk/event/sunday-worship-hovingham-methodist-2/2031-04-06/
LOCATION:Hovingham Methodist Church\, Church Street\, Hovingham\, North Yorkshire\, YO62 4JX\, United Kingdom
CATEGORIES:Churches,Faith Event,Hovingham,Slingsby,Worship
ATTACH;FMTTYPE=image/jpeg:https://www.ryedalemethodist.org.uk/new/wp-content/uploads/2023/10/Hovingjham.jpg
ORGANIZER;CN="Rev Jane Brown":MAILTO:jane.brown@ryedalemethodist.org.uk
END:VEVENT
BEGIN:VEVENT
DTSTART;TZID=Europe/London:20310413T103000
DTEND;TZID=Europe/London:20310413T113000
DTSTAMP:20260421T073750
CREATED:20260420T115317Z
LAST-MODIFIED:20260420T115317Z
UID:10010768-1933842600-1933846200@www.ryedalemethodist.org.uk
SUMMARY:Sunday Worship @ Hovingham Methodist
DESCRIPTION:Join us on a Sunday Morning at 10:30am for our weekly act of worship.\nHovingham congregation worships at three locations.  Hovingham Chapel\, The Parish Church and Slingsby Methodist.  Do check the worship plan\, to verify where we are meeting each week. \nOur services are led by our minister\, or local preachers from the Ryedale Methodist circuit.  The service usually lasts around an hour\, and includes the singing of hymns\, readings from the bible\, a reflection on the readings\, and led prayers.  Once a month we also share in bread and wine (communion) to which everyone is welcome. \nFollowing the service tea and coffee are served and we take the opportunity to catch up with one another. \n 
URL:https://www.ryedalemethodist.org.uk/event/sunday-worship-hovingham-methodist-2/2031-04-13/
LOCATION:Hovingham Methodist Church\, Church Street\, Hovingham\, North Yorkshire\, YO62 4JX\, United Kingdom
CATEGORIES:Churches,Faith Event,Hovingham,Slingsby,Worship
ATTACH;FMTTYPE=image/jpeg:https://www.ryedalemethodist.org.uk/new/wp-content/uploads/2023/10/Hovingjham.jpg
ORGANIZER;CN="Rev Jane Brown":MAILTO:jane.brown@ryedalemethodist.org.uk
END:VEVENT
BEGIN:VEVENT
DTSTART;TZID=Europe/London:20310420T103000
DTEND;TZID=Europe/London:20310420T113000
DTSTAMP:20260421T073750
CREATED:20260420T115317Z
LAST-MODIFIED:20260420T115317Z
UID:10010769-1934447400-1934451000@www.ryedalemethodist.org.uk
SUMMARY:Sunday Worship @ Hovingham Methodist
DESCRIPTION:Join us on a Sunday Morning at 10:30am for our weekly act of worship.\nHovingham congregation worships at three locations.  Hovingham Chapel\, The Parish Church and Slingsby Methodist.  Do check the worship plan\, to verify where we are meeting each week. \nOur services are led by our minister\, or local preachers from the Ryedale Methodist circuit.  The service usually lasts around an hour\, and includes the singing of hymns\, readings from the bible\, a reflection on the readings\, and led prayers.  Once a month we also share in bread and wine (communion) to which everyone is welcome. \nFollowing the service tea and coffee are served and we take the opportunity to catch up with one another. \n 
URL:https://www.ryedalemethodist.org.uk/event/sunday-worship-hovingham-methodist-2/2031-04-20/
LOCATION:Hovingham Methodist Church\, Church Street\, Hovingham\, North Yorkshire\, YO62 4JX\, United Kingdom
CATEGORIES:Churches,Faith Event,Hovingham,Slingsby,Worship
ATTACH;FMTTYPE=image/jpeg:https://www.ryedalemethodist.org.uk/new/wp-content/uploads/2023/10/Hovingjham.jpg
ORGANIZER;CN="Rev Jane Brown":MAILTO:jane.brown@ryedalemethodist.org.uk
END:VEVENT
END:VCALENDAR