BEGIN:VCALENDAR
VERSION:2.0
PRODID:-//Ryedale Methodist Circuit - ECPv6.15.20//NONSGML v1.0//EN
CALSCALE:GREGORIAN
METHOD:PUBLISH
X-ORIGINAL-URL:https://www.ryedalemethodist.org.uk
X-WR-CALDESC:Events for Ryedale Methodist Circuit
REFRESH-INTERVAL;VALUE=DURATION:PT1H
X-Robots-Tag:noindex
X-PUBLISHED-TTL:PT1H
BEGIN:VTIMEZONE
TZID:Europe/London
BEGIN:DAYLIGHT
TZOFFSETFROM:+0000
TZOFFSETTO:+0100
TZNAME:BST
DTSTART:20250330T010000
END:DAYLIGHT
BEGIN:STANDARD
TZOFFSETFROM:+0100
TZOFFSETTO:+0000
TZNAME:GMT
DTSTART:20251026T010000
END:STANDARD
BEGIN:DAYLIGHT
TZOFFSETFROM:+0000
TZOFFSETTO:+0100
TZNAME:BST
DTSTART:20260329T010000
END:DAYLIGHT
BEGIN:STANDARD
TZOFFSETFROM:+0100
TZOFFSETTO:+0000
TZNAME:GMT
DTSTART:20261025T010000
END:STANDARD
BEGIN:DAYLIGHT
TZOFFSETFROM:+0000
TZOFFSETTO:+0100
TZNAME:BST
DTSTART:20270328T010000
END:DAYLIGHT
BEGIN:STANDARD
TZOFFSETFROM:+0100
TZOFFSETTO:+0000
TZNAME:GMT
DTSTART:20271031T010000
END:STANDARD
END:VTIMEZONE
BEGIN:VEVENT
DTSTART;VALUE=DATE:20260426
DTEND;VALUE=DATE:20260427
DTSTAMP:20260421T124224
CREATED:20251217T182240Z
LAST-MODIFIED:20251217T182240Z
UID:10006523-1777161600-1777247999@www.ryedalemethodist.org.uk
SUMMARY:Sunday Worship @ Leavening
DESCRIPTION:Join us on a Sunday Worship at Leavening.\nLeavening is an LEP and so Worship is led by the Parish Priests and Lay Readers as well as our minister\, or local preachers from the Ryedale Methodist circuit. \nWe worship at different times during the month\, from 9:00am\, 10:30am and occasionally 6:00pm so do please check the worship plan\, for each particular Sunday \nThe service usually lasts around an hour\, and includes the singing of hymns\, readings from the bible\, a reflection on the readings\, and led prayers.  Once a month we also share in bread and wine (communion) to which everyone is welcome. \nFollowing the service tea and coffee are served and we take the opportunity to catch up with one another. \n 
URL:https://www.ryedalemethodist.org.uk/event/sunday-worship-leavening/2026-04-26/
LOCATION:Leavening Church\, Malton Road\, Leavening\, North Yorkshire\, YO17 9SW\, United Kingdom
CATEGORIES:Churches,Faith Event,Leavening,Worship
ATTACH;FMTTYPE=image/jpeg:https://www.ryedalemethodist.org.uk/new/wp-content/uploads/2023/10/Leavening.jpg
END:VEVENT
BEGIN:VEVENT
DTSTART;TZID=Europe/London:20260426T160000
DTEND;TZID=Europe/London:20260426T170000
DTSTAMP:20260421T124224
CREATED:20260223T211204Z
LAST-MODIFIED:20260223T212207Z
UID:10008283-1777219200-1777222800@www.ryedalemethodist.org.uk
SUMMARY:Circuit Service to Commission Rev Mel in her new Role - Helmsley 4pm
DESCRIPTION:Ryedale Circuit Service\n4:00pm Helmsley Methodist Church\n \nWe gather at Helmsley Methodist church for a service to give thanks for the ministry of Rev Melanie Burrnside with us\, and commission her in her new role within the Anglican Churches locally.  Worship starts at 4:00pm and will last around an hour.
URL:https://www.ryedalemethodist.org.uk/event/circuit-service-to-commission-rev-mel-in-her-new-role-helmsley-4pm/
LOCATION:Helmsley Methodist Church\, Helmsley Methodist Church\, Ashdale Road\, Helmsley\, North Yorkshire\, YO62 5DD\, United Kingdom
CATEGORIES:Allerston,Churches,Circuit,East-Churches,Ebberston,Faith Event,Helmsley Methodist,Hovingham,Kirkbymoorside,Leavening,Malton Wesley,Norton Bethel,Norton Trinity,Pickering,Rievaulx,Sinnington,Slingsby,Thornton Dale,Worship
ATTACH;FMTTYPE=image/jpeg:https://www.ryedalemethodist.org.uk/new/wp-content/uploads/2026/02/yf5bYU_4_400x400.jpg
END:VEVENT
END:VCALENDAR