BEGIN:VCALENDAR
VERSION:2.0
PRODID:-//Ryedale Methodist Circuit - ECPv6.15.20//NONSGML v1.0//EN
CALSCALE:GREGORIAN
METHOD:PUBLISH
X-ORIGINAL-URL:https://www.ryedalemethodist.org.uk
X-WR-CALDESC:Events for Ryedale Methodist Circuit
REFRESH-INTERVAL;VALUE=DURATION:PT1H
X-Robots-Tag:noindex
X-PUBLISHED-TTL:PT1H
BEGIN:VTIMEZONE
TZID:Europe/London
BEGIN:DAYLIGHT
TZOFFSETFROM:+0000
TZOFFSETTO:+0100
TZNAME:BST
DTSTART:20250330T010000
END:DAYLIGHT
BEGIN:STANDARD
TZOFFSETFROM:+0100
TZOFFSETTO:+0000
TZNAME:GMT
DTSTART:20251026T010000
END:STANDARD
BEGIN:DAYLIGHT
TZOFFSETFROM:+0000
TZOFFSETTO:+0100
TZNAME:BST
DTSTART:20260329T010000
END:DAYLIGHT
BEGIN:STANDARD
TZOFFSETFROM:+0100
TZOFFSETTO:+0000
TZNAME:GMT
DTSTART:20261025T010000
END:STANDARD
BEGIN:DAYLIGHT
TZOFFSETFROM:+0000
TZOFFSETTO:+0100
TZNAME:BST
DTSTART:20270328T010000
END:DAYLIGHT
BEGIN:STANDARD
TZOFFSETFROM:+0100
TZOFFSETTO:+0000
TZNAME:GMT
DTSTART:20271031T010000
END:STANDARD
END:VTIMEZONE
BEGIN:VEVENT
DTSTART;TZID=Europe/London:20260112T100000
DTEND;TZID=Europe/London:20260112T113000
DTSTAMP:20260420T173833
CREATED:20251111T131224Z
LAST-MODIFIED:20260218T162915Z
UID:10000027-1768212000-1768217400@www.ryedalemethodist.org.uk
SUMMARY:Malton Free Fridge
DESCRIPTION:A bit about Malton Community Fridge\n\n\nWe are Helping to Prevent Food Waste\n\n\nWe collect fresh\, safely edible foods like baked goods\, fruit and vegetables from local businesses and re-distribute what would otherwise go to landfill or waste disposal.\n\n\nWe are open Monday\, Wednesday and Saturday from 10am to 11.30am\, though will close early if we run out of produce.\n\n\nAnyone can come to the fridge to get food free of charge\, to provide nourishing meals for themselves and their families.\n\n\nCome and browse our selection of food\, and then join us for a hot drink and conversation.
URL:https://www.ryedalemethodist.org.uk/event/malton-free-fridge/2026-01-12/
LOCATION:Malton Wesley\, Saville St\, Malton\, YO17 7LL\, United Kingdom
CATEGORIES:Churches,Ecochurch,Family Friendly,Free Fridge,Free Fridge Malton,Malton Wesley
ATTACH;FMTTYPE=image/jpeg:https://www.ryedalemethodist.org.uk/new/wp-content/uploads/2025/11/FreeFridgeLandscape.jpg
END:VEVENT
BEGIN:VEVENT
DTSTART;TZID=Europe/London:20260114T100000
DTEND;TZID=Europe/London:20260114T113000
DTSTAMP:20260420T173833
CREATED:20251111T131224Z
LAST-MODIFIED:20260218T162915Z
UID:10000028-1768384800-1768390200@www.ryedalemethodist.org.uk
SUMMARY:Malton Free Fridge
DESCRIPTION:A bit about Malton Community Fridge\n\n\nWe are Helping to Prevent Food Waste\n\n\nWe collect fresh\, safely edible foods like baked goods\, fruit and vegetables from local businesses and re-distribute what would otherwise go to landfill or waste disposal.\n\n\nWe are open Monday\, Wednesday and Saturday from 10am to 11.30am\, though will close early if we run out of produce.\n\n\nAnyone can come to the fridge to get food free of charge\, to provide nourishing meals for themselves and their families.\n\n\nCome and browse our selection of food\, and then join us for a hot drink and conversation.
URL:https://www.ryedalemethodist.org.uk/event/malton-free-fridge/2026-01-14/
LOCATION:Malton Wesley\, Saville St\, Malton\, YO17 7LL\, United Kingdom
CATEGORIES:Churches,Ecochurch,Family Friendly,Free Fridge,Free Fridge Malton,Malton Wesley
ATTACH;FMTTYPE=image/jpeg:https://www.ryedalemethodist.org.uk/new/wp-content/uploads/2025/11/FreeFridgeLandscape.jpg
END:VEVENT
BEGIN:VEVENT
DTSTART;TZID=Europe/London:20260117T100000
DTEND;TZID=Europe/London:20260117T113000
DTSTAMP:20260420T173833
CREATED:20251111T131224Z
LAST-MODIFIED:20260218T162915Z
UID:10000029-1768644000-1768649400@www.ryedalemethodist.org.uk
SUMMARY:Malton Free Fridge
DESCRIPTION:A bit about Malton Community Fridge\n\n\nWe are Helping to Prevent Food Waste\n\n\nWe collect fresh\, safely edible foods like baked goods\, fruit and vegetables from local businesses and re-distribute what would otherwise go to landfill or waste disposal.\n\n\nWe are open Monday\, Wednesday and Saturday from 10am to 11.30am\, though will close early if we run out of produce.\n\n\nAnyone can come to the fridge to get food free of charge\, to provide nourishing meals for themselves and their families.\n\n\nCome and browse our selection of food\, and then join us for a hot drink and conversation.
URL:https://www.ryedalemethodist.org.uk/event/malton-free-fridge/2026-01-17/
LOCATION:Malton Wesley\, Saville St\, Malton\, YO17 7LL\, United Kingdom
CATEGORIES:Churches,Ecochurch,Family Friendly,Free Fridge,Free Fridge Malton,Malton Wesley
ATTACH;FMTTYPE=image/jpeg:https://www.ryedalemethodist.org.uk/new/wp-content/uploads/2025/11/FreeFridgeLandscape.jpg
END:VEVENT
BEGIN:VEVENT
DTSTART;TZID=Europe/London:20260118T110000
DTEND;TZID=Europe/London:20260118T123000
DTSTAMP:20260420T173833
CREATED:20260110T133914Z
LAST-MODIFIED:20260110T141337Z
UID:10003141-1768734000-1768739400@www.ryedalemethodist.org.uk
SUMMARY:CTSR Sunday Worship @ Norton College (United Service for Southern Ryedale)
DESCRIPTION:Join us for a Special  United Service of Christian Unity at Norton College  11:00am\nJoin us for this special service of Christian Unity at Norton College\, led by our local church leaders from Norton\, Malton and Southern Ryedale churches and followed by a bring and share lunch. \n 
URL:https://www.ryedalemethodist.org.uk/event/sunday-worship-norton-trinity-3/
LOCATION:Norton College\, Langton Road\, Norton\, North Yorkshire\, YO17 9PT\, United Kingdom
CATEGORIES:Christians Together,Churches,Faith Event,Malton Wesley,Norton Bethel,Norton Trinity,Worship
ATTACH;FMTTYPE=image/png:https://www.ryedalemethodist.org.uk/new/wp-content/uploads/2026/01/white-CT-logo-with-medium-background-website-image.png
END:VEVENT
END:VCALENDAR