BEGIN:VCALENDAR
VERSION:2.0
PRODID:-//Ryedale Methodist Circuit - ECPv6.15.20//NONSGML v1.0//EN
CALSCALE:GREGORIAN
METHOD:PUBLISH
X-ORIGINAL-URL:https://www.ryedalemethodist.org.uk
X-WR-CALDESC:Events for Ryedale Methodist Circuit
REFRESH-INTERVAL;VALUE=DURATION:PT1H
X-Robots-Tag:noindex
X-PUBLISHED-TTL:PT1H
BEGIN:VTIMEZONE
TZID:Europe/London
BEGIN:DAYLIGHT
TZOFFSETFROM:+0000
TZOFFSETTO:+0100
TZNAME:BST
DTSTART:20250330T010000
END:DAYLIGHT
BEGIN:STANDARD
TZOFFSETFROM:+0100
TZOFFSETTO:+0000
TZNAME:GMT
DTSTART:20251026T010000
END:STANDARD
BEGIN:DAYLIGHT
TZOFFSETFROM:+0000
TZOFFSETTO:+0100
TZNAME:BST
DTSTART:20260329T010000
END:DAYLIGHT
BEGIN:STANDARD
TZOFFSETFROM:+0100
TZOFFSETTO:+0000
TZNAME:GMT
DTSTART:20261025T010000
END:STANDARD
BEGIN:DAYLIGHT
TZOFFSETFROM:+0000
TZOFFSETTO:+0100
TZNAME:BST
DTSTART:20270328T010000
END:DAYLIGHT
BEGIN:STANDARD
TZOFFSETFROM:+0100
TZOFFSETTO:+0000
TZNAME:GMT
DTSTART:20271031T010000
END:STANDARD
END:VTIMEZONE
BEGIN:VEVENT
DTSTART;TZID=Europe/London:20260505T080000
DTEND;TZID=Europe/London:20260505T160000
DTSTAMP:20260421T214730
CREATED:20260416T065637Z
LAST-MODIFIED:20260416T070941Z
UID:10008310-1777968000-1777996800@www.ryedalemethodist.org.uk
SUMMARY:Chapel Kitchen - Cafe @ Malton Wesley
DESCRIPTION:‘Chapel Kitchen’ @ Malton Wesley\nI’m delighted to announced our new Cafe ‘Chapel Kitchen’ is now open at the Wesley Centre in Malton\, Tuesdays-Fridays\, 8:00am-4:00pm  and Saturdays 10:00-11:30am. \nWe have a brand new menu\, with delicious meals prepared on the premises\, cakes and of course Barista coffees and teas.  Do come and check us out. \n  \n 
URL:https://www.ryedalemethodist.org.uk/event/chapel-kitchen-cafe-malton-wesley/2026-05-05/
LOCATION:Malton Wesley\, Saville St\, Malton\, YO17 7LL\, United Kingdom
CATEGORIES:Circuit,Coffee,Food,General,Malton Wesley,Meal,Social
ATTACH;FMTTYPE=image/jpeg:https://www.ryedalemethodist.org.uk/new/wp-content/uploads/2026/04/cup-3426617_1280.jpg
ORGANIZER;CN="Chapel Kitchen - Malton Wesley":MAILTO:admin@maltonwesleycentre.org
END:VEVENT
BEGIN:VEVENT
DTSTART;TZID=Europe/London:20260506T080000
DTEND;TZID=Europe/London:20260506T160000
DTSTAMP:20260421T214730
CREATED:20260416T065637Z
LAST-MODIFIED:20260416T070941Z
UID:10008311-1778054400-1778083200@www.ryedalemethodist.org.uk
SUMMARY:Chapel Kitchen - Cafe @ Malton Wesley
DESCRIPTION:‘Chapel Kitchen’ @ Malton Wesley\nI’m delighted to announced our new Cafe ‘Chapel Kitchen’ is now open at the Wesley Centre in Malton\, Tuesdays-Fridays\, 8:00am-4:00pm  and Saturdays 10:00-11:30am. \nWe have a brand new menu\, with delicious meals prepared on the premises\, cakes and of course Barista coffees and teas.  Do come and check us out. \n  \n 
URL:https://www.ryedalemethodist.org.uk/event/chapel-kitchen-cafe-malton-wesley/2026-05-06/
LOCATION:Malton Wesley\, Saville St\, Malton\, YO17 7LL\, United Kingdom
CATEGORIES:Circuit,Coffee,Food,General,Malton Wesley,Meal,Social
ATTACH;FMTTYPE=image/jpeg:https://www.ryedalemethodist.org.uk/new/wp-content/uploads/2026/04/cup-3426617_1280.jpg
ORGANIZER;CN="Chapel Kitchen - Malton Wesley":MAILTO:admin@maltonwesleycentre.org
END:VEVENT
BEGIN:VEVENT
DTSTART;TZID=Europe/London:20260507T080000
DTEND;TZID=Europe/London:20260507T160000
DTSTAMP:20260421T214730
CREATED:20260416T065637Z
LAST-MODIFIED:20260416T070941Z
UID:10008312-1778140800-1778169600@www.ryedalemethodist.org.uk
SUMMARY:Chapel Kitchen - Cafe @ Malton Wesley
DESCRIPTION:‘Chapel Kitchen’ @ Malton Wesley\nI’m delighted to announced our new Cafe ‘Chapel Kitchen’ is now open at the Wesley Centre in Malton\, Tuesdays-Fridays\, 8:00am-4:00pm  and Saturdays 10:00-11:30am. \nWe have a brand new menu\, with delicious meals prepared on the premises\, cakes and of course Barista coffees and teas.  Do come and check us out. \n  \n 
URL:https://www.ryedalemethodist.org.uk/event/chapel-kitchen-cafe-malton-wesley/2026-05-07/
LOCATION:Malton Wesley\, Saville St\, Malton\, YO17 7LL\, United Kingdom
CATEGORIES:Circuit,Coffee,Food,General,Malton Wesley,Meal,Social
ATTACH;FMTTYPE=image/jpeg:https://www.ryedalemethodist.org.uk/new/wp-content/uploads/2026/04/cup-3426617_1280.jpg
ORGANIZER;CN="Chapel Kitchen - Malton Wesley":MAILTO:admin@maltonwesleycentre.org
END:VEVENT
BEGIN:VEVENT
DTSTART;TZID=Europe/London:20260508T080000
DTEND;TZID=Europe/London:20260508T160000
DTSTAMP:20260421T214730
CREATED:20260416T065637Z
LAST-MODIFIED:20260416T070941Z
UID:10008313-1778227200-1778256000@www.ryedalemethodist.org.uk
SUMMARY:Chapel Kitchen - Cafe @ Malton Wesley
DESCRIPTION:‘Chapel Kitchen’ @ Malton Wesley\nI’m delighted to announced our new Cafe ‘Chapel Kitchen’ is now open at the Wesley Centre in Malton\, Tuesdays-Fridays\, 8:00am-4:00pm  and Saturdays 10:00-11:30am. \nWe have a brand new menu\, with delicious meals prepared on the premises\, cakes and of course Barista coffees and teas.  Do come and check us out. \n  \n 
URL:https://www.ryedalemethodist.org.uk/event/chapel-kitchen-cafe-malton-wesley/2026-05-08/
LOCATION:Malton Wesley\, Saville St\, Malton\, YO17 7LL\, United Kingdom
CATEGORIES:Circuit,Coffee,Food,General,Malton Wesley,Meal,Social
ATTACH;FMTTYPE=image/jpeg:https://www.ryedalemethodist.org.uk/new/wp-content/uploads/2026/04/cup-3426617_1280.jpg
ORGANIZER;CN="Chapel Kitchen - Malton Wesley":MAILTO:admin@maltonwesleycentre.org
END:VEVENT
BEGIN:VEVENT
DTSTART;TZID=Europe/London:20260509T100000
DTEND;TZID=Europe/London:20260509T113000
DTSTAMP:20260421T214730
CREATED:20260416T071115Z
LAST-MODIFIED:20260416T071115Z
UID:10010390-1778320800-1778326200@www.ryedalemethodist.org.uk
SUMMARY:Chapel Kitchen - Cafe @ Malton Wesley (Saturday)
DESCRIPTION:‘Chapel Kitchen’ @ Malton Wesley\nI’m delighted to announced our new Cafe ‘Chapel Kitchen’ is now open at the Wesley Centre in Malton\, Tuesdays-Fridays\, 8:00am-4:00pm  and Saturdays 10:00-11:30am. \nWe have a brand new menu\, with delicious meals prepared on the premises\, cakes and of course Barista coffees and teas.  Do come and check us out. \n  \n 
URL:https://www.ryedalemethodist.org.uk/event/chapel-kitchen-cafe-malton-wesley-saturday/2026-05-09/
LOCATION:Malton Wesley\, Saville St\, Malton\, YO17 7LL\, United Kingdom
CATEGORIES:Circuit,Coffee,Food,General,Malton Wesley,Meal,Social
ATTACH;FMTTYPE=image/jpeg:https://www.ryedalemethodist.org.uk/new/wp-content/uploads/2026/04/cup-3426617_1280.jpg
ORGANIZER;CN="Chapel Kitchen - Malton Wesley":MAILTO:admin@maltonwesleycentre.org
END:VEVENT
BEGIN:VEVENT
DTSTART;TZID=Europe/London:20260510T150000
DTEND;TZID=Europe/London:20260510T180000
DTSTAMP:20260421T214730
CREATED:20260420T120800Z
LAST-MODIFIED:20260420T120802Z
UID:10011328-1778425200-1778436000@www.ryedalemethodist.org.uk
SUMMARY:Sinnington Rogation Sunday Walk
DESCRIPTION:Rogation Sunday Walk\nOn Rogation Sunday it was traditional to walk the\nsurrounds of the village\, praying and seeking blessing on\nthe crops and community. Sinnington Methodists invite\nyou to join us on a gentle 1.5 hour (approx 2 miles)\nguided walk\, with short stops for reflection and\nconversation starters\, around the village\, into the woods\nand back along the river to the chapel for a cream tea.
URL:https://www.ryedalemethodist.org.uk/event/sinnington-rogation-sunday-walk/
LOCATION:Sinnington Methodist\, Church Lane\, Sinnington\, North Yorkshire\, YO62 6SQ\, United Kingdom
CATEGORIES:Churches,Circuit,Faith Event,Family Friendly,General,Rogation,Sinnington,Social,Walk,Wilderness Pilgrims,Worship
ATTACH;FMTTYPE=image/png:https://www.ryedalemethodist.org.uk/new/wp-content/uploads/2026/04/Sinnington-Rogation-Walk-Facebook-Post.png
END:VEVENT
END:VCALENDAR