BEGIN:VCALENDAR
VERSION:2.0
PRODID:-//Ryedale Methodist Circuit - ECPv6.15.18//NONSGML v1.0//EN
CALSCALE:GREGORIAN
METHOD:PUBLISH
X-ORIGINAL-URL:https://www.ryedalemethodist.org.uk
X-WR-CALDESC:Events for Ryedale Methodist Circuit
REFRESH-INTERVAL;VALUE=DURATION:PT1H
X-Robots-Tag:noindex
X-PUBLISHED-TTL:PT1H
BEGIN:VTIMEZONE
TZID:Europe/London
BEGIN:DAYLIGHT
TZOFFSETFROM:+0000
TZOFFSETTO:+0100
TZNAME:BST
DTSTART:20240331T010000
END:DAYLIGHT
BEGIN:STANDARD
TZOFFSETFROM:+0100
TZOFFSETTO:+0000
TZNAME:GMT
DTSTART:20241027T010000
END:STANDARD
BEGIN:DAYLIGHT
TZOFFSETFROM:+0000
TZOFFSETTO:+0100
TZNAME:BST
DTSTART:20250330T010000
END:DAYLIGHT
BEGIN:STANDARD
TZOFFSETFROM:+0100
TZOFFSETTO:+0000
TZNAME:GMT
DTSTART:20251026T010000
END:STANDARD
BEGIN:DAYLIGHT
TZOFFSETFROM:+0000
TZOFFSETTO:+0100
TZNAME:BST
DTSTART:20260329T010000
END:DAYLIGHT
BEGIN:STANDARD
TZOFFSETFROM:+0100
TZOFFSETTO:+0000
TZNAME:GMT
DTSTART:20261025T010000
END:STANDARD
END:VTIMEZONE
BEGIN:VEVENT
DTSTART;TZID=Europe/London:20251222T100000
DTEND;TZID=Europe/London:20251222T113000
DTSTAMP:20260419T204857
CREATED:20251111T131224Z
LAST-MODIFIED:20260218T162915Z
UID:10000019-1766397600-1766403000@www.ryedalemethodist.org.uk
SUMMARY:Malton Free Fridge
DESCRIPTION:A bit about Malton Community Fridge\n\n\nWe are Helping to Prevent Food Waste\n\n\nWe collect fresh\, safely edible foods like baked goods\, fruit and vegetables from local businesses and re-distribute what would otherwise go to landfill or waste disposal.\n\n\nWe are open Monday\, Wednesday and Saturday from 10am to 11.30am\, though will close early if we run out of produce.\n\n\nAnyone can come to the fridge to get food free of charge\, to provide nourishing meals for themselves and their families.\n\n\nCome and browse our selection of food\, and then join us for a hot drink and conversation.
URL:https://www.ryedalemethodist.org.uk/event/malton-free-fridge/2025-12-22/
LOCATION:Malton Wesley\, Saville St\, Malton\, YO17 7LL\, United Kingdom
CATEGORIES:Churches,Ecochurch,Family Friendly,Free Fridge,Free Fridge Malton,Malton Wesley
ATTACH;FMTTYPE=image/jpeg:https://www.ryedalemethodist.org.uk/new/wp-content/uploads/2025/11/FreeFridgeLandscape.jpg
END:VEVENT
BEGIN:VEVENT
DTSTART;TZID=Europe/London:20251222T180000
DTEND;TZID=Europe/London:20251222T193000
DTSTAMP:20260419T204857
CREATED:20251111T121407Z
LAST-MODIFIED:20251219T085952Z
UID:10000001-1766426400-1766431800@www.ryedalemethodist.org.uk
SUMMARY:Christmas with The Chosen: Holy Night
DESCRIPTION:Join us for Warm Mince Pies\, a hot drink\, for a FREE Watch Party of Christmas with the Chosen\n22nd December 6:00pm at Malton Wesley.\nIf you’ve not stumbled across ‘The Chosen’ – it is a Global Box Office Smash\, that you may have never heard of.  It has grossed $140 million worldwide across 55 countries.  The Chosen:Last Supper – Part 1 was the highest-grossing installment of the series\, earning $22 million. \nIts okay to turn up on the night\, but it would help us with catering and logistics\, if you could book a free ticket with Eventbrite here \nEVENBRITE TICKETS LINK \nWhat is it about – the life of Jesus\, and his disciples\, staying pretty close to the bible\, but filling in the gaps with well researched storylines\, beautifully told\, funny\, and emotional to watch.  Even if you arent into religious films you may be captivated by this \nWe are showing a composite of their Christmas stories\, this Christmas at Malton Wesley\, all are welcome to this family friendly taste of Christmas. \nWatch the trailer here… \n \nThey’ve  taken the special episodes The Shepherd and The Messengers from Christmas past and woven them together (wreath-like) with fabulous music and some commentary\, into your Christmas present. Freshly recut and remastered\, the two are now one seamless story about the birth of Jesus—Christmas with The Chosen: Holy Night. \n  \n 
URL:https://www.ryedalemethodist.org.uk/event/christmas-with-the-chosen-holy-night/
LOCATION:Malton Wesley\, Saville St\, Malton\, YO17 7LL\, United Kingdom
CATEGORIES:Churches,Coffee,Faith Event,Family Friendly,Film,Food,General,Malton Wesley,Social
ATTACH;FMTTYPE=image/png:https://www.ryedalemethodist.org.uk/new/wp-content/uploads/2025/11/PressRelease-17-Apr-30-2023-01-14-09-9155-AM-2.png
END:VEVENT
BEGIN:VEVENT
DTSTART;TZID=Europe/London:20251223T093000
DTEND;TZID=Europe/London:20251223T103000
DTSTAMP:20260419T204857
CREATED:20251112T155830Z
LAST-MODIFIED:20251218T155201Z
UID:10003925-1766482200-1766485800@www.ryedalemethodist.org.uk
SUMMARY:Kirkby Community Fridge
DESCRIPTION:A bit about Kirkby Community Fridge\n\n\n\nKirkby Community Fridge aims to reduce the amount of waste food from local businesses going to landfill and instead redistributes it to the local community. Open every Wednesday at Kirkby Methodist church from 9.30 – 10.30\n\n\n\nWe are open Wednesdays from 9:30am to 10:30am.\n\n\n\nThe only rules for people taking food from the fridge is that is not sold on\, and that it is used. \nPlease do come round and see us on one of the mornings we are open and have a coffee with us.
URL:https://www.ryedalemethodist.org.uk/event/kirkby-community-fridge/2025-12-23/
LOCATION:Kirkbymoorside Methodist\, 11 Piercy End\, Kirkbymoorside\, North Yorkshire\, YO62 6DQ\, United Kingdom
CATEGORIES:Churches,Ecochurch,Family Friendly,Food,Free Fridge,Free Fridge Kirkby,General,Kirkbymoorside
ATTACH;FMTTYPE=image/jpeg:https://www.ryedalemethodist.org.uk/new/wp-content/uploads/2025/11/Kirkby-Fridge.jpg
ORGANIZER;CN="Kirkby Community Fridge":MAILTO:kirkbyfridge@gmail.com
END:VEVENT
BEGIN:VEVENT
DTSTART;TZID=Europe/London:20251223T100000
DTEND;TZID=Europe/London:20251223T120000
DTSTAMP:20260419T204857
CREATED:20251111T141223Z
LAST-MODIFIED:20260218T162948Z
UID:10001839-1766484000-1766491200@www.ryedalemethodist.org.uk
SUMMARY:Norton Free Fridge
DESCRIPTION:A bit about Norton Community Fridge\n\n\n\n\nWe would hope that anyone who is struggling financially would take advantage of this free food. Equally if people take food and are in a position to give a donation that is OK too. \nWe have been supported in setting up by Norton Town Council and Yorkshire Housing Association. We have also received charitable donations from The Rotary Club and The Lions Club.  We are not for profit\, any donations go towards our running expenses. We offer tea\, coffee and biscuits to anyone using the fridge\, as well as a warm friendly space. \n\n\n\n\nWe are open Tuesday and Friday from 10am to Noon\, though will close early if we run out of produce.\n\n\n\nThe only rules for people taking food from the fridge is that is not sold on\, and that it is used. \nPlease do come round and see us on one of the mornings we are open and have a coffee with us.
URL:https://www.ryedalemethodist.org.uk/event/norton-free-fridge/2025-12-23/
LOCATION:Salvation Army Norton\, 40 Wood Street\, Norton\, North Yorkshire\, YO17 9BA\, United Kingdom
CATEGORIES:Ecochurch,Family Friendly,Free Fridge,Free Fridge Norton,General
ATTACH;FMTTYPE=image/jpeg:https://www.ryedalemethodist.org.uk/new/wp-content/uploads/2025/11/NortonFreeFridge.jpg
ORGANIZER;CN="Norton Free Fridge":MAILTO:info@nortonfreefridge.co.uk
END:VEVENT
BEGIN:VEVENT
DTSTART;TZID=Europe/London:20251225T100000
DTEND;TZID=Europe/London:20251225T110000
DTSTAMP:20260419T204857
CREATED:20251217T093513Z
LAST-MODIFIED:20251217T093513Z
UID:10004435-1766656800-1766660400@www.ryedalemethodist.org.uk
SUMMARY:Christmas Day Service for Norton & Malton
DESCRIPTION:Join us to Celebrate Christmas morning\, as Malton and Norton folks join together at Norton Trinity Methodist church for worship. \nThe service starts at 10am and will last under an hour.  Do wear your Christmas jumpers\, and if you want to show us what Santa brought\, there will be an opportunity to give thanks.
URL:https://www.ryedalemethodist.org.uk/event/christmas-day-service-for-norton-malton/
LOCATION:Norton Trinity Methodist\, Plum Street\, Norton\, North Yorkshire\, YO17 9JA\, United Kingdom
CATEGORIES:Churches,Faith Event,Family Friendly,Malton Wesley,Norton Trinity,Worship
ATTACH;FMTTYPE=image/jpeg:https://www.ryedalemethodist.org.uk/new/wp-content/uploads/2025/12/fourth-advent-4721117_1280.jpg
END:VEVENT
BEGIN:VEVENT
DTSTART;TZID=Europe/London:20251226T100000
DTEND;TZID=Europe/London:20251226T120000
DTSTAMP:20260419T204857
CREATED:20251111T141223Z
LAST-MODIFIED:20260218T162948Z
UID:10001840-1766743200-1766750400@www.ryedalemethodist.org.uk
SUMMARY:Norton Free Fridge
DESCRIPTION:A bit about Norton Community Fridge\n\n\n\n\nWe would hope that anyone who is struggling financially would take advantage of this free food. Equally if people take food and are in a position to give a donation that is OK too. \nWe have been supported in setting up by Norton Town Council and Yorkshire Housing Association. We have also received charitable donations from The Rotary Club and The Lions Club.  We are not for profit\, any donations go towards our running expenses. We offer tea\, coffee and biscuits to anyone using the fridge\, as well as a warm friendly space. \n\n\n\n\nWe are open Tuesday and Friday from 10am to Noon\, though will close early if we run out of produce.\n\n\n\nThe only rules for people taking food from the fridge is that is not sold on\, and that it is used. \nPlease do come round and see us on one of the mornings we are open and have a coffee with us.
URL:https://www.ryedalemethodist.org.uk/event/norton-free-fridge/2025-12-26/
LOCATION:Salvation Army Norton\, 40 Wood Street\, Norton\, North Yorkshire\, YO17 9BA\, United Kingdom
CATEGORIES:Ecochurch,Family Friendly,Free Fridge,Free Fridge Norton,General
ATTACH;FMTTYPE=image/jpeg:https://www.ryedalemethodist.org.uk/new/wp-content/uploads/2025/11/NortonFreeFridge.jpg
ORGANIZER;CN="Norton Free Fridge":MAILTO:info@nortonfreefridge.co.uk
END:VEVENT
BEGIN:VEVENT
DTSTART;TZID=Europe/London:20251227T100000
DTEND;TZID=Europe/London:20251227T113000
DTSTAMP:20260419T204857
CREATED:20251111T131224Z
LAST-MODIFIED:20260218T162915Z
UID:10000020-1766829600-1766835000@www.ryedalemethodist.org.uk
SUMMARY:Malton Free Fridge
DESCRIPTION:A bit about Malton Community Fridge\n\n\nWe are Helping to Prevent Food Waste\n\n\nWe collect fresh\, safely edible foods like baked goods\, fruit and vegetables from local businesses and re-distribute what would otherwise go to landfill or waste disposal.\n\n\nWe are open Monday\, Wednesday and Saturday from 10am to 11.30am\, though will close early if we run out of produce.\n\n\nAnyone can come to the fridge to get food free of charge\, to provide nourishing meals for themselves and their families.\n\n\nCome and browse our selection of food\, and then join us for a hot drink and conversation.
URL:https://www.ryedalemethodist.org.uk/event/malton-free-fridge/2025-12-27/
LOCATION:Malton Wesley\, Saville St\, Malton\, YO17 7LL\, United Kingdom
CATEGORIES:Churches,Ecochurch,Family Friendly,Free Fridge,Free Fridge Malton,Malton Wesley
ATTACH;FMTTYPE=image/jpeg:https://www.ryedalemethodist.org.uk/new/wp-content/uploads/2025/11/FreeFridgeLandscape.jpg
END:VEVENT
END:VCALENDAR