BEGIN:VCALENDAR
VERSION:2.0
PRODID:-//Ryedale Methodist Circuit - ECPv6.15.20//NONSGML v1.0//EN
CALSCALE:GREGORIAN
METHOD:PUBLISH
X-ORIGINAL-URL:https://www.ryedalemethodist.org.uk
X-WR-CALDESC:Events for Ryedale Methodist Circuit
REFRESH-INTERVAL;VALUE=DURATION:PT1H
X-Robots-Tag:noindex
X-PUBLISHED-TTL:PT1H
BEGIN:VTIMEZONE
TZID:Europe/London
BEGIN:DAYLIGHT
TZOFFSETFROM:+0000
TZOFFSETTO:+0100
TZNAME:BST
DTSTART:20270328T010000
END:DAYLIGHT
BEGIN:STANDARD
TZOFFSETFROM:+0100
TZOFFSETTO:+0000
TZNAME:GMT
DTSTART:20271031T010000
END:STANDARD
BEGIN:DAYLIGHT
TZOFFSETFROM:+0000
TZOFFSETTO:+0100
TZNAME:BST
DTSTART:20280326T010000
END:DAYLIGHT
BEGIN:STANDARD
TZOFFSETFROM:+0100
TZOFFSETTO:+0000
TZNAME:GMT
DTSTART:20281029T010000
END:STANDARD
BEGIN:DAYLIGHT
TZOFFSETFROM:+0000
TZOFFSETTO:+0100
TZNAME:BST
DTSTART:20290325T010000
END:DAYLIGHT
BEGIN:STANDARD
TZOFFSETFROM:+0100
TZOFFSETTO:+0000
TZNAME:GMT
DTSTART:20291028T010000
END:STANDARD
BEGIN:DAYLIGHT
TZOFFSETFROM:+0000
TZOFFSETTO:+0100
TZNAME:BST
DTSTART:20300331T010000
END:DAYLIGHT
BEGIN:STANDARD
TZOFFSETFROM:+0100
TZOFFSETTO:+0000
TZNAME:GMT
DTSTART:20301027T010000
END:STANDARD
END:VTIMEZONE
BEGIN:VEVENT
DTSTART;TZID=Europe/London:20280815T100000
DTEND;TZID=Europe/London:20280815T113000
DTSTAMP:20260421T153321
CREATED:20251218T154455Z
LAST-MODIFIED:20251218T154455Z
UID:10007418-1849946400-1849951800@www.ryedalemethodist.org.uk
SUMMARY:Oasis Coffee @ Kirkbymoorside
DESCRIPTION:Oasis Coffee Morning\nJoin us on Tuesday mornings from 10-11:30am for our Oasis coffee mornings.  All are welcome to drop in for a coffee\, a chat or simply a quiet space.
URL:https://www.ryedalemethodist.org.uk/event/oasis-coffee-kirkbymoorside/2028-08-15/
LOCATION:Kirkbymoorside Methodist\, 11 Piercy End\, Kirkbymoorside\, North Yorkshire\, YO62 6DQ\, United Kingdom
CATEGORIES:Churches,Coffee,Food,General,Kirkbymoorside,Social
ATTACH;FMTTYPE=image/jpeg:https://www.ryedalemethodist.org.uk/new/wp-content/uploads/2025/12/cup-3426617_1280.jpg
ORGANIZER;CN="Graham Ransom":MAILTO:graham.ransom@methodist.org.uk
END:VEVENT
BEGIN:VEVENT
DTSTART;TZID=Europe/London:20280822T100000
DTEND;TZID=Europe/London:20280822T113000
DTSTAMP:20260421T153321
CREATED:20251218T154455Z
LAST-MODIFIED:20251218T154455Z
UID:10007419-1850551200-1850556600@www.ryedalemethodist.org.uk
SUMMARY:Oasis Coffee @ Kirkbymoorside
DESCRIPTION:Oasis Coffee Morning\nJoin us on Tuesday mornings from 10-11:30am for our Oasis coffee mornings.  All are welcome to drop in for a coffee\, a chat or simply a quiet space.
URL:https://www.ryedalemethodist.org.uk/event/oasis-coffee-kirkbymoorside/2028-08-22/
LOCATION:Kirkbymoorside Methodist\, 11 Piercy End\, Kirkbymoorside\, North Yorkshire\, YO62 6DQ\, United Kingdom
CATEGORIES:Churches,Coffee,Food,General,Kirkbymoorside,Social
ATTACH;FMTTYPE=image/jpeg:https://www.ryedalemethodist.org.uk/new/wp-content/uploads/2025/12/cup-3426617_1280.jpg
ORGANIZER;CN="Graham Ransom":MAILTO:graham.ransom@methodist.org.uk
END:VEVENT
BEGIN:VEVENT
DTSTART;TZID=Europe/London:20280829T100000
DTEND;TZID=Europe/London:20280829T113000
DTSTAMP:20260421T153321
CREATED:20251218T154455Z
LAST-MODIFIED:20251218T154455Z
UID:10007420-1851156000-1851161400@www.ryedalemethodist.org.uk
SUMMARY:Oasis Coffee @ Kirkbymoorside
DESCRIPTION:Oasis Coffee Morning\nJoin us on Tuesday mornings from 10-11:30am for our Oasis coffee mornings.  All are welcome to drop in for a coffee\, a chat or simply a quiet space.
URL:https://www.ryedalemethodist.org.uk/event/oasis-coffee-kirkbymoorside/2028-08-29/
LOCATION:Kirkbymoorside Methodist\, 11 Piercy End\, Kirkbymoorside\, North Yorkshire\, YO62 6DQ\, United Kingdom
CATEGORIES:Churches,Coffee,Food,General,Kirkbymoorside,Social
ATTACH;FMTTYPE=image/jpeg:https://www.ryedalemethodist.org.uk/new/wp-content/uploads/2025/12/cup-3426617_1280.jpg
ORGANIZER;CN="Graham Ransom":MAILTO:graham.ransom@methodist.org.uk
END:VEVENT
BEGIN:VEVENT
DTSTART;TZID=Europe/London:20280905T100000
DTEND;TZID=Europe/London:20280905T113000
DTSTAMP:20260421T153321
CREATED:20251218T154455Z
LAST-MODIFIED:20251218T154455Z
UID:10007421-1851760800-1851766200@www.ryedalemethodist.org.uk
SUMMARY:Oasis Coffee @ Kirkbymoorside
DESCRIPTION:Oasis Coffee Morning\nJoin us on Tuesday mornings from 10-11:30am for our Oasis coffee mornings.  All are welcome to drop in for a coffee\, a chat or simply a quiet space.
URL:https://www.ryedalemethodist.org.uk/event/oasis-coffee-kirkbymoorside/2028-09-05/
LOCATION:Kirkbymoorside Methodist\, 11 Piercy End\, Kirkbymoorside\, North Yorkshire\, YO62 6DQ\, United Kingdom
CATEGORIES:Churches,Coffee,Food,General,Kirkbymoorside,Social
ATTACH;FMTTYPE=image/jpeg:https://www.ryedalemethodist.org.uk/new/wp-content/uploads/2025/12/cup-3426617_1280.jpg
ORGANIZER;CN="Graham Ransom":MAILTO:graham.ransom@methodist.org.uk
END:VEVENT
BEGIN:VEVENT
DTSTART;TZID=Europe/London:20280912T100000
DTEND;TZID=Europe/London:20280912T113000
DTSTAMP:20260421T153321
CREATED:20251218T154455Z
LAST-MODIFIED:20251218T154455Z
UID:10007422-1852365600-1852371000@www.ryedalemethodist.org.uk
SUMMARY:Oasis Coffee @ Kirkbymoorside
DESCRIPTION:Oasis Coffee Morning\nJoin us on Tuesday mornings from 10-11:30am for our Oasis coffee mornings.  All are welcome to drop in for a coffee\, a chat or simply a quiet space.
URL:https://www.ryedalemethodist.org.uk/event/oasis-coffee-kirkbymoorside/2028-09-12/
LOCATION:Kirkbymoorside Methodist\, 11 Piercy End\, Kirkbymoorside\, North Yorkshire\, YO62 6DQ\, United Kingdom
CATEGORIES:Churches,Coffee,Food,General,Kirkbymoorside,Social
ATTACH;FMTTYPE=image/jpeg:https://www.ryedalemethodist.org.uk/new/wp-content/uploads/2025/12/cup-3426617_1280.jpg
ORGANIZER;CN="Graham Ransom":MAILTO:graham.ransom@methodist.org.uk
END:VEVENT
BEGIN:VEVENT
DTSTART;TZID=Europe/London:20280919T100000
DTEND;TZID=Europe/London:20280919T113000
DTSTAMP:20260421T153321
CREATED:20251218T154455Z
LAST-MODIFIED:20251218T154455Z
UID:10007423-1852970400-1852975800@www.ryedalemethodist.org.uk
SUMMARY:Oasis Coffee @ Kirkbymoorside
DESCRIPTION:Oasis Coffee Morning\nJoin us on Tuesday mornings from 10-11:30am for our Oasis coffee mornings.  All are welcome to drop in for a coffee\, a chat or simply a quiet space.
URL:https://www.ryedalemethodist.org.uk/event/oasis-coffee-kirkbymoorside/2028-09-19/
LOCATION:Kirkbymoorside Methodist\, 11 Piercy End\, Kirkbymoorside\, North Yorkshire\, YO62 6DQ\, United Kingdom
CATEGORIES:Churches,Coffee,Food,General,Kirkbymoorside,Social
ATTACH;FMTTYPE=image/jpeg:https://www.ryedalemethodist.org.uk/new/wp-content/uploads/2025/12/cup-3426617_1280.jpg
ORGANIZER;CN="Graham Ransom":MAILTO:graham.ransom@methodist.org.uk
END:VEVENT
BEGIN:VEVENT
DTSTART;TZID=Europe/London:20280926T100000
DTEND;TZID=Europe/London:20280926T113000
DTSTAMP:20260421T153321
CREATED:20251218T154455Z
LAST-MODIFIED:20251218T154455Z
UID:10007424-1853575200-1853580600@www.ryedalemethodist.org.uk
SUMMARY:Oasis Coffee @ Kirkbymoorside
DESCRIPTION:Oasis Coffee Morning\nJoin us on Tuesday mornings from 10-11:30am for our Oasis coffee mornings.  All are welcome to drop in for a coffee\, a chat or simply a quiet space.
URL:https://www.ryedalemethodist.org.uk/event/oasis-coffee-kirkbymoorside/2028-09-26/
LOCATION:Kirkbymoorside Methodist\, 11 Piercy End\, Kirkbymoorside\, North Yorkshire\, YO62 6DQ\, United Kingdom
CATEGORIES:Churches,Coffee,Food,General,Kirkbymoorside,Social
ATTACH;FMTTYPE=image/jpeg:https://www.ryedalemethodist.org.uk/new/wp-content/uploads/2025/12/cup-3426617_1280.jpg
ORGANIZER;CN="Graham Ransom":MAILTO:graham.ransom@methodist.org.uk
END:VEVENT
BEGIN:VEVENT
DTSTART;TZID=Europe/London:20281003T100000
DTEND;TZID=Europe/London:20281003T113000
DTSTAMP:20260421T153321
CREATED:20251218T154455Z
LAST-MODIFIED:20251218T154455Z
UID:10007425-1854180000-1854185400@www.ryedalemethodist.org.uk
SUMMARY:Oasis Coffee @ Kirkbymoorside
DESCRIPTION:Oasis Coffee Morning\nJoin us on Tuesday mornings from 10-11:30am for our Oasis coffee mornings.  All are welcome to drop in for a coffee\, a chat or simply a quiet space.
URL:https://www.ryedalemethodist.org.uk/event/oasis-coffee-kirkbymoorside/2028-10-03/
LOCATION:Kirkbymoorside Methodist\, 11 Piercy End\, Kirkbymoorside\, North Yorkshire\, YO62 6DQ\, United Kingdom
CATEGORIES:Churches,Coffee,Food,General,Kirkbymoorside,Social
ATTACH;FMTTYPE=image/jpeg:https://www.ryedalemethodist.org.uk/new/wp-content/uploads/2025/12/cup-3426617_1280.jpg
ORGANIZER;CN="Graham Ransom":MAILTO:graham.ransom@methodist.org.uk
END:VEVENT
BEGIN:VEVENT
DTSTART;TZID=Europe/London:20281010T100000
DTEND;TZID=Europe/London:20281010T113000
DTSTAMP:20260421T153321
CREATED:20251218T154455Z
LAST-MODIFIED:20251218T154455Z
UID:10007426-1854784800-1854790200@www.ryedalemethodist.org.uk
SUMMARY:Oasis Coffee @ Kirkbymoorside
DESCRIPTION:Oasis Coffee Morning\nJoin us on Tuesday mornings from 10-11:30am for our Oasis coffee mornings.  All are welcome to drop in for a coffee\, a chat or simply a quiet space.
URL:https://www.ryedalemethodist.org.uk/event/oasis-coffee-kirkbymoorside/2028-10-10/
LOCATION:Kirkbymoorside Methodist\, 11 Piercy End\, Kirkbymoorside\, North Yorkshire\, YO62 6DQ\, United Kingdom
CATEGORIES:Churches,Coffee,Food,General,Kirkbymoorside,Social
ATTACH;FMTTYPE=image/jpeg:https://www.ryedalemethodist.org.uk/new/wp-content/uploads/2025/12/cup-3426617_1280.jpg
ORGANIZER;CN="Graham Ransom":MAILTO:graham.ransom@methodist.org.uk
END:VEVENT
BEGIN:VEVENT
DTSTART;TZID=Europe/London:20281017T100000
DTEND;TZID=Europe/London:20281017T113000
DTSTAMP:20260421T153321
CREATED:20251218T154455Z
LAST-MODIFIED:20251218T154455Z
UID:10007427-1855389600-1855395000@www.ryedalemethodist.org.uk
SUMMARY:Oasis Coffee @ Kirkbymoorside
DESCRIPTION:Oasis Coffee Morning\nJoin us on Tuesday mornings from 10-11:30am for our Oasis coffee mornings.  All are welcome to drop in for a coffee\, a chat or simply a quiet space.
URL:https://www.ryedalemethodist.org.uk/event/oasis-coffee-kirkbymoorside/2028-10-17/
LOCATION:Kirkbymoorside Methodist\, 11 Piercy End\, Kirkbymoorside\, North Yorkshire\, YO62 6DQ\, United Kingdom
CATEGORIES:Churches,Coffee,Food,General,Kirkbymoorside,Social
ATTACH;FMTTYPE=image/jpeg:https://www.ryedalemethodist.org.uk/new/wp-content/uploads/2025/12/cup-3426617_1280.jpg
ORGANIZER;CN="Graham Ransom":MAILTO:graham.ransom@methodist.org.uk
END:VEVENT
BEGIN:VEVENT
DTSTART;TZID=Europe/London:20281024T100000
DTEND;TZID=Europe/London:20281024T113000
DTSTAMP:20260421T153321
CREATED:20251218T154455Z
LAST-MODIFIED:20251218T154455Z
UID:10007428-1855994400-1855999800@www.ryedalemethodist.org.uk
SUMMARY:Oasis Coffee @ Kirkbymoorside
DESCRIPTION:Oasis Coffee Morning\nJoin us on Tuesday mornings from 10-11:30am for our Oasis coffee mornings.  All are welcome to drop in for a coffee\, a chat or simply a quiet space.
URL:https://www.ryedalemethodist.org.uk/event/oasis-coffee-kirkbymoorside/2028-10-24/
LOCATION:Kirkbymoorside Methodist\, 11 Piercy End\, Kirkbymoorside\, North Yorkshire\, YO62 6DQ\, United Kingdom
CATEGORIES:Churches,Coffee,Food,General,Kirkbymoorside,Social
ATTACH;FMTTYPE=image/jpeg:https://www.ryedalemethodist.org.uk/new/wp-content/uploads/2025/12/cup-3426617_1280.jpg
ORGANIZER;CN="Graham Ransom":MAILTO:graham.ransom@methodist.org.uk
END:VEVENT
BEGIN:VEVENT
DTSTART;TZID=Europe/London:20281031T100000
DTEND;TZID=Europe/London:20281031T113000
DTSTAMP:20260421T153321
CREATED:20251218T154455Z
LAST-MODIFIED:20251218T154455Z
UID:10007429-1856599200-1856604600@www.ryedalemethodist.org.uk
SUMMARY:Oasis Coffee @ Kirkbymoorside
DESCRIPTION:Oasis Coffee Morning\nJoin us on Tuesday mornings from 10-11:30am for our Oasis coffee mornings.  All are welcome to drop in for a coffee\, a chat or simply a quiet space.
URL:https://www.ryedalemethodist.org.uk/event/oasis-coffee-kirkbymoorside/2028-10-31/
LOCATION:Kirkbymoorside Methodist\, 11 Piercy End\, Kirkbymoorside\, North Yorkshire\, YO62 6DQ\, United Kingdom
CATEGORIES:Churches,Coffee,Food,General,Kirkbymoorside,Social
ATTACH;FMTTYPE=image/jpeg:https://www.ryedalemethodist.org.uk/new/wp-content/uploads/2025/12/cup-3426617_1280.jpg
ORGANIZER;CN="Graham Ransom":MAILTO:graham.ransom@methodist.org.uk
END:VEVENT
BEGIN:VEVENT
DTSTART;TZID=Europe/London:20281107T100000
DTEND;TZID=Europe/London:20281107T113000
DTSTAMP:20260421T153321
CREATED:20251218T154455Z
LAST-MODIFIED:20251218T154455Z
UID:10007430-1857204000-1857209400@www.ryedalemethodist.org.uk
SUMMARY:Oasis Coffee @ Kirkbymoorside
DESCRIPTION:Oasis Coffee Morning\nJoin us on Tuesday mornings from 10-11:30am for our Oasis coffee mornings.  All are welcome to drop in for a coffee\, a chat or simply a quiet space.
URL:https://www.ryedalemethodist.org.uk/event/oasis-coffee-kirkbymoorside/2028-11-07/
LOCATION:Kirkbymoorside Methodist\, 11 Piercy End\, Kirkbymoorside\, North Yorkshire\, YO62 6DQ\, United Kingdom
CATEGORIES:Churches,Coffee,Food,General,Kirkbymoorside,Social
ATTACH;FMTTYPE=image/jpeg:https://www.ryedalemethodist.org.uk/new/wp-content/uploads/2025/12/cup-3426617_1280.jpg
ORGANIZER;CN="Graham Ransom":MAILTO:graham.ransom@methodist.org.uk
END:VEVENT
BEGIN:VEVENT
DTSTART;TZID=Europe/London:20281114T100000
DTEND;TZID=Europe/London:20281114T113000
DTSTAMP:20260421T153321
CREATED:20251218T154455Z
LAST-MODIFIED:20251218T154455Z
UID:10007431-1857808800-1857814200@www.ryedalemethodist.org.uk
SUMMARY:Oasis Coffee @ Kirkbymoorside
DESCRIPTION:Oasis Coffee Morning\nJoin us on Tuesday mornings from 10-11:30am for our Oasis coffee mornings.  All are welcome to drop in for a coffee\, a chat or simply a quiet space.
URL:https://www.ryedalemethodist.org.uk/event/oasis-coffee-kirkbymoorside/2028-11-14/
LOCATION:Kirkbymoorside Methodist\, 11 Piercy End\, Kirkbymoorside\, North Yorkshire\, YO62 6DQ\, United Kingdom
CATEGORIES:Churches,Coffee,Food,General,Kirkbymoorside,Social
ATTACH;FMTTYPE=image/jpeg:https://www.ryedalemethodist.org.uk/new/wp-content/uploads/2025/12/cup-3426617_1280.jpg
ORGANIZER;CN="Graham Ransom":MAILTO:graham.ransom@methodist.org.uk
END:VEVENT
BEGIN:VEVENT
DTSTART;TZID=Europe/London:20281121T100000
DTEND;TZID=Europe/London:20281121T113000
DTSTAMP:20260421T153321
CREATED:20251218T154455Z
LAST-MODIFIED:20251218T154455Z
UID:10007432-1858413600-1858419000@www.ryedalemethodist.org.uk
SUMMARY:Oasis Coffee @ Kirkbymoorside
DESCRIPTION:Oasis Coffee Morning\nJoin us on Tuesday mornings from 10-11:30am for our Oasis coffee mornings.  All are welcome to drop in for a coffee\, a chat or simply a quiet space.
URL:https://www.ryedalemethodist.org.uk/event/oasis-coffee-kirkbymoorside/2028-11-21/
LOCATION:Kirkbymoorside Methodist\, 11 Piercy End\, Kirkbymoorside\, North Yorkshire\, YO62 6DQ\, United Kingdom
CATEGORIES:Churches,Coffee,Food,General,Kirkbymoorside,Social
ATTACH;FMTTYPE=image/jpeg:https://www.ryedalemethodist.org.uk/new/wp-content/uploads/2025/12/cup-3426617_1280.jpg
ORGANIZER;CN="Graham Ransom":MAILTO:graham.ransom@methodist.org.uk
END:VEVENT
BEGIN:VEVENT
DTSTART;TZID=Europe/London:20281128T100000
DTEND;TZID=Europe/London:20281128T113000
DTSTAMP:20260421T153321
CREATED:20251218T154455Z
LAST-MODIFIED:20251218T154455Z
UID:10007433-1859018400-1859023800@www.ryedalemethodist.org.uk
SUMMARY:Oasis Coffee @ Kirkbymoorside
DESCRIPTION:Oasis Coffee Morning\nJoin us on Tuesday mornings from 10-11:30am for our Oasis coffee mornings.  All are welcome to drop in for a coffee\, a chat or simply a quiet space.
URL:https://www.ryedalemethodist.org.uk/event/oasis-coffee-kirkbymoorside/2028-11-28/
LOCATION:Kirkbymoorside Methodist\, 11 Piercy End\, Kirkbymoorside\, North Yorkshire\, YO62 6DQ\, United Kingdom
CATEGORIES:Churches,Coffee,Food,General,Kirkbymoorside,Social
ATTACH;FMTTYPE=image/jpeg:https://www.ryedalemethodist.org.uk/new/wp-content/uploads/2025/12/cup-3426617_1280.jpg
ORGANIZER;CN="Graham Ransom":MAILTO:graham.ransom@methodist.org.uk
END:VEVENT
BEGIN:VEVENT
DTSTART;TZID=Europe/London:20281205T100000
DTEND;TZID=Europe/London:20281205T113000
DTSTAMP:20260421T153321
CREATED:20251218T154455Z
LAST-MODIFIED:20251218T154455Z
UID:10007434-1859623200-1859628600@www.ryedalemethodist.org.uk
SUMMARY:Oasis Coffee @ Kirkbymoorside
DESCRIPTION:Oasis Coffee Morning\nJoin us on Tuesday mornings from 10-11:30am for our Oasis coffee mornings.  All are welcome to drop in for a coffee\, a chat or simply a quiet space.
URL:https://www.ryedalemethodist.org.uk/event/oasis-coffee-kirkbymoorside/2028-12-05/
LOCATION:Kirkbymoorside Methodist\, 11 Piercy End\, Kirkbymoorside\, North Yorkshire\, YO62 6DQ\, United Kingdom
CATEGORIES:Churches,Coffee,Food,General,Kirkbymoorside,Social
ATTACH;FMTTYPE=image/jpeg:https://www.ryedalemethodist.org.uk/new/wp-content/uploads/2025/12/cup-3426617_1280.jpg
ORGANIZER;CN="Graham Ransom":MAILTO:graham.ransom@methodist.org.uk
END:VEVENT
BEGIN:VEVENT
DTSTART;TZID=Europe/London:20281212T100000
DTEND;TZID=Europe/London:20281212T113000
DTSTAMP:20260421T153321
CREATED:20251218T154455Z
LAST-MODIFIED:20251218T154455Z
UID:10007435-1860228000-1860233400@www.ryedalemethodist.org.uk
SUMMARY:Oasis Coffee @ Kirkbymoorside
DESCRIPTION:Oasis Coffee Morning\nJoin us on Tuesday mornings from 10-11:30am for our Oasis coffee mornings.  All are welcome to drop in for a coffee\, a chat or simply a quiet space.
URL:https://www.ryedalemethodist.org.uk/event/oasis-coffee-kirkbymoorside/2028-12-12/
LOCATION:Kirkbymoorside Methodist\, 11 Piercy End\, Kirkbymoorside\, North Yorkshire\, YO62 6DQ\, United Kingdom
CATEGORIES:Churches,Coffee,Food,General,Kirkbymoorside,Social
ATTACH;FMTTYPE=image/jpeg:https://www.ryedalemethodist.org.uk/new/wp-content/uploads/2025/12/cup-3426617_1280.jpg
ORGANIZER;CN="Graham Ransom":MAILTO:graham.ransom@methodist.org.uk
END:VEVENT
BEGIN:VEVENT
DTSTART;TZID=Europe/London:20281219T100000
DTEND;TZID=Europe/London:20281219T113000
DTSTAMP:20260421T153321
CREATED:20251218T154455Z
LAST-MODIFIED:20251218T154455Z
UID:10007436-1860832800-1860838200@www.ryedalemethodist.org.uk
SUMMARY:Oasis Coffee @ Kirkbymoorside
DESCRIPTION:Oasis Coffee Morning\nJoin us on Tuesday mornings from 10-11:30am for our Oasis coffee mornings.  All are welcome to drop in for a coffee\, a chat or simply a quiet space.
URL:https://www.ryedalemethodist.org.uk/event/oasis-coffee-kirkbymoorside/2028-12-19/
LOCATION:Kirkbymoorside Methodist\, 11 Piercy End\, Kirkbymoorside\, North Yorkshire\, YO62 6DQ\, United Kingdom
CATEGORIES:Churches,Coffee,Food,General,Kirkbymoorside,Social
ATTACH;FMTTYPE=image/jpeg:https://www.ryedalemethodist.org.uk/new/wp-content/uploads/2025/12/cup-3426617_1280.jpg
ORGANIZER;CN="Graham Ransom":MAILTO:graham.ransom@methodist.org.uk
END:VEVENT
BEGIN:VEVENT
DTSTART;TZID=Europe/London:20281226T100000
DTEND;TZID=Europe/London:20281226T113000
DTSTAMP:20260421T153321
CREATED:20251218T154455Z
LAST-MODIFIED:20251218T154455Z
UID:10007437-1861437600-1861443000@www.ryedalemethodist.org.uk
SUMMARY:Oasis Coffee @ Kirkbymoorside
DESCRIPTION:Oasis Coffee Morning\nJoin us on Tuesday mornings from 10-11:30am for our Oasis coffee mornings.  All are welcome to drop in for a coffee\, a chat or simply a quiet space.
URL:https://www.ryedalemethodist.org.uk/event/oasis-coffee-kirkbymoorside/2028-12-26/
LOCATION:Kirkbymoorside Methodist\, 11 Piercy End\, Kirkbymoorside\, North Yorkshire\, YO62 6DQ\, United Kingdom
CATEGORIES:Churches,Coffee,Food,General,Kirkbymoorside,Social
ATTACH;FMTTYPE=image/jpeg:https://www.ryedalemethodist.org.uk/new/wp-content/uploads/2025/12/cup-3426617_1280.jpg
ORGANIZER;CN="Graham Ransom":MAILTO:graham.ransom@methodist.org.uk
END:VEVENT
BEGIN:VEVENT
DTSTART;TZID=Europe/London:20290102T100000
DTEND;TZID=Europe/London:20290102T113000
DTSTAMP:20260421T153321
CREATED:20251218T154455Z
LAST-MODIFIED:20251218T154455Z
UID:10007438-1862042400-1862047800@www.ryedalemethodist.org.uk
SUMMARY:Oasis Coffee @ Kirkbymoorside
DESCRIPTION:Oasis Coffee Morning\nJoin us on Tuesday mornings from 10-11:30am for our Oasis coffee mornings.  All are welcome to drop in for a coffee\, a chat or simply a quiet space.
URL:https://www.ryedalemethodist.org.uk/event/oasis-coffee-kirkbymoorside/2029-01-02/
LOCATION:Kirkbymoorside Methodist\, 11 Piercy End\, Kirkbymoorside\, North Yorkshire\, YO62 6DQ\, United Kingdom
CATEGORIES:Churches,Coffee,Food,General,Kirkbymoorside,Social
ATTACH;FMTTYPE=image/jpeg:https://www.ryedalemethodist.org.uk/new/wp-content/uploads/2025/12/cup-3426617_1280.jpg
ORGANIZER;CN="Graham Ransom":MAILTO:graham.ransom@methodist.org.uk
END:VEVENT
BEGIN:VEVENT
DTSTART;TZID=Europe/London:20290109T100000
DTEND;TZID=Europe/London:20290109T113000
DTSTAMP:20260421T153321
CREATED:20251218T154455Z
LAST-MODIFIED:20251218T154455Z
UID:10007439-1862647200-1862652600@www.ryedalemethodist.org.uk
SUMMARY:Oasis Coffee @ Kirkbymoorside
DESCRIPTION:Oasis Coffee Morning\nJoin us on Tuesday mornings from 10-11:30am for our Oasis coffee mornings.  All are welcome to drop in for a coffee\, a chat or simply a quiet space.
URL:https://www.ryedalemethodist.org.uk/event/oasis-coffee-kirkbymoorside/2029-01-09/
LOCATION:Kirkbymoorside Methodist\, 11 Piercy End\, Kirkbymoorside\, North Yorkshire\, YO62 6DQ\, United Kingdom
CATEGORIES:Churches,Coffee,Food,General,Kirkbymoorside,Social
ATTACH;FMTTYPE=image/jpeg:https://www.ryedalemethodist.org.uk/new/wp-content/uploads/2025/12/cup-3426617_1280.jpg
ORGANIZER;CN="Graham Ransom":MAILTO:graham.ransom@methodist.org.uk
END:VEVENT
BEGIN:VEVENT
DTSTART;TZID=Europe/London:20290116T100000
DTEND;TZID=Europe/London:20290116T113000
DTSTAMP:20260421T153321
CREATED:20251218T154455Z
LAST-MODIFIED:20251218T154455Z
UID:10007440-1863252000-1863257400@www.ryedalemethodist.org.uk
SUMMARY:Oasis Coffee @ Kirkbymoorside
DESCRIPTION:Oasis Coffee Morning\nJoin us on Tuesday mornings from 10-11:30am for our Oasis coffee mornings.  All are welcome to drop in for a coffee\, a chat or simply a quiet space.
URL:https://www.ryedalemethodist.org.uk/event/oasis-coffee-kirkbymoorside/2029-01-16/
LOCATION:Kirkbymoorside Methodist\, 11 Piercy End\, Kirkbymoorside\, North Yorkshire\, YO62 6DQ\, United Kingdom
CATEGORIES:Churches,Coffee,Food,General,Kirkbymoorside,Social
ATTACH;FMTTYPE=image/jpeg:https://www.ryedalemethodist.org.uk/new/wp-content/uploads/2025/12/cup-3426617_1280.jpg
ORGANIZER;CN="Graham Ransom":MAILTO:graham.ransom@methodist.org.uk
END:VEVENT
BEGIN:VEVENT
DTSTART;TZID=Europe/London:20290123T100000
DTEND;TZID=Europe/London:20290123T113000
DTSTAMP:20260421T153321
CREATED:20251218T154455Z
LAST-MODIFIED:20251218T154455Z
UID:10007441-1863856800-1863862200@www.ryedalemethodist.org.uk
SUMMARY:Oasis Coffee @ Kirkbymoorside
DESCRIPTION:Oasis Coffee Morning\nJoin us on Tuesday mornings from 10-11:30am for our Oasis coffee mornings.  All are welcome to drop in for a coffee\, a chat or simply a quiet space.
URL:https://www.ryedalemethodist.org.uk/event/oasis-coffee-kirkbymoorside/2029-01-23/
LOCATION:Kirkbymoorside Methodist\, 11 Piercy End\, Kirkbymoorside\, North Yorkshire\, YO62 6DQ\, United Kingdom
CATEGORIES:Churches,Coffee,Food,General,Kirkbymoorside,Social
ATTACH;FMTTYPE=image/jpeg:https://www.ryedalemethodist.org.uk/new/wp-content/uploads/2025/12/cup-3426617_1280.jpg
ORGANIZER;CN="Graham Ransom":MAILTO:graham.ransom@methodist.org.uk
END:VEVENT
BEGIN:VEVENT
DTSTART;TZID=Europe/London:20290130T100000
DTEND;TZID=Europe/London:20290130T113000
DTSTAMP:20260421T153321
CREATED:20251218T154455Z
LAST-MODIFIED:20251218T154455Z
UID:10007442-1864461600-1864467000@www.ryedalemethodist.org.uk
SUMMARY:Oasis Coffee @ Kirkbymoorside
DESCRIPTION:Oasis Coffee Morning\nJoin us on Tuesday mornings from 10-11:30am for our Oasis coffee mornings.  All are welcome to drop in for a coffee\, a chat or simply a quiet space.
URL:https://www.ryedalemethodist.org.uk/event/oasis-coffee-kirkbymoorside/2029-01-30/
LOCATION:Kirkbymoorside Methodist\, 11 Piercy End\, Kirkbymoorside\, North Yorkshire\, YO62 6DQ\, United Kingdom
CATEGORIES:Churches,Coffee,Food,General,Kirkbymoorside,Social
ATTACH;FMTTYPE=image/jpeg:https://www.ryedalemethodist.org.uk/new/wp-content/uploads/2025/12/cup-3426617_1280.jpg
ORGANIZER;CN="Graham Ransom":MAILTO:graham.ransom@methodist.org.uk
END:VEVENT
BEGIN:VEVENT
DTSTART;TZID=Europe/London:20290206T100000
DTEND;TZID=Europe/London:20290206T113000
DTSTAMP:20260421T153321
CREATED:20251218T154455Z
LAST-MODIFIED:20251218T154455Z
UID:10007443-1865066400-1865071800@www.ryedalemethodist.org.uk
SUMMARY:Oasis Coffee @ Kirkbymoorside
DESCRIPTION:Oasis Coffee Morning\nJoin us on Tuesday mornings from 10-11:30am for our Oasis coffee mornings.  All are welcome to drop in for a coffee\, a chat or simply a quiet space.
URL:https://www.ryedalemethodist.org.uk/event/oasis-coffee-kirkbymoorside/2029-02-06/
LOCATION:Kirkbymoorside Methodist\, 11 Piercy End\, Kirkbymoorside\, North Yorkshire\, YO62 6DQ\, United Kingdom
CATEGORIES:Churches,Coffee,Food,General,Kirkbymoorside,Social
ATTACH;FMTTYPE=image/jpeg:https://www.ryedalemethodist.org.uk/new/wp-content/uploads/2025/12/cup-3426617_1280.jpg
ORGANIZER;CN="Graham Ransom":MAILTO:graham.ransom@methodist.org.uk
END:VEVENT
BEGIN:VEVENT
DTSTART;TZID=Europe/London:20290213T100000
DTEND;TZID=Europe/London:20290213T113000
DTSTAMP:20260421T153321
CREATED:20251218T154455Z
LAST-MODIFIED:20251218T154455Z
UID:10007444-1865671200-1865676600@www.ryedalemethodist.org.uk
SUMMARY:Oasis Coffee @ Kirkbymoorside
DESCRIPTION:Oasis Coffee Morning\nJoin us on Tuesday mornings from 10-11:30am for our Oasis coffee mornings.  All are welcome to drop in for a coffee\, a chat or simply a quiet space.
URL:https://www.ryedalemethodist.org.uk/event/oasis-coffee-kirkbymoorside/2029-02-13/
LOCATION:Kirkbymoorside Methodist\, 11 Piercy End\, Kirkbymoorside\, North Yorkshire\, YO62 6DQ\, United Kingdom
CATEGORIES:Churches,Coffee,Food,General,Kirkbymoorside,Social
ATTACH;FMTTYPE=image/jpeg:https://www.ryedalemethodist.org.uk/new/wp-content/uploads/2025/12/cup-3426617_1280.jpg
ORGANIZER;CN="Graham Ransom":MAILTO:graham.ransom@methodist.org.uk
END:VEVENT
BEGIN:VEVENT
DTSTART;TZID=Europe/London:20290220T100000
DTEND;TZID=Europe/London:20290220T113000
DTSTAMP:20260421T153321
CREATED:20251218T154455Z
LAST-MODIFIED:20251218T154455Z
UID:10007445-1866276000-1866281400@www.ryedalemethodist.org.uk
SUMMARY:Oasis Coffee @ Kirkbymoorside
DESCRIPTION:Oasis Coffee Morning\nJoin us on Tuesday mornings from 10-11:30am for our Oasis coffee mornings.  All are welcome to drop in for a coffee\, a chat or simply a quiet space.
URL:https://www.ryedalemethodist.org.uk/event/oasis-coffee-kirkbymoorside/2029-02-20/
LOCATION:Kirkbymoorside Methodist\, 11 Piercy End\, Kirkbymoorside\, North Yorkshire\, YO62 6DQ\, United Kingdom
CATEGORIES:Churches,Coffee,Food,General,Kirkbymoorside,Social
ATTACH;FMTTYPE=image/jpeg:https://www.ryedalemethodist.org.uk/new/wp-content/uploads/2025/12/cup-3426617_1280.jpg
ORGANIZER;CN="Graham Ransom":MAILTO:graham.ransom@methodist.org.uk
END:VEVENT
BEGIN:VEVENT
DTSTART;TZID=Europe/London:20290227T100000
DTEND;TZID=Europe/London:20290227T113000
DTSTAMP:20260421T153321
CREATED:20251218T154455Z
LAST-MODIFIED:20251218T154455Z
UID:10007446-1866880800-1866886200@www.ryedalemethodist.org.uk
SUMMARY:Oasis Coffee @ Kirkbymoorside
DESCRIPTION:Oasis Coffee Morning\nJoin us on Tuesday mornings from 10-11:30am for our Oasis coffee mornings.  All are welcome to drop in for a coffee\, a chat or simply a quiet space.
URL:https://www.ryedalemethodist.org.uk/event/oasis-coffee-kirkbymoorside/2029-02-27/
LOCATION:Kirkbymoorside Methodist\, 11 Piercy End\, Kirkbymoorside\, North Yorkshire\, YO62 6DQ\, United Kingdom
CATEGORIES:Churches,Coffee,Food,General,Kirkbymoorside,Social
ATTACH;FMTTYPE=image/jpeg:https://www.ryedalemethodist.org.uk/new/wp-content/uploads/2025/12/cup-3426617_1280.jpg
ORGANIZER;CN="Graham Ransom":MAILTO:graham.ransom@methodist.org.uk
END:VEVENT
BEGIN:VEVENT
DTSTART;TZID=Europe/London:20290306T100000
DTEND;TZID=Europe/London:20290306T113000
DTSTAMP:20260421T153321
CREATED:20251218T154455Z
LAST-MODIFIED:20251218T154455Z
UID:10007447-1867485600-1867491000@www.ryedalemethodist.org.uk
SUMMARY:Oasis Coffee @ Kirkbymoorside
DESCRIPTION:Oasis Coffee Morning\nJoin us on Tuesday mornings from 10-11:30am for our Oasis coffee mornings.  All are welcome to drop in for a coffee\, a chat or simply a quiet space.
URL:https://www.ryedalemethodist.org.uk/event/oasis-coffee-kirkbymoorside/2029-03-06/
LOCATION:Kirkbymoorside Methodist\, 11 Piercy End\, Kirkbymoorside\, North Yorkshire\, YO62 6DQ\, United Kingdom
CATEGORIES:Churches,Coffee,Food,General,Kirkbymoorside,Social
ATTACH;FMTTYPE=image/jpeg:https://www.ryedalemethodist.org.uk/new/wp-content/uploads/2025/12/cup-3426617_1280.jpg
ORGANIZER;CN="Graham Ransom":MAILTO:graham.ransom@methodist.org.uk
END:VEVENT
END:VCALENDAR