BEGIN:VCALENDAR
VERSION:2.0
PRODID:-//Ryedale Methodist Circuit - ECPv6.15.20//NONSGML v1.0//EN
CALSCALE:GREGORIAN
METHOD:PUBLISH
X-ORIGINAL-URL:https://www.ryedalemethodist.org.uk
X-WR-CALDESC:Events for Ryedale Methodist Circuit
REFRESH-INTERVAL;VALUE=DURATION:PT1H
X-Robots-Tag:noindex
X-PUBLISHED-TTL:PT1H
BEGIN:VTIMEZONE
TZID:Europe/London
BEGIN:DAYLIGHT
TZOFFSETFROM:+0000
TZOFFSETTO:+0100
TZNAME:BST
DTSTART:20280326T010000
END:DAYLIGHT
BEGIN:STANDARD
TZOFFSETFROM:+0100
TZOFFSETTO:+0000
TZNAME:GMT
DTSTART:20281029T010000
END:STANDARD
BEGIN:DAYLIGHT
TZOFFSETFROM:+0000
TZOFFSETTO:+0100
TZNAME:BST
DTSTART:20290325T010000
END:DAYLIGHT
BEGIN:STANDARD
TZOFFSETFROM:+0100
TZOFFSETTO:+0000
TZNAME:GMT
DTSTART:20291028T010000
END:STANDARD
BEGIN:DAYLIGHT
TZOFFSETFROM:+0000
TZOFFSETTO:+0100
TZNAME:BST
DTSTART:20300331T010000
END:DAYLIGHT
BEGIN:STANDARD
TZOFFSETFROM:+0100
TZOFFSETTO:+0000
TZNAME:GMT
DTSTART:20301027T010000
END:STANDARD
END:VTIMEZONE
BEGIN:VEVENT
DTSTART;TZID=Europe/London:20290424T100000
DTEND;TZID=Europe/London:20290424T113000
DTSTAMP:20260423T121052
CREATED:20251218T154455Z
LAST-MODIFIED:20251218T154455Z
UID:10007454-1871719200-1871724600@www.ryedalemethodist.org.uk
SUMMARY:Oasis Coffee @ Kirkbymoorside
DESCRIPTION:Oasis Coffee Morning\nJoin us on Tuesday mornings from 10-11:30am for our Oasis coffee mornings.  All are welcome to drop in for a coffee\, a chat or simply a quiet space.
URL:https://www.ryedalemethodist.org.uk/event/oasis-coffee-kirkbymoorside/2029-04-24/
LOCATION:Kirkbymoorside Methodist\, 11 Piercy End\, Kirkbymoorside\, North Yorkshire\, YO62 6DQ\, United Kingdom
CATEGORIES:Churches,Coffee,Food,General,Kirkbymoorside,Social
ATTACH;FMTTYPE=image/jpeg:https://www.ryedalemethodist.org.uk/new/wp-content/uploads/2025/12/cup-3426617_1280.jpg
ORGANIZER;CN="Graham Ransom":MAILTO:graham.ransom@methodist.org.uk
END:VEVENT
BEGIN:VEVENT
DTSTART;TZID=Europe/London:20290501T100000
DTEND;TZID=Europe/London:20290501T113000
DTSTAMP:20260423T121052
CREATED:20251218T154455Z
LAST-MODIFIED:20251218T154455Z
UID:10007455-1872324000-1872329400@www.ryedalemethodist.org.uk
SUMMARY:Oasis Coffee @ Kirkbymoorside
DESCRIPTION:Oasis Coffee Morning\nJoin us on Tuesday mornings from 10-11:30am for our Oasis coffee mornings.  All are welcome to drop in for a coffee\, a chat or simply a quiet space.
URL:https://www.ryedalemethodist.org.uk/event/oasis-coffee-kirkbymoorside/2029-05-01/
LOCATION:Kirkbymoorside Methodist\, 11 Piercy End\, Kirkbymoorside\, North Yorkshire\, YO62 6DQ\, United Kingdom
CATEGORIES:Churches,Coffee,Food,General,Kirkbymoorside,Social
ATTACH;FMTTYPE=image/jpeg:https://www.ryedalemethodist.org.uk/new/wp-content/uploads/2025/12/cup-3426617_1280.jpg
ORGANIZER;CN="Graham Ransom":MAILTO:graham.ransom@methodist.org.uk
END:VEVENT
BEGIN:VEVENT
DTSTART;TZID=Europe/London:20290508T100000
DTEND;TZID=Europe/London:20290508T113000
DTSTAMP:20260423T121052
CREATED:20251218T154455Z
LAST-MODIFIED:20251218T154455Z
UID:10007456-1872928800-1872934200@www.ryedalemethodist.org.uk
SUMMARY:Oasis Coffee @ Kirkbymoorside
DESCRIPTION:Oasis Coffee Morning\nJoin us on Tuesday mornings from 10-11:30am for our Oasis coffee mornings.  All are welcome to drop in for a coffee\, a chat or simply a quiet space.
URL:https://www.ryedalemethodist.org.uk/event/oasis-coffee-kirkbymoorside/2029-05-08/
LOCATION:Kirkbymoorside Methodist\, 11 Piercy End\, Kirkbymoorside\, North Yorkshire\, YO62 6DQ\, United Kingdom
CATEGORIES:Churches,Coffee,Food,General,Kirkbymoorside,Social
ATTACH;FMTTYPE=image/jpeg:https://www.ryedalemethodist.org.uk/new/wp-content/uploads/2025/12/cup-3426617_1280.jpg
ORGANIZER;CN="Graham Ransom":MAILTO:graham.ransom@methodist.org.uk
END:VEVENT
BEGIN:VEVENT
DTSTART;TZID=Europe/London:20290515T100000
DTEND;TZID=Europe/London:20290515T113000
DTSTAMP:20260423T121052
CREATED:20251218T154455Z
LAST-MODIFIED:20251218T154455Z
UID:10007457-1873533600-1873539000@www.ryedalemethodist.org.uk
SUMMARY:Oasis Coffee @ Kirkbymoorside
DESCRIPTION:Oasis Coffee Morning\nJoin us on Tuesday mornings from 10-11:30am for our Oasis coffee mornings.  All are welcome to drop in for a coffee\, a chat or simply a quiet space.
URL:https://www.ryedalemethodist.org.uk/event/oasis-coffee-kirkbymoorside/2029-05-15/
LOCATION:Kirkbymoorside Methodist\, 11 Piercy End\, Kirkbymoorside\, North Yorkshire\, YO62 6DQ\, United Kingdom
CATEGORIES:Churches,Coffee,Food,General,Kirkbymoorside,Social
ATTACH;FMTTYPE=image/jpeg:https://www.ryedalemethodist.org.uk/new/wp-content/uploads/2025/12/cup-3426617_1280.jpg
ORGANIZER;CN="Graham Ransom":MAILTO:graham.ransom@methodist.org.uk
END:VEVENT
BEGIN:VEVENT
DTSTART;TZID=Europe/London:20290522T100000
DTEND;TZID=Europe/London:20290522T113000
DTSTAMP:20260423T121052
CREATED:20251218T154455Z
LAST-MODIFIED:20251218T154455Z
UID:10007458-1874138400-1874143800@www.ryedalemethodist.org.uk
SUMMARY:Oasis Coffee @ Kirkbymoorside
DESCRIPTION:Oasis Coffee Morning\nJoin us on Tuesday mornings from 10-11:30am for our Oasis coffee mornings.  All are welcome to drop in for a coffee\, a chat or simply a quiet space.
URL:https://www.ryedalemethodist.org.uk/event/oasis-coffee-kirkbymoorside/2029-05-22/
LOCATION:Kirkbymoorside Methodist\, 11 Piercy End\, Kirkbymoorside\, North Yorkshire\, YO62 6DQ\, United Kingdom
CATEGORIES:Churches,Coffee,Food,General,Kirkbymoorside,Social
ATTACH;FMTTYPE=image/jpeg:https://www.ryedalemethodist.org.uk/new/wp-content/uploads/2025/12/cup-3426617_1280.jpg
ORGANIZER;CN="Graham Ransom":MAILTO:graham.ransom@methodist.org.uk
END:VEVENT
BEGIN:VEVENT
DTSTART;TZID=Europe/London:20290529T100000
DTEND;TZID=Europe/London:20290529T113000
DTSTAMP:20260423T121052
CREATED:20251218T154455Z
LAST-MODIFIED:20251218T154455Z
UID:10007459-1874743200-1874748600@www.ryedalemethodist.org.uk
SUMMARY:Oasis Coffee @ Kirkbymoorside
DESCRIPTION:Oasis Coffee Morning\nJoin us on Tuesday mornings from 10-11:30am for our Oasis coffee mornings.  All are welcome to drop in for a coffee\, a chat or simply a quiet space.
URL:https://www.ryedalemethodist.org.uk/event/oasis-coffee-kirkbymoorside/2029-05-29/
LOCATION:Kirkbymoorside Methodist\, 11 Piercy End\, Kirkbymoorside\, North Yorkshire\, YO62 6DQ\, United Kingdom
CATEGORIES:Churches,Coffee,Food,General,Kirkbymoorside,Social
ATTACH;FMTTYPE=image/jpeg:https://www.ryedalemethodist.org.uk/new/wp-content/uploads/2025/12/cup-3426617_1280.jpg
ORGANIZER;CN="Graham Ransom":MAILTO:graham.ransom@methodist.org.uk
END:VEVENT
BEGIN:VEVENT
DTSTART;TZID=Europe/London:20290605T100000
DTEND;TZID=Europe/London:20290605T113000
DTSTAMP:20260423T121052
CREATED:20251218T154455Z
LAST-MODIFIED:20251218T154455Z
UID:10007460-1875348000-1875353400@www.ryedalemethodist.org.uk
SUMMARY:Oasis Coffee @ Kirkbymoorside
DESCRIPTION:Oasis Coffee Morning\nJoin us on Tuesday mornings from 10-11:30am for our Oasis coffee mornings.  All are welcome to drop in for a coffee\, a chat or simply a quiet space.
URL:https://www.ryedalemethodist.org.uk/event/oasis-coffee-kirkbymoorside/2029-06-05/
LOCATION:Kirkbymoorside Methodist\, 11 Piercy End\, Kirkbymoorside\, North Yorkshire\, YO62 6DQ\, United Kingdom
CATEGORIES:Churches,Coffee,Food,General,Kirkbymoorside,Social
ATTACH;FMTTYPE=image/jpeg:https://www.ryedalemethodist.org.uk/new/wp-content/uploads/2025/12/cup-3426617_1280.jpg
ORGANIZER;CN="Graham Ransom":MAILTO:graham.ransom@methodist.org.uk
END:VEVENT
BEGIN:VEVENT
DTSTART;TZID=Europe/London:20290612T100000
DTEND;TZID=Europe/London:20290612T113000
DTSTAMP:20260423T121052
CREATED:20251218T154455Z
LAST-MODIFIED:20251218T154455Z
UID:10007461-1875952800-1875958200@www.ryedalemethodist.org.uk
SUMMARY:Oasis Coffee @ Kirkbymoorside
DESCRIPTION:Oasis Coffee Morning\nJoin us on Tuesday mornings from 10-11:30am for our Oasis coffee mornings.  All are welcome to drop in for a coffee\, a chat or simply a quiet space.
URL:https://www.ryedalemethodist.org.uk/event/oasis-coffee-kirkbymoorside/2029-06-12/
LOCATION:Kirkbymoorside Methodist\, 11 Piercy End\, Kirkbymoorside\, North Yorkshire\, YO62 6DQ\, United Kingdom
CATEGORIES:Churches,Coffee,Food,General,Kirkbymoorside,Social
ATTACH;FMTTYPE=image/jpeg:https://www.ryedalemethodist.org.uk/new/wp-content/uploads/2025/12/cup-3426617_1280.jpg
ORGANIZER;CN="Graham Ransom":MAILTO:graham.ransom@methodist.org.uk
END:VEVENT
BEGIN:VEVENT
DTSTART;TZID=Europe/London:20290619T100000
DTEND;TZID=Europe/London:20290619T113000
DTSTAMP:20260423T121052
CREATED:20251218T154455Z
LAST-MODIFIED:20251218T154455Z
UID:10007462-1876557600-1876563000@www.ryedalemethodist.org.uk
SUMMARY:Oasis Coffee @ Kirkbymoorside
DESCRIPTION:Oasis Coffee Morning\nJoin us on Tuesday mornings from 10-11:30am for our Oasis coffee mornings.  All are welcome to drop in for a coffee\, a chat or simply a quiet space.
URL:https://www.ryedalemethodist.org.uk/event/oasis-coffee-kirkbymoorside/2029-06-19/
LOCATION:Kirkbymoorside Methodist\, 11 Piercy End\, Kirkbymoorside\, North Yorkshire\, YO62 6DQ\, United Kingdom
CATEGORIES:Churches,Coffee,Food,General,Kirkbymoorside,Social
ATTACH;FMTTYPE=image/jpeg:https://www.ryedalemethodist.org.uk/new/wp-content/uploads/2025/12/cup-3426617_1280.jpg
ORGANIZER;CN="Graham Ransom":MAILTO:graham.ransom@methodist.org.uk
END:VEVENT
BEGIN:VEVENT
DTSTART;TZID=Europe/London:20290626T100000
DTEND;TZID=Europe/London:20290626T113000
DTSTAMP:20260423T121052
CREATED:20251218T154455Z
LAST-MODIFIED:20251218T154455Z
UID:10007463-1877162400-1877167800@www.ryedalemethodist.org.uk
SUMMARY:Oasis Coffee @ Kirkbymoorside
DESCRIPTION:Oasis Coffee Morning\nJoin us on Tuesday mornings from 10-11:30am for our Oasis coffee mornings.  All are welcome to drop in for a coffee\, a chat or simply a quiet space.
URL:https://www.ryedalemethodist.org.uk/event/oasis-coffee-kirkbymoorside/2029-06-26/
LOCATION:Kirkbymoorside Methodist\, 11 Piercy End\, Kirkbymoorside\, North Yorkshire\, YO62 6DQ\, United Kingdom
CATEGORIES:Churches,Coffee,Food,General,Kirkbymoorside,Social
ATTACH;FMTTYPE=image/jpeg:https://www.ryedalemethodist.org.uk/new/wp-content/uploads/2025/12/cup-3426617_1280.jpg
ORGANIZER;CN="Graham Ransom":MAILTO:graham.ransom@methodist.org.uk
END:VEVENT
BEGIN:VEVENT
DTSTART;TZID=Europe/London:20290703T100000
DTEND;TZID=Europe/London:20290703T113000
DTSTAMP:20260423T121052
CREATED:20251218T154455Z
LAST-MODIFIED:20251218T154455Z
UID:10007464-1877767200-1877772600@www.ryedalemethodist.org.uk
SUMMARY:Oasis Coffee @ Kirkbymoorside
DESCRIPTION:Oasis Coffee Morning\nJoin us on Tuesday mornings from 10-11:30am for our Oasis coffee mornings.  All are welcome to drop in for a coffee\, a chat or simply a quiet space.
URL:https://www.ryedalemethodist.org.uk/event/oasis-coffee-kirkbymoorside/2029-07-03/
LOCATION:Kirkbymoorside Methodist\, 11 Piercy End\, Kirkbymoorside\, North Yorkshire\, YO62 6DQ\, United Kingdom
CATEGORIES:Churches,Coffee,Food,General,Kirkbymoorside,Social
ATTACH;FMTTYPE=image/jpeg:https://www.ryedalemethodist.org.uk/new/wp-content/uploads/2025/12/cup-3426617_1280.jpg
ORGANIZER;CN="Graham Ransom":MAILTO:graham.ransom@methodist.org.uk
END:VEVENT
BEGIN:VEVENT
DTSTART;TZID=Europe/London:20290710T100000
DTEND;TZID=Europe/London:20290710T113000
DTSTAMP:20260423T121052
CREATED:20251218T154455Z
LAST-MODIFIED:20251218T154455Z
UID:10007465-1878372000-1878377400@www.ryedalemethodist.org.uk
SUMMARY:Oasis Coffee @ Kirkbymoorside
DESCRIPTION:Oasis Coffee Morning\nJoin us on Tuesday mornings from 10-11:30am for our Oasis coffee mornings.  All are welcome to drop in for a coffee\, a chat or simply a quiet space.
URL:https://www.ryedalemethodist.org.uk/event/oasis-coffee-kirkbymoorside/2029-07-10/
LOCATION:Kirkbymoorside Methodist\, 11 Piercy End\, Kirkbymoorside\, North Yorkshire\, YO62 6DQ\, United Kingdom
CATEGORIES:Churches,Coffee,Food,General,Kirkbymoorside,Social
ATTACH;FMTTYPE=image/jpeg:https://www.ryedalemethodist.org.uk/new/wp-content/uploads/2025/12/cup-3426617_1280.jpg
ORGANIZER;CN="Graham Ransom":MAILTO:graham.ransom@methodist.org.uk
END:VEVENT
BEGIN:VEVENT
DTSTART;TZID=Europe/London:20290717T100000
DTEND;TZID=Europe/London:20290717T113000
DTSTAMP:20260423T121052
CREATED:20251218T154455Z
LAST-MODIFIED:20251218T154455Z
UID:10007466-1878976800-1878982200@www.ryedalemethodist.org.uk
SUMMARY:Oasis Coffee @ Kirkbymoorside
DESCRIPTION:Oasis Coffee Morning\nJoin us on Tuesday mornings from 10-11:30am for our Oasis coffee mornings.  All are welcome to drop in for a coffee\, a chat or simply a quiet space.
URL:https://www.ryedalemethodist.org.uk/event/oasis-coffee-kirkbymoorside/2029-07-17/
LOCATION:Kirkbymoorside Methodist\, 11 Piercy End\, Kirkbymoorside\, North Yorkshire\, YO62 6DQ\, United Kingdom
CATEGORIES:Churches,Coffee,Food,General,Kirkbymoorside,Social
ATTACH;FMTTYPE=image/jpeg:https://www.ryedalemethodist.org.uk/new/wp-content/uploads/2025/12/cup-3426617_1280.jpg
ORGANIZER;CN="Graham Ransom":MAILTO:graham.ransom@methodist.org.uk
END:VEVENT
BEGIN:VEVENT
DTSTART;TZID=Europe/London:20290724T100000
DTEND;TZID=Europe/London:20290724T113000
DTSTAMP:20260423T121052
CREATED:20251218T154455Z
LAST-MODIFIED:20251218T154455Z
UID:10007467-1879581600-1879587000@www.ryedalemethodist.org.uk
SUMMARY:Oasis Coffee @ Kirkbymoorside
DESCRIPTION:Oasis Coffee Morning\nJoin us on Tuesday mornings from 10-11:30am for our Oasis coffee mornings.  All are welcome to drop in for a coffee\, a chat or simply a quiet space.
URL:https://www.ryedalemethodist.org.uk/event/oasis-coffee-kirkbymoorside/2029-07-24/
LOCATION:Kirkbymoorside Methodist\, 11 Piercy End\, Kirkbymoorside\, North Yorkshire\, YO62 6DQ\, United Kingdom
CATEGORIES:Churches,Coffee,Food,General,Kirkbymoorside,Social
ATTACH;FMTTYPE=image/jpeg:https://www.ryedalemethodist.org.uk/new/wp-content/uploads/2025/12/cup-3426617_1280.jpg
ORGANIZER;CN="Graham Ransom":MAILTO:graham.ransom@methodist.org.uk
END:VEVENT
BEGIN:VEVENT
DTSTART;TZID=Europe/London:20290731T100000
DTEND;TZID=Europe/London:20290731T113000
DTSTAMP:20260423T121052
CREATED:20251218T154455Z
LAST-MODIFIED:20251218T154455Z
UID:10007468-1880186400-1880191800@www.ryedalemethodist.org.uk
SUMMARY:Oasis Coffee @ Kirkbymoorside
DESCRIPTION:Oasis Coffee Morning\nJoin us on Tuesday mornings from 10-11:30am for our Oasis coffee mornings.  All are welcome to drop in for a coffee\, a chat or simply a quiet space.
URL:https://www.ryedalemethodist.org.uk/event/oasis-coffee-kirkbymoorside/2029-07-31/
LOCATION:Kirkbymoorside Methodist\, 11 Piercy End\, Kirkbymoorside\, North Yorkshire\, YO62 6DQ\, United Kingdom
CATEGORIES:Churches,Coffee,Food,General,Kirkbymoorside,Social
ATTACH;FMTTYPE=image/jpeg:https://www.ryedalemethodist.org.uk/new/wp-content/uploads/2025/12/cup-3426617_1280.jpg
ORGANIZER;CN="Graham Ransom":MAILTO:graham.ransom@methodist.org.uk
END:VEVENT
BEGIN:VEVENT
DTSTART;TZID=Europe/London:20290807T100000
DTEND;TZID=Europe/London:20290807T113000
DTSTAMP:20260423T121052
CREATED:20251218T154455Z
LAST-MODIFIED:20251218T154455Z
UID:10007469-1880791200-1880796600@www.ryedalemethodist.org.uk
SUMMARY:Oasis Coffee @ Kirkbymoorside
DESCRIPTION:Oasis Coffee Morning\nJoin us on Tuesday mornings from 10-11:30am for our Oasis coffee mornings.  All are welcome to drop in for a coffee\, a chat or simply a quiet space.
URL:https://www.ryedalemethodist.org.uk/event/oasis-coffee-kirkbymoorside/2029-08-07/
LOCATION:Kirkbymoorside Methodist\, 11 Piercy End\, Kirkbymoorside\, North Yorkshire\, YO62 6DQ\, United Kingdom
CATEGORIES:Churches,Coffee,Food,General,Kirkbymoorside,Social
ATTACH;FMTTYPE=image/jpeg:https://www.ryedalemethodist.org.uk/new/wp-content/uploads/2025/12/cup-3426617_1280.jpg
ORGANIZER;CN="Graham Ransom":MAILTO:graham.ransom@methodist.org.uk
END:VEVENT
BEGIN:VEVENT
DTSTART;TZID=Europe/London:20290814T100000
DTEND;TZID=Europe/London:20290814T113000
DTSTAMP:20260423T121052
CREATED:20251218T154455Z
LAST-MODIFIED:20251218T154455Z
UID:10007470-1881396000-1881401400@www.ryedalemethodist.org.uk
SUMMARY:Oasis Coffee @ Kirkbymoorside
DESCRIPTION:Oasis Coffee Morning\nJoin us on Tuesday mornings from 10-11:30am for our Oasis coffee mornings.  All are welcome to drop in for a coffee\, a chat or simply a quiet space.
URL:https://www.ryedalemethodist.org.uk/event/oasis-coffee-kirkbymoorside/2029-08-14/
LOCATION:Kirkbymoorside Methodist\, 11 Piercy End\, Kirkbymoorside\, North Yorkshire\, YO62 6DQ\, United Kingdom
CATEGORIES:Churches,Coffee,Food,General,Kirkbymoorside,Social
ATTACH;FMTTYPE=image/jpeg:https://www.ryedalemethodist.org.uk/new/wp-content/uploads/2025/12/cup-3426617_1280.jpg
ORGANIZER;CN="Graham Ransom":MAILTO:graham.ransom@methodist.org.uk
END:VEVENT
BEGIN:VEVENT
DTSTART;TZID=Europe/London:20290821T100000
DTEND;TZID=Europe/London:20290821T113000
DTSTAMP:20260423T121052
CREATED:20251218T154455Z
LAST-MODIFIED:20251218T154455Z
UID:10007471-1882000800-1882006200@www.ryedalemethodist.org.uk
SUMMARY:Oasis Coffee @ Kirkbymoorside
DESCRIPTION:Oasis Coffee Morning\nJoin us on Tuesday mornings from 10-11:30am for our Oasis coffee mornings.  All are welcome to drop in for a coffee\, a chat or simply a quiet space.
URL:https://www.ryedalemethodist.org.uk/event/oasis-coffee-kirkbymoorside/2029-08-21/
LOCATION:Kirkbymoorside Methodist\, 11 Piercy End\, Kirkbymoorside\, North Yorkshire\, YO62 6DQ\, United Kingdom
CATEGORIES:Churches,Coffee,Food,General,Kirkbymoorside,Social
ATTACH;FMTTYPE=image/jpeg:https://www.ryedalemethodist.org.uk/new/wp-content/uploads/2025/12/cup-3426617_1280.jpg
ORGANIZER;CN="Graham Ransom":MAILTO:graham.ransom@methodist.org.uk
END:VEVENT
BEGIN:VEVENT
DTSTART;TZID=Europe/London:20290828T100000
DTEND;TZID=Europe/London:20290828T113000
DTSTAMP:20260423T121052
CREATED:20251218T154455Z
LAST-MODIFIED:20251218T154455Z
UID:10007472-1882605600-1882611000@www.ryedalemethodist.org.uk
SUMMARY:Oasis Coffee @ Kirkbymoorside
DESCRIPTION:Oasis Coffee Morning\nJoin us on Tuesday mornings from 10-11:30am for our Oasis coffee mornings.  All are welcome to drop in for a coffee\, a chat or simply a quiet space.
URL:https://www.ryedalemethodist.org.uk/event/oasis-coffee-kirkbymoorside/2029-08-28/
LOCATION:Kirkbymoorside Methodist\, 11 Piercy End\, Kirkbymoorside\, North Yorkshire\, YO62 6DQ\, United Kingdom
CATEGORIES:Churches,Coffee,Food,General,Kirkbymoorside,Social
ATTACH;FMTTYPE=image/jpeg:https://www.ryedalemethodist.org.uk/new/wp-content/uploads/2025/12/cup-3426617_1280.jpg
ORGANIZER;CN="Graham Ransom":MAILTO:graham.ransom@methodist.org.uk
END:VEVENT
BEGIN:VEVENT
DTSTART;TZID=Europe/London:20290904T100000
DTEND;TZID=Europe/London:20290904T113000
DTSTAMP:20260423T121052
CREATED:20251218T154455Z
LAST-MODIFIED:20251218T154455Z
UID:10007473-1883210400-1883215800@www.ryedalemethodist.org.uk
SUMMARY:Oasis Coffee @ Kirkbymoorside
DESCRIPTION:Oasis Coffee Morning\nJoin us on Tuesday mornings from 10-11:30am for our Oasis coffee mornings.  All are welcome to drop in for a coffee\, a chat or simply a quiet space.
URL:https://www.ryedalemethodist.org.uk/event/oasis-coffee-kirkbymoorside/2029-09-04/
LOCATION:Kirkbymoorside Methodist\, 11 Piercy End\, Kirkbymoorside\, North Yorkshire\, YO62 6DQ\, United Kingdom
CATEGORIES:Churches,Coffee,Food,General,Kirkbymoorside,Social
ATTACH;FMTTYPE=image/jpeg:https://www.ryedalemethodist.org.uk/new/wp-content/uploads/2025/12/cup-3426617_1280.jpg
ORGANIZER;CN="Graham Ransom":MAILTO:graham.ransom@methodist.org.uk
END:VEVENT
BEGIN:VEVENT
DTSTART;TZID=Europe/London:20290911T100000
DTEND;TZID=Europe/London:20290911T113000
DTSTAMP:20260423T121052
CREATED:20251218T154455Z
LAST-MODIFIED:20251218T154455Z
UID:10007474-1883815200-1883820600@www.ryedalemethodist.org.uk
SUMMARY:Oasis Coffee @ Kirkbymoorside
DESCRIPTION:Oasis Coffee Morning\nJoin us on Tuesday mornings from 10-11:30am for our Oasis coffee mornings.  All are welcome to drop in for a coffee\, a chat or simply a quiet space.
URL:https://www.ryedalemethodist.org.uk/event/oasis-coffee-kirkbymoorside/2029-09-11/
LOCATION:Kirkbymoorside Methodist\, 11 Piercy End\, Kirkbymoorside\, North Yorkshire\, YO62 6DQ\, United Kingdom
CATEGORIES:Churches,Coffee,Food,General,Kirkbymoorside,Social
ATTACH;FMTTYPE=image/jpeg:https://www.ryedalemethodist.org.uk/new/wp-content/uploads/2025/12/cup-3426617_1280.jpg
ORGANIZER;CN="Graham Ransom":MAILTO:graham.ransom@methodist.org.uk
END:VEVENT
BEGIN:VEVENT
DTSTART;TZID=Europe/London:20290918T100000
DTEND;TZID=Europe/London:20290918T113000
DTSTAMP:20260423T121052
CREATED:20251218T154455Z
LAST-MODIFIED:20251218T154455Z
UID:10007475-1884420000-1884425400@www.ryedalemethodist.org.uk
SUMMARY:Oasis Coffee @ Kirkbymoorside
DESCRIPTION:Oasis Coffee Morning\nJoin us on Tuesday mornings from 10-11:30am for our Oasis coffee mornings.  All are welcome to drop in for a coffee\, a chat or simply a quiet space.
URL:https://www.ryedalemethodist.org.uk/event/oasis-coffee-kirkbymoorside/2029-09-18/
LOCATION:Kirkbymoorside Methodist\, 11 Piercy End\, Kirkbymoorside\, North Yorkshire\, YO62 6DQ\, United Kingdom
CATEGORIES:Churches,Coffee,Food,General,Kirkbymoorside,Social
ATTACH;FMTTYPE=image/jpeg:https://www.ryedalemethodist.org.uk/new/wp-content/uploads/2025/12/cup-3426617_1280.jpg
ORGANIZER;CN="Graham Ransom":MAILTO:graham.ransom@methodist.org.uk
END:VEVENT
BEGIN:VEVENT
DTSTART;TZID=Europe/London:20290925T100000
DTEND;TZID=Europe/London:20290925T113000
DTSTAMP:20260423T121052
CREATED:20251218T154455Z
LAST-MODIFIED:20251218T154455Z
UID:10007476-1885024800-1885030200@www.ryedalemethodist.org.uk
SUMMARY:Oasis Coffee @ Kirkbymoorside
DESCRIPTION:Oasis Coffee Morning\nJoin us on Tuesday mornings from 10-11:30am for our Oasis coffee mornings.  All are welcome to drop in for a coffee\, a chat or simply a quiet space.
URL:https://www.ryedalemethodist.org.uk/event/oasis-coffee-kirkbymoorside/2029-09-25/
LOCATION:Kirkbymoorside Methodist\, 11 Piercy End\, Kirkbymoorside\, North Yorkshire\, YO62 6DQ\, United Kingdom
CATEGORIES:Churches,Coffee,Food,General,Kirkbymoorside,Social
ATTACH;FMTTYPE=image/jpeg:https://www.ryedalemethodist.org.uk/new/wp-content/uploads/2025/12/cup-3426617_1280.jpg
ORGANIZER;CN="Graham Ransom":MAILTO:graham.ransom@methodist.org.uk
END:VEVENT
BEGIN:VEVENT
DTSTART;TZID=Europe/London:20291002T100000
DTEND;TZID=Europe/London:20291002T113000
DTSTAMP:20260423T121052
CREATED:20251218T154455Z
LAST-MODIFIED:20251218T154455Z
UID:10007477-1885629600-1885635000@www.ryedalemethodist.org.uk
SUMMARY:Oasis Coffee @ Kirkbymoorside
DESCRIPTION:Oasis Coffee Morning\nJoin us on Tuesday mornings from 10-11:30am for our Oasis coffee mornings.  All are welcome to drop in for a coffee\, a chat or simply a quiet space.
URL:https://www.ryedalemethodist.org.uk/event/oasis-coffee-kirkbymoorside/2029-10-02/
LOCATION:Kirkbymoorside Methodist\, 11 Piercy End\, Kirkbymoorside\, North Yorkshire\, YO62 6DQ\, United Kingdom
CATEGORIES:Churches,Coffee,Food,General,Kirkbymoorside,Social
ATTACH;FMTTYPE=image/jpeg:https://www.ryedalemethodist.org.uk/new/wp-content/uploads/2025/12/cup-3426617_1280.jpg
ORGANIZER;CN="Graham Ransom":MAILTO:graham.ransom@methodist.org.uk
END:VEVENT
BEGIN:VEVENT
DTSTART;TZID=Europe/London:20291009T100000
DTEND;TZID=Europe/London:20291009T113000
DTSTAMP:20260423T121052
CREATED:20251218T154455Z
LAST-MODIFIED:20251218T154455Z
UID:10007478-1886234400-1886239800@www.ryedalemethodist.org.uk
SUMMARY:Oasis Coffee @ Kirkbymoorside
DESCRIPTION:Oasis Coffee Morning\nJoin us on Tuesday mornings from 10-11:30am for our Oasis coffee mornings.  All are welcome to drop in for a coffee\, a chat or simply a quiet space.
URL:https://www.ryedalemethodist.org.uk/event/oasis-coffee-kirkbymoorside/2029-10-09/
LOCATION:Kirkbymoorside Methodist\, 11 Piercy End\, Kirkbymoorside\, North Yorkshire\, YO62 6DQ\, United Kingdom
CATEGORIES:Churches,Coffee,Food,General,Kirkbymoorside,Social
ATTACH;FMTTYPE=image/jpeg:https://www.ryedalemethodist.org.uk/new/wp-content/uploads/2025/12/cup-3426617_1280.jpg
ORGANIZER;CN="Graham Ransom":MAILTO:graham.ransom@methodist.org.uk
END:VEVENT
BEGIN:VEVENT
DTSTART;TZID=Europe/London:20291016T100000
DTEND;TZID=Europe/London:20291016T113000
DTSTAMP:20260423T121052
CREATED:20251218T154455Z
LAST-MODIFIED:20251218T154455Z
UID:10007479-1886839200-1886844600@www.ryedalemethodist.org.uk
SUMMARY:Oasis Coffee @ Kirkbymoorside
DESCRIPTION:Oasis Coffee Morning\nJoin us on Tuesday mornings from 10-11:30am for our Oasis coffee mornings.  All are welcome to drop in for a coffee\, a chat or simply a quiet space.
URL:https://www.ryedalemethodist.org.uk/event/oasis-coffee-kirkbymoorside/2029-10-16/
LOCATION:Kirkbymoorside Methodist\, 11 Piercy End\, Kirkbymoorside\, North Yorkshire\, YO62 6DQ\, United Kingdom
CATEGORIES:Churches,Coffee,Food,General,Kirkbymoorside,Social
ATTACH;FMTTYPE=image/jpeg:https://www.ryedalemethodist.org.uk/new/wp-content/uploads/2025/12/cup-3426617_1280.jpg
ORGANIZER;CN="Graham Ransom":MAILTO:graham.ransom@methodist.org.uk
END:VEVENT
BEGIN:VEVENT
DTSTART;TZID=Europe/London:20291023T100000
DTEND;TZID=Europe/London:20291023T113000
DTSTAMP:20260423T121052
CREATED:20251218T154455Z
LAST-MODIFIED:20251218T154455Z
UID:10007480-1887444000-1887449400@www.ryedalemethodist.org.uk
SUMMARY:Oasis Coffee @ Kirkbymoorside
DESCRIPTION:Oasis Coffee Morning\nJoin us on Tuesday mornings from 10-11:30am for our Oasis coffee mornings.  All are welcome to drop in for a coffee\, a chat or simply a quiet space.
URL:https://www.ryedalemethodist.org.uk/event/oasis-coffee-kirkbymoorside/2029-10-23/
LOCATION:Kirkbymoorside Methodist\, 11 Piercy End\, Kirkbymoorside\, North Yorkshire\, YO62 6DQ\, United Kingdom
CATEGORIES:Churches,Coffee,Food,General,Kirkbymoorside,Social
ATTACH;FMTTYPE=image/jpeg:https://www.ryedalemethodist.org.uk/new/wp-content/uploads/2025/12/cup-3426617_1280.jpg
ORGANIZER;CN="Graham Ransom":MAILTO:graham.ransom@methodist.org.uk
END:VEVENT
BEGIN:VEVENT
DTSTART;TZID=Europe/London:20291030T100000
DTEND;TZID=Europe/London:20291030T113000
DTSTAMP:20260423T121052
CREATED:20251218T154455Z
LAST-MODIFIED:20251218T154455Z
UID:10007481-1888048800-1888054200@www.ryedalemethodist.org.uk
SUMMARY:Oasis Coffee @ Kirkbymoorside
DESCRIPTION:Oasis Coffee Morning\nJoin us on Tuesday mornings from 10-11:30am for our Oasis coffee mornings.  All are welcome to drop in for a coffee\, a chat or simply a quiet space.
URL:https://www.ryedalemethodist.org.uk/event/oasis-coffee-kirkbymoorside/2029-10-30/
LOCATION:Kirkbymoorside Methodist\, 11 Piercy End\, Kirkbymoorside\, North Yorkshire\, YO62 6DQ\, United Kingdom
CATEGORIES:Churches,Coffee,Food,General,Kirkbymoorside,Social
ATTACH;FMTTYPE=image/jpeg:https://www.ryedalemethodist.org.uk/new/wp-content/uploads/2025/12/cup-3426617_1280.jpg
ORGANIZER;CN="Graham Ransom":MAILTO:graham.ransom@methodist.org.uk
END:VEVENT
BEGIN:VEVENT
DTSTART;TZID=Europe/London:20291106T100000
DTEND;TZID=Europe/London:20291106T113000
DTSTAMP:20260423T121052
CREATED:20251218T154455Z
LAST-MODIFIED:20251218T154455Z
UID:10007482-1888653600-1888659000@www.ryedalemethodist.org.uk
SUMMARY:Oasis Coffee @ Kirkbymoorside
DESCRIPTION:Oasis Coffee Morning\nJoin us on Tuesday mornings from 10-11:30am for our Oasis coffee mornings.  All are welcome to drop in for a coffee\, a chat or simply a quiet space.
URL:https://www.ryedalemethodist.org.uk/event/oasis-coffee-kirkbymoorside/2029-11-06/
LOCATION:Kirkbymoorside Methodist\, 11 Piercy End\, Kirkbymoorside\, North Yorkshire\, YO62 6DQ\, United Kingdom
CATEGORIES:Churches,Coffee,Food,General,Kirkbymoorside,Social
ATTACH;FMTTYPE=image/jpeg:https://www.ryedalemethodist.org.uk/new/wp-content/uploads/2025/12/cup-3426617_1280.jpg
ORGANIZER;CN="Graham Ransom":MAILTO:graham.ransom@methodist.org.uk
END:VEVENT
BEGIN:VEVENT
DTSTART;TZID=Europe/London:20291113T100000
DTEND;TZID=Europe/London:20291113T113000
DTSTAMP:20260423T121052
CREATED:20251218T154455Z
LAST-MODIFIED:20251218T154455Z
UID:10007483-1889258400-1889263800@www.ryedalemethodist.org.uk
SUMMARY:Oasis Coffee @ Kirkbymoorside
DESCRIPTION:Oasis Coffee Morning\nJoin us on Tuesday mornings from 10-11:30am for our Oasis coffee mornings.  All are welcome to drop in for a coffee\, a chat or simply a quiet space.
URL:https://www.ryedalemethodist.org.uk/event/oasis-coffee-kirkbymoorside/2029-11-13/
LOCATION:Kirkbymoorside Methodist\, 11 Piercy End\, Kirkbymoorside\, North Yorkshire\, YO62 6DQ\, United Kingdom
CATEGORIES:Churches,Coffee,Food,General,Kirkbymoorside,Social
ATTACH;FMTTYPE=image/jpeg:https://www.ryedalemethodist.org.uk/new/wp-content/uploads/2025/12/cup-3426617_1280.jpg
ORGANIZER;CN="Graham Ransom":MAILTO:graham.ransom@methodist.org.uk
END:VEVENT
END:VCALENDAR