BEGIN:VCALENDAR
VERSION:2.0
PRODID:-//Ryedale Methodist Circuit - ECPv6.15.20//NONSGML v1.0//EN
CALSCALE:GREGORIAN
METHOD:PUBLISH
X-WR-CALNAME:Ryedale Methodist Circuit
X-ORIGINAL-URL:https://www.ryedalemethodist.org.uk
X-WR-CALDESC:Events for Ryedale Methodist Circuit
REFRESH-INTERVAL;VALUE=DURATION:PT1H
X-Robots-Tag:noindex
X-PUBLISHED-TTL:PT1H
BEGIN:VTIMEZONE
TZID:Europe/London
BEGIN:DAYLIGHT
TZOFFSETFROM:+0000
TZOFFSETTO:+0100
TZNAME:BST
DTSTART:20290325T010000
END:DAYLIGHT
BEGIN:STANDARD
TZOFFSETFROM:+0100
TZOFFSETTO:+0000
TZNAME:GMT
DTSTART:20291028T010000
END:STANDARD
BEGIN:DAYLIGHT
TZOFFSETFROM:+0000
TZOFFSETTO:+0100
TZNAME:BST
DTSTART:20300331T010000
END:DAYLIGHT
BEGIN:STANDARD
TZOFFSETFROM:+0100
TZOFFSETTO:+0000
TZNAME:GMT
DTSTART:20301027T010000
END:STANDARD
BEGIN:DAYLIGHT
TZOFFSETFROM:+0000
TZOFFSETTO:+0100
TZNAME:BST
DTSTART:20310330T010000
END:DAYLIGHT
BEGIN:STANDARD
TZOFFSETFROM:+0100
TZOFFSETTO:+0000
TZNAME:GMT
DTSTART:20311026T010000
END:STANDARD
END:VTIMEZONE
BEGIN:VEVENT
DTSTART;TZID=Europe/London:20300515T100000
DTEND;TZID=Europe/London:20300515T120000
DTSTAMP:20260422T220656
CREATED:20251218T155617Z
LAST-MODIFIED:20251218T155617Z
UID:10007922-1905069600-1905076800@www.ryedalemethodist.org.uk
SUMMARY:Community Coffee and Cake @ Ebberston
DESCRIPTION:Join Us for Our Community Coffee and Cake Morning at Ebberston Methodist Church\n 
URL:https://www.ryedalemethodist.org.uk/event/community-coffee-and-cake-ebberston/2030-05-15/
LOCATION:Ebberston Methodist Church\, 57 Main Street\, Ebberston\, North Yorkshire\, YO13 9NR\, United Kingdom
CATEGORIES:Churches,Coffee,East-Churches,Ebberston,Food,Social
ATTACH;FMTTYPE=image/jpeg:https://www.ryedalemethodist.org.uk/new/wp-content/uploads/2025/12/chocolate-cake-2872128_1280.jpg
ORGANIZER;CN="Graham Ransom":MAILTO:graham.ransom@methodist.org.uk
END:VEVENT
BEGIN:VEVENT
DTSTART;TZID=Europe/London:20300619T100000
DTEND;TZID=Europe/London:20300619T120000
DTSTAMP:20260422T220656
CREATED:20251218T155617Z
LAST-MODIFIED:20251218T155617Z
UID:10007923-1908093600-1908100800@www.ryedalemethodist.org.uk
SUMMARY:Community Coffee and Cake @ Ebberston
DESCRIPTION:Join Us for Our Community Coffee and Cake Morning at Ebberston Methodist Church\n 
URL:https://www.ryedalemethodist.org.uk/event/community-coffee-and-cake-ebberston/2030-06-19/
LOCATION:Ebberston Methodist Church\, 57 Main Street\, Ebberston\, North Yorkshire\, YO13 9NR\, United Kingdom
CATEGORIES:Churches,Coffee,East-Churches,Ebberston,Food,Social
ATTACH;FMTTYPE=image/jpeg:https://www.ryedalemethodist.org.uk/new/wp-content/uploads/2025/12/chocolate-cake-2872128_1280.jpg
ORGANIZER;CN="Graham Ransom":MAILTO:graham.ransom@methodist.org.uk
END:VEVENT
BEGIN:VEVENT
DTSTART;TZID=Europe/London:20300717T100000
DTEND;TZID=Europe/London:20300717T120000
DTSTAMP:20260422T220656
CREATED:20251218T155617Z
LAST-MODIFIED:20251218T155617Z
UID:10007924-1910512800-1910520000@www.ryedalemethodist.org.uk
SUMMARY:Community Coffee and Cake @ Ebberston
DESCRIPTION:Join Us for Our Community Coffee and Cake Morning at Ebberston Methodist Church\n 
URL:https://www.ryedalemethodist.org.uk/event/community-coffee-and-cake-ebberston/2030-07-17/
LOCATION:Ebberston Methodist Church\, 57 Main Street\, Ebberston\, North Yorkshire\, YO13 9NR\, United Kingdom
CATEGORIES:Churches,Coffee,East-Churches,Ebberston,Food,Social
ATTACH;FMTTYPE=image/jpeg:https://www.ryedalemethodist.org.uk/new/wp-content/uploads/2025/12/chocolate-cake-2872128_1280.jpg
ORGANIZER;CN="Graham Ransom":MAILTO:graham.ransom@methodist.org.uk
END:VEVENT
BEGIN:VEVENT
DTSTART;TZID=Europe/London:20300821T100000
DTEND;TZID=Europe/London:20300821T120000
DTSTAMP:20260422T220656
CREATED:20251218T155617Z
LAST-MODIFIED:20251218T155617Z
UID:10007925-1913536800-1913544000@www.ryedalemethodist.org.uk
SUMMARY:Community Coffee and Cake @ Ebberston
DESCRIPTION:Join Us for Our Community Coffee and Cake Morning at Ebberston Methodist Church\n 
URL:https://www.ryedalemethodist.org.uk/event/community-coffee-and-cake-ebberston/2030-08-21/
LOCATION:Ebberston Methodist Church\, 57 Main Street\, Ebberston\, North Yorkshire\, YO13 9NR\, United Kingdom
CATEGORIES:Churches,Coffee,East-Churches,Ebberston,Food,Social
ATTACH;FMTTYPE=image/jpeg:https://www.ryedalemethodist.org.uk/new/wp-content/uploads/2025/12/chocolate-cake-2872128_1280.jpg
ORGANIZER;CN="Graham Ransom":MAILTO:graham.ransom@methodist.org.uk
END:VEVENT
BEGIN:VEVENT
DTSTART;TZID=Europe/London:20300918T100000
DTEND;TZID=Europe/London:20300918T120000
DTSTAMP:20260422T220656
CREATED:20251218T155617Z
LAST-MODIFIED:20251218T155617Z
UID:10007926-1915956000-1915963200@www.ryedalemethodist.org.uk
SUMMARY:Community Coffee and Cake @ Ebberston
DESCRIPTION:Join Us for Our Community Coffee and Cake Morning at Ebberston Methodist Church\n 
URL:https://www.ryedalemethodist.org.uk/event/community-coffee-and-cake-ebberston/2030-09-18/
LOCATION:Ebberston Methodist Church\, 57 Main Street\, Ebberston\, North Yorkshire\, YO13 9NR\, United Kingdom
CATEGORIES:Churches,Coffee,East-Churches,Ebberston,Food,Social
ATTACH;FMTTYPE=image/jpeg:https://www.ryedalemethodist.org.uk/new/wp-content/uploads/2025/12/chocolate-cake-2872128_1280.jpg
ORGANIZER;CN="Graham Ransom":MAILTO:graham.ransom@methodist.org.uk
END:VEVENT
BEGIN:VEVENT
DTSTART;TZID=Europe/London:20301016T100000
DTEND;TZID=Europe/London:20301016T120000
DTSTAMP:20260422T220656
CREATED:20251218T155617Z
LAST-MODIFIED:20251218T155617Z
UID:10007927-1918375200-1918382400@www.ryedalemethodist.org.uk
SUMMARY:Community Coffee and Cake @ Ebberston
DESCRIPTION:Join Us for Our Community Coffee and Cake Morning at Ebberston Methodist Church\n 
URL:https://www.ryedalemethodist.org.uk/event/community-coffee-and-cake-ebberston/2030-10-16/
LOCATION:Ebberston Methodist Church\, 57 Main Street\, Ebberston\, North Yorkshire\, YO13 9NR\, United Kingdom
CATEGORIES:Churches,Coffee,East-Churches,Ebberston,Food,Social
ATTACH;FMTTYPE=image/jpeg:https://www.ryedalemethodist.org.uk/new/wp-content/uploads/2025/12/chocolate-cake-2872128_1280.jpg
ORGANIZER;CN="Graham Ransom":MAILTO:graham.ransom@methodist.org.uk
END:VEVENT
BEGIN:VEVENT
DTSTART;TZID=Europe/London:20301120T100000
DTEND;TZID=Europe/London:20301120T120000
DTSTAMP:20260422T220656
CREATED:20251218T155617Z
LAST-MODIFIED:20251218T155617Z
UID:10007928-1921399200-1921406400@www.ryedalemethodist.org.uk
SUMMARY:Community Coffee and Cake @ Ebberston
DESCRIPTION:Join Us for Our Community Coffee and Cake Morning at Ebberston Methodist Church\n 
URL:https://www.ryedalemethodist.org.uk/event/community-coffee-and-cake-ebberston/2030-11-20/
LOCATION:Ebberston Methodist Church\, 57 Main Street\, Ebberston\, North Yorkshire\, YO13 9NR\, United Kingdom
CATEGORIES:Churches,Coffee,East-Churches,Ebberston,Food,Social
ATTACH;FMTTYPE=image/jpeg:https://www.ryedalemethodist.org.uk/new/wp-content/uploads/2025/12/chocolate-cake-2872128_1280.jpg
ORGANIZER;CN="Graham Ransom":MAILTO:graham.ransom@methodist.org.uk
END:VEVENT
BEGIN:VEVENT
DTSTART;TZID=Europe/London:20301218T100000
DTEND;TZID=Europe/London:20301218T120000
DTSTAMP:20260422T220656
CREATED:20251218T155617Z
LAST-MODIFIED:20251218T155617Z
UID:10007929-1923818400-1923825600@www.ryedalemethodist.org.uk
SUMMARY:Community Coffee and Cake @ Ebberston
DESCRIPTION:Join Us for Our Community Coffee and Cake Morning at Ebberston Methodist Church\n 
URL:https://www.ryedalemethodist.org.uk/event/community-coffee-and-cake-ebberston/2030-12-18/
LOCATION:Ebberston Methodist Church\, 57 Main Street\, Ebberston\, North Yorkshire\, YO13 9NR\, United Kingdom
CATEGORIES:Churches,Coffee,East-Churches,Ebberston,Food,Social
ATTACH;FMTTYPE=image/jpeg:https://www.ryedalemethodist.org.uk/new/wp-content/uploads/2025/12/chocolate-cake-2872128_1280.jpg
ORGANIZER;CN="Graham Ransom":MAILTO:graham.ransom@methodist.org.uk
END:VEVENT
END:VCALENDAR