BEGIN:VCALENDAR
VERSION:2.0
PRODID:-//Ryedale Methodist Circuit - ECPv6.15.20//NONSGML v1.0//EN
CALSCALE:GREGORIAN
METHOD:PUBLISH
X-ORIGINAL-URL:https://www.ryedalemethodist.org.uk
X-WR-CALDESC:Events for Ryedale Methodist Circuit
REFRESH-INTERVAL;VALUE=DURATION:PT1H
X-Robots-Tag:noindex
X-PUBLISHED-TTL:PT1H
BEGIN:VTIMEZONE
TZID:Europe/London
BEGIN:DAYLIGHT
TZOFFSETFROM:+0000
TZOFFSETTO:+0100
TZNAME:BST
DTSTART:20250330T010000
END:DAYLIGHT
BEGIN:STANDARD
TZOFFSETFROM:+0100
TZOFFSETTO:+0000
TZNAME:GMT
DTSTART:20251026T010000
END:STANDARD
BEGIN:DAYLIGHT
TZOFFSETFROM:+0000
TZOFFSETTO:+0100
TZNAME:BST
DTSTART:20260329T010000
END:DAYLIGHT
BEGIN:STANDARD
TZOFFSETFROM:+0100
TZOFFSETTO:+0000
TZNAME:GMT
DTSTART:20261025T010000
END:STANDARD
BEGIN:DAYLIGHT
TZOFFSETFROM:+0000
TZOFFSETTO:+0100
TZNAME:BST
DTSTART:20270328T010000
END:DAYLIGHT
BEGIN:STANDARD
TZOFFSETFROM:+0100
TZOFFSETTO:+0000
TZNAME:GMT
DTSTART:20271031T010000
END:STANDARD
END:VTIMEZONE
BEGIN:VEVENT
DTSTART;TZID=Europe/London:20260526T100000
DTEND;TZID=Europe/London:20260526T113000
DTSTAMP:20260420T224316
CREATED:20251218T154455Z
LAST-MODIFIED:20251218T154455Z
UID:10007302-1779789600-1779795000@www.ryedalemethodist.org.uk
SUMMARY:Oasis Coffee @ Kirkbymoorside
DESCRIPTION:Oasis Coffee Morning\nJoin us on Tuesday mornings from 10-11:30am for our Oasis coffee mornings.  All are welcome to drop in for a coffee\, a chat or simply a quiet space.
URL:https://www.ryedalemethodist.org.uk/event/oasis-coffee-kirkbymoorside/2026-05-26/
LOCATION:Kirkbymoorside Methodist\, 11 Piercy End\, Kirkbymoorside\, North Yorkshire\, YO62 6DQ\, United Kingdom
CATEGORIES:Churches,Coffee,Food,General,Kirkbymoorside,Social
ATTACH;FMTTYPE=image/jpeg:https://www.ryedalemethodist.org.uk/new/wp-content/uploads/2025/12/cup-3426617_1280.jpg
ORGANIZER;CN="Graham Ransom":MAILTO:graham.ransom@methodist.org.uk
END:VEVENT
BEGIN:VEVENT
DTSTART;TZID=Europe/London:20260528T123000
DTEND;TZID=Europe/London:20260528T140000
DTSTAMP:20260420T224316
CREATED:20251218T153907Z
LAST-MODIFIED:20251218T153953Z
UID:10007044-1779971400-1779976800@www.ryedalemethodist.org.uk
SUMMARY:Community Lunch @ Kirkbymoorside Methodist
DESCRIPTION:Join Us on A Thursday Lunchtime for Our Community Lunch\n12:30-2:00pm\nThe Community Luncheon Club works with Ryedale Community Foodbank\, Ryedale Carers\, Next Steps and Churches Together in Kirkbymoorside. It provides not only a hot meal but also a warm safe space and an opportunity to get to know some new friends. All are welcome. \nIf you are willing and wish to help on an occasional basis\, that would be gratefully appreciated. \n 
URL:https://www.ryedalemethodist.org.uk/event/community-lunch-kirkbymoorside-methodist/2026-05-28/
LOCATION:Kirkbymoorside Methodist\, 11 Piercy End\, Kirkbymoorside\, North Yorkshire\, YO62 6DQ\, United Kingdom
CATEGORIES:Churches,Food,General,Kirkbymoorside,Meal
ATTACH;FMTTYPE=image/jpeg:https://www.ryedalemethodist.org.uk/new/wp-content/uploads/2025/12/woman-3723444_960_720.jpg
ORGANIZER;CN="Graham Ransom":MAILTO:graham.ransom@methodist.org.uk
END:VEVENT
BEGIN:VEVENT
DTSTART;TZID=Europe/London:20260531T103000
DTEND;TZID=Europe/London:20260531T113000
DTSTAMP:20260420T224316
CREATED:20260420T120004Z
LAST-MODIFIED:20260420T120204Z
UID:10011072-1780223400-1780227000@www.ryedalemethodist.org.uk
SUMMARY:Sunday Worship @ Kirkbymoorside
DESCRIPTION:Join us on a Sunday Morning at 10:30am for our weekly act of worship.\nOur services are led by our minister\, or local preachers from the Ryedale Methodist circuit.  The service usually lasts around an hour\, and includes the singing of hymns\, readings from the bible\, a reflection on the readings\, and led prayers.  Once a month we also share in bread and wine (communion) to which everyone is welcome. \nFollowing the service tea and coffee are served and we take the opportunity to catch up with one another. \n 
URL:https://www.ryedalemethodist.org.uk/event/sunday-worship-kirkbymoorside/2026-05-31/
LOCATION:Kirkbymoorside Methodist\, 11 Piercy End\, Kirkbymoorside\, North Yorkshire\, YO62 6DQ\, United Kingdom
CATEGORIES:Churches,Faith Event,Kirkbymoorside,Worship
ATTACH;FMTTYPE=image/jpeg:https://www.ryedalemethodist.org.uk/new/wp-content/uploads/2023/10/KMS-Chapel-3.jpg
ORGANIZER;CN="Graham Ransom":MAILTO:graham.ransom@methodist.org.uk
END:VEVENT
END:VCALENDAR