BEGIN:VCALENDAR
VERSION:2.0
PRODID:-//Ryedale Methodist Circuit - ECPv6.15.18//NONSGML v1.0//EN
CALSCALE:GREGORIAN
METHOD:PUBLISH
X-WR-CALNAME:Ryedale Methodist Circuit
X-ORIGINAL-URL:https://www.ryedalemethodist.org.uk
X-WR-CALDESC:Events for Ryedale Methodist Circuit
REFRESH-INTERVAL;VALUE=DURATION:PT1H
X-Robots-Tag:noindex
X-PUBLISHED-TTL:PT1H
BEGIN:VTIMEZONE
TZID:Europe/London
BEGIN:DAYLIGHT
TZOFFSETFROM:+0000
TZOFFSETTO:+0100
TZNAME:BST
DTSTART:20270328T010000
END:DAYLIGHT
BEGIN:STANDARD
TZOFFSETFROM:+0100
TZOFFSETTO:+0000
TZNAME:GMT
DTSTART:20271031T010000
END:STANDARD
BEGIN:DAYLIGHT
TZOFFSETFROM:+0000
TZOFFSETTO:+0100
TZNAME:BST
DTSTART:20280326T010000
END:DAYLIGHT
BEGIN:STANDARD
TZOFFSETFROM:+0100
TZOFFSETTO:+0000
TZNAME:GMT
DTSTART:20281029T010000
END:STANDARD
BEGIN:DAYLIGHT
TZOFFSETFROM:+0000
TZOFFSETTO:+0100
TZNAME:BST
DTSTART:20290325T010000
END:DAYLIGHT
BEGIN:STANDARD
TZOFFSETFROM:+0100
TZOFFSETTO:+0000
TZNAME:GMT
DTSTART:20291028T010000
END:STANDARD
END:VTIMEZONE
BEGIN:VEVENT
DTSTART;TZID=Europe/London:20280222T080000
DTEND;TZID=Europe/London:20280222T160000
DTSTAMP:20260419T184030
CREATED:20260416T065637Z
LAST-MODIFIED:20260416T070941Z
UID:10008686-1834819200-1834848000@www.ryedalemethodist.org.uk
SUMMARY:Chapel Kitchen - Cafe @ Malton Wesley
DESCRIPTION:‘Chapel Kitchen’ @ Malton Wesley\nI’m delighted to announced our new Cafe ‘Chapel Kitchen’ is now open at the Wesley Centre in Malton\, Tuesdays-Fridays\, 8:00am-4:00pm  and Saturdays 10:00-11:30am. \nWe have a brand new menu\, with delicious meals prepared on the premises\, cakes and of course Barista coffees and teas.  Do come and check us out. \n  \n 
URL:https://www.ryedalemethodist.org.uk/event/chapel-kitchen-cafe-malton-wesley/2028-02-22/
LOCATION:Malton Wesley\, Saville St\, Malton\, YO17 7LL\, United Kingdom
CATEGORIES:Circuit,Coffee,Food,General,Malton Wesley,Meal,Social
ATTACH;FMTTYPE=image/jpeg:https://www.ryedalemethodist.org.uk/new/wp-content/uploads/2026/04/cup-3426617_1280.jpg
ORGANIZER;CN="Chapel Kitchen - Malton Wesley":MAILTO:admin@maltonwesleycentre.org
END:VEVENT
BEGIN:VEVENT
DTSTART;TZID=Europe/London:20280223T080000
DTEND;TZID=Europe/London:20280223T160000
DTSTAMP:20260419T184030
CREATED:20260416T065637Z
LAST-MODIFIED:20260416T070941Z
UID:10008687-1834905600-1834934400@www.ryedalemethodist.org.uk
SUMMARY:Chapel Kitchen - Cafe @ Malton Wesley
DESCRIPTION:‘Chapel Kitchen’ @ Malton Wesley\nI’m delighted to announced our new Cafe ‘Chapel Kitchen’ is now open at the Wesley Centre in Malton\, Tuesdays-Fridays\, 8:00am-4:00pm  and Saturdays 10:00-11:30am. \nWe have a brand new menu\, with delicious meals prepared on the premises\, cakes and of course Barista coffees and teas.  Do come and check us out. \n  \n 
URL:https://www.ryedalemethodist.org.uk/event/chapel-kitchen-cafe-malton-wesley/2028-02-23/
LOCATION:Malton Wesley\, Saville St\, Malton\, YO17 7LL\, United Kingdom
CATEGORIES:Circuit,Coffee,Food,General,Malton Wesley,Meal,Social
ATTACH;FMTTYPE=image/jpeg:https://www.ryedalemethodist.org.uk/new/wp-content/uploads/2026/04/cup-3426617_1280.jpg
ORGANIZER;CN="Chapel Kitchen - Malton Wesley":MAILTO:admin@maltonwesleycentre.org
END:VEVENT
BEGIN:VEVENT
DTSTART;TZID=Europe/London:20280224T080000
DTEND;TZID=Europe/London:20280224T160000
DTSTAMP:20260419T184030
CREATED:20260416T065637Z
LAST-MODIFIED:20260416T070941Z
UID:10008688-1834992000-1835020800@www.ryedalemethodist.org.uk
SUMMARY:Chapel Kitchen - Cafe @ Malton Wesley
DESCRIPTION:‘Chapel Kitchen’ @ Malton Wesley\nI’m delighted to announced our new Cafe ‘Chapel Kitchen’ is now open at the Wesley Centre in Malton\, Tuesdays-Fridays\, 8:00am-4:00pm  and Saturdays 10:00-11:30am. \nWe have a brand new menu\, with delicious meals prepared on the premises\, cakes and of course Barista coffees and teas.  Do come and check us out. \n  \n 
URL:https://www.ryedalemethodist.org.uk/event/chapel-kitchen-cafe-malton-wesley/2028-02-24/
LOCATION:Malton Wesley\, Saville St\, Malton\, YO17 7LL\, United Kingdom
CATEGORIES:Circuit,Coffee,Food,General,Malton Wesley,Meal,Social
ATTACH;FMTTYPE=image/jpeg:https://www.ryedalemethodist.org.uk/new/wp-content/uploads/2026/04/cup-3426617_1280.jpg
ORGANIZER;CN="Chapel Kitchen - Malton Wesley":MAILTO:admin@maltonwesleycentre.org
END:VEVENT
BEGIN:VEVENT
DTSTART;TZID=Europe/London:20280225T080000
DTEND;TZID=Europe/London:20280225T160000
DTSTAMP:20260419T184030
CREATED:20260416T065637Z
LAST-MODIFIED:20260416T070941Z
UID:10008689-1835078400-1835107200@www.ryedalemethodist.org.uk
SUMMARY:Chapel Kitchen - Cafe @ Malton Wesley
DESCRIPTION:‘Chapel Kitchen’ @ Malton Wesley\nI’m delighted to announced our new Cafe ‘Chapel Kitchen’ is now open at the Wesley Centre in Malton\, Tuesdays-Fridays\, 8:00am-4:00pm  and Saturdays 10:00-11:30am. \nWe have a brand new menu\, with delicious meals prepared on the premises\, cakes and of course Barista coffees and teas.  Do come and check us out. \n  \n 
URL:https://www.ryedalemethodist.org.uk/event/chapel-kitchen-cafe-malton-wesley/2028-02-25/
LOCATION:Malton Wesley\, Saville St\, Malton\, YO17 7LL\, United Kingdom
CATEGORIES:Circuit,Coffee,Food,General,Malton Wesley,Meal,Social
ATTACH;FMTTYPE=image/jpeg:https://www.ryedalemethodist.org.uk/new/wp-content/uploads/2026/04/cup-3426617_1280.jpg
ORGANIZER;CN="Chapel Kitchen - Malton Wesley":MAILTO:admin@maltonwesleycentre.org
END:VEVENT
BEGIN:VEVENT
DTSTART;TZID=Europe/London:20280226T100000
DTEND;TZID=Europe/London:20280226T113000
DTSTAMP:20260419T184030
CREATED:20260416T071115Z
LAST-MODIFIED:20260416T071115Z
UID:10010484-1835172000-1835177400@www.ryedalemethodist.org.uk
SUMMARY:Chapel Kitchen - Cafe @ Malton Wesley (Saturday)
DESCRIPTION:‘Chapel Kitchen’ @ Malton Wesley\nI’m delighted to announced our new Cafe ‘Chapel Kitchen’ is now open at the Wesley Centre in Malton\, Tuesdays-Fridays\, 8:00am-4:00pm  and Saturdays 10:00-11:30am. \nWe have a brand new menu\, with delicious meals prepared on the premises\, cakes and of course Barista coffees and teas.  Do come and check us out. \n  \n 
URL:https://www.ryedalemethodist.org.uk/event/chapel-kitchen-cafe-malton-wesley-saturday/2028-02-26/
LOCATION:Malton Wesley\, Saville St\, Malton\, YO17 7LL\, United Kingdom
CATEGORIES:Circuit,Coffee,Food,General,Malton Wesley,Meal,Social
ATTACH;FMTTYPE=image/jpeg:https://www.ryedalemethodist.org.uk/new/wp-content/uploads/2026/04/cup-3426617_1280.jpg
ORGANIZER;CN="Chapel Kitchen - Malton Wesley":MAILTO:admin@maltonwesleycentre.org
END:VEVENT
END:VCALENDAR