BEGIN:VCALENDAR
VERSION:2.0
PRODID:-//Ryedale Methodist Circuit - ECPv6.15.18//NONSGML v1.0//EN
CALSCALE:GREGORIAN
METHOD:PUBLISH
X-ORIGINAL-URL:https://www.ryedalemethodist.org.uk
X-WR-CALDESC:Events for Ryedale Methodist Circuit
REFRESH-INTERVAL;VALUE=DURATION:PT1H
X-Robots-Tag:noindex
X-PUBLISHED-TTL:PT1H
BEGIN:VTIMEZONE
TZID:Europe/London
BEGIN:DAYLIGHT
TZOFFSETFROM:+0000
TZOFFSETTO:+0100
TZNAME:BST
DTSTART:20270328T010000
END:DAYLIGHT
BEGIN:STANDARD
TZOFFSETFROM:+0100
TZOFFSETTO:+0000
TZNAME:GMT
DTSTART:20271031T010000
END:STANDARD
BEGIN:DAYLIGHT
TZOFFSETFROM:+0000
TZOFFSETTO:+0100
TZNAME:BST
DTSTART:20280326T010000
END:DAYLIGHT
BEGIN:STANDARD
TZOFFSETFROM:+0100
TZOFFSETTO:+0000
TZNAME:GMT
DTSTART:20281029T010000
END:STANDARD
BEGIN:DAYLIGHT
TZOFFSETFROM:+0000
TZOFFSETTO:+0100
TZNAME:BST
DTSTART:20290325T010000
END:DAYLIGHT
BEGIN:STANDARD
TZOFFSETFROM:+0100
TZOFFSETTO:+0000
TZNAME:GMT
DTSTART:20291028T010000
END:STANDARD
END:VTIMEZONE
BEGIN:VEVENT
DTSTART;TZID=Europe/London:20280314T080000
DTEND;TZID=Europe/London:20280314T160000
DTSTAMP:20260419T201039
CREATED:20260416T065637Z
LAST-MODIFIED:20260416T070941Z
UID:10008698-1836633600-1836662400@www.ryedalemethodist.org.uk
SUMMARY:Chapel Kitchen - Cafe @ Malton Wesley
DESCRIPTION:‘Chapel Kitchen’ @ Malton Wesley\nI’m delighted to announced our new Cafe ‘Chapel Kitchen’ is now open at the Wesley Centre in Malton\, Tuesdays-Fridays\, 8:00am-4:00pm  and Saturdays 10:00-11:30am. \nWe have a brand new menu\, with delicious meals prepared on the premises\, cakes and of course Barista coffees and teas.  Do come and check us out. \n  \n 
URL:https://www.ryedalemethodist.org.uk/event/chapel-kitchen-cafe-malton-wesley/2028-03-14/
LOCATION:Malton Wesley\, Saville St\, Malton\, YO17 7LL\, United Kingdom
CATEGORIES:Circuit,Coffee,Food,General,Malton Wesley,Meal,Social
ATTACH;FMTTYPE=image/jpeg:https://www.ryedalemethodist.org.uk/new/wp-content/uploads/2026/04/cup-3426617_1280.jpg
ORGANIZER;CN="Chapel Kitchen - Malton Wesley":MAILTO:admin@maltonwesleycentre.org
END:VEVENT
BEGIN:VEVENT
DTSTART;TZID=Europe/London:20280315T080000
DTEND;TZID=Europe/London:20280315T160000
DTSTAMP:20260419T201039
CREATED:20260416T065637Z
LAST-MODIFIED:20260416T070941Z
UID:10008699-1836720000-1836748800@www.ryedalemethodist.org.uk
SUMMARY:Chapel Kitchen - Cafe @ Malton Wesley
DESCRIPTION:‘Chapel Kitchen’ @ Malton Wesley\nI’m delighted to announced our new Cafe ‘Chapel Kitchen’ is now open at the Wesley Centre in Malton\, Tuesdays-Fridays\, 8:00am-4:00pm  and Saturdays 10:00-11:30am. \nWe have a brand new menu\, with delicious meals prepared on the premises\, cakes and of course Barista coffees and teas.  Do come and check us out. \n  \n 
URL:https://www.ryedalemethodist.org.uk/event/chapel-kitchen-cafe-malton-wesley/2028-03-15/
LOCATION:Malton Wesley\, Saville St\, Malton\, YO17 7LL\, United Kingdom
CATEGORIES:Circuit,Coffee,Food,General,Malton Wesley,Meal,Social
ATTACH;FMTTYPE=image/jpeg:https://www.ryedalemethodist.org.uk/new/wp-content/uploads/2026/04/cup-3426617_1280.jpg
ORGANIZER;CN="Chapel Kitchen - Malton Wesley":MAILTO:admin@maltonwesleycentre.org
END:VEVENT
BEGIN:VEVENT
DTSTART;TZID=Europe/London:20280316T080000
DTEND;TZID=Europe/London:20280316T160000
DTSTAMP:20260419T201039
CREATED:20260416T065637Z
LAST-MODIFIED:20260416T070941Z
UID:10008700-1836806400-1836835200@www.ryedalemethodist.org.uk
SUMMARY:Chapel Kitchen - Cafe @ Malton Wesley
DESCRIPTION:‘Chapel Kitchen’ @ Malton Wesley\nI’m delighted to announced our new Cafe ‘Chapel Kitchen’ is now open at the Wesley Centre in Malton\, Tuesdays-Fridays\, 8:00am-4:00pm  and Saturdays 10:00-11:30am. \nWe have a brand new menu\, with delicious meals prepared on the premises\, cakes and of course Barista coffees and teas.  Do come and check us out. \n  \n 
URL:https://www.ryedalemethodist.org.uk/event/chapel-kitchen-cafe-malton-wesley/2028-03-16/
LOCATION:Malton Wesley\, Saville St\, Malton\, YO17 7LL\, United Kingdom
CATEGORIES:Circuit,Coffee,Food,General,Malton Wesley,Meal,Social
ATTACH;FMTTYPE=image/jpeg:https://www.ryedalemethodist.org.uk/new/wp-content/uploads/2026/04/cup-3426617_1280.jpg
ORGANIZER;CN="Chapel Kitchen - Malton Wesley":MAILTO:admin@maltonwesleycentre.org
END:VEVENT
BEGIN:VEVENT
DTSTART;TZID=Europe/London:20280317T080000
DTEND;TZID=Europe/London:20280317T160000
DTSTAMP:20260419T201039
CREATED:20260416T065637Z
LAST-MODIFIED:20260416T070941Z
UID:10008701-1836892800-1836921600@www.ryedalemethodist.org.uk
SUMMARY:Chapel Kitchen - Cafe @ Malton Wesley
DESCRIPTION:‘Chapel Kitchen’ @ Malton Wesley\nI’m delighted to announced our new Cafe ‘Chapel Kitchen’ is now open at the Wesley Centre in Malton\, Tuesdays-Fridays\, 8:00am-4:00pm  and Saturdays 10:00-11:30am. \nWe have a brand new menu\, with delicious meals prepared on the premises\, cakes and of course Barista coffees and teas.  Do come and check us out. \n  \n 
URL:https://www.ryedalemethodist.org.uk/event/chapel-kitchen-cafe-malton-wesley/2028-03-17/
LOCATION:Malton Wesley\, Saville St\, Malton\, YO17 7LL\, United Kingdom
CATEGORIES:Circuit,Coffee,Food,General,Malton Wesley,Meal,Social
ATTACH;FMTTYPE=image/jpeg:https://www.ryedalemethodist.org.uk/new/wp-content/uploads/2026/04/cup-3426617_1280.jpg
ORGANIZER;CN="Chapel Kitchen - Malton Wesley":MAILTO:admin@maltonwesleycentre.org
END:VEVENT
BEGIN:VEVENT
DTSTART;TZID=Europe/London:20280318T100000
DTEND;TZID=Europe/London:20280318T113000
DTSTAMP:20260419T201039
CREATED:20260416T071115Z
LAST-MODIFIED:20260416T071115Z
UID:10010487-1836986400-1836991800@www.ryedalemethodist.org.uk
SUMMARY:Chapel Kitchen - Cafe @ Malton Wesley (Saturday)
DESCRIPTION:‘Chapel Kitchen’ @ Malton Wesley\nI’m delighted to announced our new Cafe ‘Chapel Kitchen’ is now open at the Wesley Centre in Malton\, Tuesdays-Fridays\, 8:00am-4:00pm  and Saturdays 10:00-11:30am. \nWe have a brand new menu\, with delicious meals prepared on the premises\, cakes and of course Barista coffees and teas.  Do come and check us out. \n  \n 
URL:https://www.ryedalemethodist.org.uk/event/chapel-kitchen-cafe-malton-wesley-saturday/2028-03-18/
LOCATION:Malton Wesley\, Saville St\, Malton\, YO17 7LL\, United Kingdom
CATEGORIES:Circuit,Coffee,Food,General,Malton Wesley,Meal,Social
ATTACH;FMTTYPE=image/jpeg:https://www.ryedalemethodist.org.uk/new/wp-content/uploads/2026/04/cup-3426617_1280.jpg
ORGANIZER;CN="Chapel Kitchen - Malton Wesley":MAILTO:admin@maltonwesleycentre.org
END:VEVENT
END:VCALENDAR