BEGIN:VCALENDAR
VERSION:2.0
PRODID:-//Ryedale Methodist Circuit - ECPv6.15.20//NONSGML v1.0//EN
CALSCALE:GREGORIAN
METHOD:PUBLISH
X-ORIGINAL-URL:https://www.ryedalemethodist.org.uk
X-WR-CALDESC:Events for Ryedale Methodist Circuit
REFRESH-INTERVAL;VALUE=DURATION:PT1H
X-Robots-Tag:noindex
X-PUBLISHED-TTL:PT1H
BEGIN:VTIMEZONE
TZID:Europe/London
BEGIN:DAYLIGHT
TZOFFSETFROM:+0000
TZOFFSETTO:+0100
TZNAME:BST
DTSTART:20270328T010000
END:DAYLIGHT
BEGIN:STANDARD
TZOFFSETFROM:+0100
TZOFFSETTO:+0000
TZNAME:GMT
DTSTART:20271031T010000
END:STANDARD
BEGIN:DAYLIGHT
TZOFFSETFROM:+0000
TZOFFSETTO:+0100
TZNAME:BST
DTSTART:20280326T010000
END:DAYLIGHT
BEGIN:STANDARD
TZOFFSETFROM:+0100
TZOFFSETTO:+0000
TZNAME:GMT
DTSTART:20281029T010000
END:STANDARD
BEGIN:DAYLIGHT
TZOFFSETFROM:+0000
TZOFFSETTO:+0100
TZNAME:BST
DTSTART:20290325T010000
END:DAYLIGHT
BEGIN:STANDARD
TZOFFSETFROM:+0100
TZOFFSETTO:+0000
TZNAME:GMT
DTSTART:20291028T010000
END:STANDARD
END:VTIMEZONE
BEGIN:VEVENT
DTSTART;TZID=Europe/London:20280321T080000
DTEND;TZID=Europe/London:20280321T160000
DTSTAMP:20260420T220619
CREATED:20260416T065637Z
LAST-MODIFIED:20260416T070941Z
UID:10008702-1837238400-1837267200@www.ryedalemethodist.org.uk
SUMMARY:Chapel Kitchen - Cafe @ Malton Wesley
DESCRIPTION:‘Chapel Kitchen’ @ Malton Wesley\nI’m delighted to announced our new Cafe ‘Chapel Kitchen’ is now open at the Wesley Centre in Malton\, Tuesdays-Fridays\, 8:00am-4:00pm  and Saturdays 10:00-11:30am. \nWe have a brand new menu\, with delicious meals prepared on the premises\, cakes and of course Barista coffees and teas.  Do come and check us out. \n  \n 
URL:https://www.ryedalemethodist.org.uk/event/chapel-kitchen-cafe-malton-wesley/2028-03-21/
LOCATION:Malton Wesley\, Saville St\, Malton\, YO17 7LL\, United Kingdom
CATEGORIES:Circuit,Coffee,Food,General,Malton Wesley,Meal,Social
ATTACH;FMTTYPE=image/jpeg:https://www.ryedalemethodist.org.uk/new/wp-content/uploads/2026/04/cup-3426617_1280.jpg
ORGANIZER;CN="Chapel Kitchen - Malton Wesley":MAILTO:admin@maltonwesleycentre.org
END:VEVENT
BEGIN:VEVENT
DTSTART;TZID=Europe/London:20280322T080000
DTEND;TZID=Europe/London:20280322T160000
DTSTAMP:20260420T220619
CREATED:20260416T065637Z
LAST-MODIFIED:20260416T070941Z
UID:10008703-1837324800-1837353600@www.ryedalemethodist.org.uk
SUMMARY:Chapel Kitchen - Cafe @ Malton Wesley
DESCRIPTION:‘Chapel Kitchen’ @ Malton Wesley\nI’m delighted to announced our new Cafe ‘Chapel Kitchen’ is now open at the Wesley Centre in Malton\, Tuesdays-Fridays\, 8:00am-4:00pm  and Saturdays 10:00-11:30am. \nWe have a brand new menu\, with delicious meals prepared on the premises\, cakes and of course Barista coffees and teas.  Do come and check us out. \n  \n 
URL:https://www.ryedalemethodist.org.uk/event/chapel-kitchen-cafe-malton-wesley/2028-03-22/
LOCATION:Malton Wesley\, Saville St\, Malton\, YO17 7LL\, United Kingdom
CATEGORIES:Circuit,Coffee,Food,General,Malton Wesley,Meal,Social
ATTACH;FMTTYPE=image/jpeg:https://www.ryedalemethodist.org.uk/new/wp-content/uploads/2026/04/cup-3426617_1280.jpg
ORGANIZER;CN="Chapel Kitchen - Malton Wesley":MAILTO:admin@maltonwesleycentre.org
END:VEVENT
BEGIN:VEVENT
DTSTART;TZID=Europe/London:20280323T080000
DTEND;TZID=Europe/London:20280323T160000
DTSTAMP:20260420T220619
CREATED:20260416T065637Z
LAST-MODIFIED:20260416T070941Z
UID:10008704-1837411200-1837440000@www.ryedalemethodist.org.uk
SUMMARY:Chapel Kitchen - Cafe @ Malton Wesley
DESCRIPTION:‘Chapel Kitchen’ @ Malton Wesley\nI’m delighted to announced our new Cafe ‘Chapel Kitchen’ is now open at the Wesley Centre in Malton\, Tuesdays-Fridays\, 8:00am-4:00pm  and Saturdays 10:00-11:30am. \nWe have a brand new menu\, with delicious meals prepared on the premises\, cakes and of course Barista coffees and teas.  Do come and check us out. \n  \n 
URL:https://www.ryedalemethodist.org.uk/event/chapel-kitchen-cafe-malton-wesley/2028-03-23/
LOCATION:Malton Wesley\, Saville St\, Malton\, YO17 7LL\, United Kingdom
CATEGORIES:Circuit,Coffee,Food,General,Malton Wesley,Meal,Social
ATTACH;FMTTYPE=image/jpeg:https://www.ryedalemethodist.org.uk/new/wp-content/uploads/2026/04/cup-3426617_1280.jpg
ORGANIZER;CN="Chapel Kitchen - Malton Wesley":MAILTO:admin@maltonwesleycentre.org
END:VEVENT
BEGIN:VEVENT
DTSTART;TZID=Europe/London:20280324T080000
DTEND;TZID=Europe/London:20280324T160000
DTSTAMP:20260420T220619
CREATED:20260416T065637Z
LAST-MODIFIED:20260416T070941Z
UID:10008705-1837497600-1837526400@www.ryedalemethodist.org.uk
SUMMARY:Chapel Kitchen - Cafe @ Malton Wesley
DESCRIPTION:‘Chapel Kitchen’ @ Malton Wesley\nI’m delighted to announced our new Cafe ‘Chapel Kitchen’ is now open at the Wesley Centre in Malton\, Tuesdays-Fridays\, 8:00am-4:00pm  and Saturdays 10:00-11:30am. \nWe have a brand new menu\, with delicious meals prepared on the premises\, cakes and of course Barista coffees and teas.  Do come and check us out. \n  \n 
URL:https://www.ryedalemethodist.org.uk/event/chapel-kitchen-cafe-malton-wesley/2028-03-24/
LOCATION:Malton Wesley\, Saville St\, Malton\, YO17 7LL\, United Kingdom
CATEGORIES:Circuit,Coffee,Food,General,Malton Wesley,Meal,Social
ATTACH;FMTTYPE=image/jpeg:https://www.ryedalemethodist.org.uk/new/wp-content/uploads/2026/04/cup-3426617_1280.jpg
ORGANIZER;CN="Chapel Kitchen - Malton Wesley":MAILTO:admin@maltonwesleycentre.org
END:VEVENT
BEGIN:VEVENT
DTSTART;TZID=Europe/London:20280325T100000
DTEND;TZID=Europe/London:20280325T113000
DTSTAMP:20260420T220619
CREATED:20260416T071115Z
LAST-MODIFIED:20260416T071115Z
UID:10010488-1837591200-1837596600@www.ryedalemethodist.org.uk
SUMMARY:Chapel Kitchen - Cafe @ Malton Wesley (Saturday)
DESCRIPTION:‘Chapel Kitchen’ @ Malton Wesley\nI’m delighted to announced our new Cafe ‘Chapel Kitchen’ is now open at the Wesley Centre in Malton\, Tuesdays-Fridays\, 8:00am-4:00pm  and Saturdays 10:00-11:30am. \nWe have a brand new menu\, with delicious meals prepared on the premises\, cakes and of course Barista coffees and teas.  Do come and check us out. \n  \n 
URL:https://www.ryedalemethodist.org.uk/event/chapel-kitchen-cafe-malton-wesley-saturday/2028-03-25/
LOCATION:Malton Wesley\, Saville St\, Malton\, YO17 7LL\, United Kingdom
CATEGORIES:Circuit,Coffee,Food,General,Malton Wesley,Meal,Social
ATTACH;FMTTYPE=image/jpeg:https://www.ryedalemethodist.org.uk/new/wp-content/uploads/2026/04/cup-3426617_1280.jpg
ORGANIZER;CN="Chapel Kitchen - Malton Wesley":MAILTO:admin@maltonwesleycentre.org
END:VEVENT
END:VCALENDAR