BEGIN:VCALENDAR
VERSION:2.0
PRODID:-//Ryedale Methodist Circuit - ECPv6.15.20//NONSGML v1.0//EN
CALSCALE:GREGORIAN
METHOD:PUBLISH
X-WR-CALNAME:Ryedale Methodist Circuit
X-ORIGINAL-URL:https://www.ryedalemethodist.org.uk
X-WR-CALDESC:Events for Ryedale Methodist Circuit
REFRESH-INTERVAL;VALUE=DURATION:PT1H
X-Robots-Tag:noindex
X-PUBLISHED-TTL:PT1H
BEGIN:VTIMEZONE
TZID:Europe/London
BEGIN:DAYLIGHT
TZOFFSETFROM:+0000
TZOFFSETTO:+0100
TZNAME:BST
DTSTART:20260329T010000
END:DAYLIGHT
BEGIN:STANDARD
TZOFFSETFROM:+0100
TZOFFSETTO:+0000
TZNAME:GMT
DTSTART:20261025T010000
END:STANDARD
BEGIN:DAYLIGHT
TZOFFSETFROM:+0000
TZOFFSETTO:+0100
TZNAME:BST
DTSTART:20270328T010000
END:DAYLIGHT
BEGIN:STANDARD
TZOFFSETFROM:+0100
TZOFFSETTO:+0000
TZNAME:GMT
DTSTART:20271031T010000
END:STANDARD
BEGIN:DAYLIGHT
TZOFFSETFROM:+0000
TZOFFSETTO:+0100
TZNAME:BST
DTSTART:20280326T010000
END:DAYLIGHT
BEGIN:STANDARD
TZOFFSETFROM:+0100
TZOFFSETTO:+0000
TZNAME:GMT
DTSTART:20281029T010000
END:STANDARD
BEGIN:DAYLIGHT
TZOFFSETFROM:+0000
TZOFFSETTO:+0100
TZNAME:BST
DTSTART:20290325T010000
END:DAYLIGHT
BEGIN:STANDARD
TZOFFSETFROM:+0100
TZOFFSETTO:+0000
TZNAME:GMT
DTSTART:20291028T010000
END:STANDARD
END:VTIMEZONE
BEGIN:VEVENT
DTSTART;TZID=Europe/London:20270818T100000
DTEND;TZID=Europe/London:20270818T120000
DTSTAMP:20260422T061438
CREATED:20251218T155617Z
LAST-MODIFIED:20251218T155617Z
UID:10007889-1818583200-1818590400@www.ryedalemethodist.org.uk
SUMMARY:Community Coffee and Cake @ Ebberston
DESCRIPTION:Join Us for Our Community Coffee and Cake Morning at Ebberston Methodist Church\n 
URL:https://www.ryedalemethodist.org.uk/event/community-coffee-and-cake-ebberston/2027-08-18/
LOCATION:Ebberston Methodist Church\, 57 Main Street\, Ebberston\, North Yorkshire\, YO13 9NR\, United Kingdom
CATEGORIES:Churches,Coffee,East-Churches,Ebberston,Food,Social
ATTACH;FMTTYPE=image/jpeg:https://www.ryedalemethodist.org.uk/new/wp-content/uploads/2025/12/chocolate-cake-2872128_1280.jpg
ORGANIZER;CN="Graham Ransom":MAILTO:graham.ransom@methodist.org.uk
END:VEVENT
BEGIN:VEVENT
DTSTART;TZID=Europe/London:20270824T100000
DTEND;TZID=Europe/London:20270824T113000
DTSTAMP:20260422T061438
CREATED:20251218T154455Z
LAST-MODIFIED:20251218T154455Z
UID:10007367-1819101600-1819107000@www.ryedalemethodist.org.uk
SUMMARY:Oasis Coffee @ Kirkbymoorside
DESCRIPTION:Oasis Coffee Morning\nJoin us on Tuesday mornings from 10-11:30am for our Oasis coffee mornings.  All are welcome to drop in for a coffee\, a chat or simply a quiet space.
URL:https://www.ryedalemethodist.org.uk/event/oasis-coffee-kirkbymoorside/2027-08-24/
LOCATION:Kirkbymoorside Methodist\, 11 Piercy End\, Kirkbymoorside\, North Yorkshire\, YO62 6DQ\, United Kingdom
CATEGORIES:Churches,Coffee,Food,General,Kirkbymoorside,Social
ATTACH;FMTTYPE=image/jpeg:https://www.ryedalemethodist.org.uk/new/wp-content/uploads/2025/12/cup-3426617_1280.jpg
ORGANIZER;CN="Graham Ransom":MAILTO:graham.ransom@methodist.org.uk
END:VEVENT
BEGIN:VEVENT
DTSTART;TZID=Europe/London:20270831T100000
DTEND;TZID=Europe/London:20270831T113000
DTSTAMP:20260422T061438
CREATED:20251218T154455Z
LAST-MODIFIED:20251218T154455Z
UID:10007368-1819706400-1819711800@www.ryedalemethodist.org.uk
SUMMARY:Oasis Coffee @ Kirkbymoorside
DESCRIPTION:Oasis Coffee Morning\nJoin us on Tuesday mornings from 10-11:30am for our Oasis coffee mornings.  All are welcome to drop in for a coffee\, a chat or simply a quiet space.
URL:https://www.ryedalemethodist.org.uk/event/oasis-coffee-kirkbymoorside/2027-08-31/
LOCATION:Kirkbymoorside Methodist\, 11 Piercy End\, Kirkbymoorside\, North Yorkshire\, YO62 6DQ\, United Kingdom
CATEGORIES:Churches,Coffee,Food,General,Kirkbymoorside,Social
ATTACH;FMTTYPE=image/jpeg:https://www.ryedalemethodist.org.uk/new/wp-content/uploads/2025/12/cup-3426617_1280.jpg
ORGANIZER;CN="Graham Ransom":MAILTO:graham.ransom@methodist.org.uk
END:VEVENT
BEGIN:VEVENT
DTSTART;TZID=Europe/London:20270907T100000
DTEND;TZID=Europe/London:20270907T113000
DTSTAMP:20260422T061438
CREATED:20251218T154455Z
LAST-MODIFIED:20251218T154455Z
UID:10007369-1820311200-1820316600@www.ryedalemethodist.org.uk
SUMMARY:Oasis Coffee @ Kirkbymoorside
DESCRIPTION:Oasis Coffee Morning\nJoin us on Tuesday mornings from 10-11:30am for our Oasis coffee mornings.  All are welcome to drop in for a coffee\, a chat or simply a quiet space.
URL:https://www.ryedalemethodist.org.uk/event/oasis-coffee-kirkbymoorside/2027-09-07/
LOCATION:Kirkbymoorside Methodist\, 11 Piercy End\, Kirkbymoorside\, North Yorkshire\, YO62 6DQ\, United Kingdom
CATEGORIES:Churches,Coffee,Food,General,Kirkbymoorside,Social
ATTACH;FMTTYPE=image/jpeg:https://www.ryedalemethodist.org.uk/new/wp-content/uploads/2025/12/cup-3426617_1280.jpg
ORGANIZER;CN="Graham Ransom":MAILTO:graham.ransom@methodist.org.uk
END:VEVENT
BEGIN:VEVENT
DTSTART;TZID=Europe/London:20270914T100000
DTEND;TZID=Europe/London:20270914T113000
DTSTAMP:20260422T061438
CREATED:20251218T154455Z
LAST-MODIFIED:20251218T154455Z
UID:10007370-1820916000-1820921400@www.ryedalemethodist.org.uk
SUMMARY:Oasis Coffee @ Kirkbymoorside
DESCRIPTION:Oasis Coffee Morning\nJoin us on Tuesday mornings from 10-11:30am for our Oasis coffee mornings.  All are welcome to drop in for a coffee\, a chat or simply a quiet space.
URL:https://www.ryedalemethodist.org.uk/event/oasis-coffee-kirkbymoorside/2027-09-14/
LOCATION:Kirkbymoorside Methodist\, 11 Piercy End\, Kirkbymoorside\, North Yorkshire\, YO62 6DQ\, United Kingdom
CATEGORIES:Churches,Coffee,Food,General,Kirkbymoorside,Social
ATTACH;FMTTYPE=image/jpeg:https://www.ryedalemethodist.org.uk/new/wp-content/uploads/2025/12/cup-3426617_1280.jpg
ORGANIZER;CN="Graham Ransom":MAILTO:graham.ransom@methodist.org.uk
END:VEVENT
BEGIN:VEVENT
DTSTART;TZID=Europe/London:20270915T100000
DTEND;TZID=Europe/London:20270915T120000
DTSTAMP:20260422T061438
CREATED:20251218T155617Z
LAST-MODIFIED:20251218T155617Z
UID:10007890-1821002400-1821009600@www.ryedalemethodist.org.uk
SUMMARY:Community Coffee and Cake @ Ebberston
DESCRIPTION:Join Us for Our Community Coffee and Cake Morning at Ebberston Methodist Church\n 
URL:https://www.ryedalemethodist.org.uk/event/community-coffee-and-cake-ebberston/2027-09-15/
LOCATION:Ebberston Methodist Church\, 57 Main Street\, Ebberston\, North Yorkshire\, YO13 9NR\, United Kingdom
CATEGORIES:Churches,Coffee,East-Churches,Ebberston,Food,Social
ATTACH;FMTTYPE=image/jpeg:https://www.ryedalemethodist.org.uk/new/wp-content/uploads/2025/12/chocolate-cake-2872128_1280.jpg
ORGANIZER;CN="Graham Ransom":MAILTO:graham.ransom@methodist.org.uk
END:VEVENT
BEGIN:VEVENT
DTSTART;TZID=Europe/London:20270921T100000
DTEND;TZID=Europe/London:20270921T113000
DTSTAMP:20260422T061438
CREATED:20251218T154455Z
LAST-MODIFIED:20251218T154455Z
UID:10007371-1821520800-1821526200@www.ryedalemethodist.org.uk
SUMMARY:Oasis Coffee @ Kirkbymoorside
DESCRIPTION:Oasis Coffee Morning\nJoin us on Tuesday mornings from 10-11:30am for our Oasis coffee mornings.  All are welcome to drop in for a coffee\, a chat or simply a quiet space.
URL:https://www.ryedalemethodist.org.uk/event/oasis-coffee-kirkbymoorside/2027-09-21/
LOCATION:Kirkbymoorside Methodist\, 11 Piercy End\, Kirkbymoorside\, North Yorkshire\, YO62 6DQ\, United Kingdom
CATEGORIES:Churches,Coffee,Food,General,Kirkbymoorside,Social
ATTACH;FMTTYPE=image/jpeg:https://www.ryedalemethodist.org.uk/new/wp-content/uploads/2025/12/cup-3426617_1280.jpg
ORGANIZER;CN="Graham Ransom":MAILTO:graham.ransom@methodist.org.uk
END:VEVENT
BEGIN:VEVENT
DTSTART;TZID=Europe/London:20270928T100000
DTEND;TZID=Europe/London:20270928T113000
DTSTAMP:20260422T061438
CREATED:20251218T154455Z
LAST-MODIFIED:20251218T154455Z
UID:10007372-1822125600-1822131000@www.ryedalemethodist.org.uk
SUMMARY:Oasis Coffee @ Kirkbymoorside
DESCRIPTION:Oasis Coffee Morning\nJoin us on Tuesday mornings from 10-11:30am for our Oasis coffee mornings.  All are welcome to drop in for a coffee\, a chat or simply a quiet space.
URL:https://www.ryedalemethodist.org.uk/event/oasis-coffee-kirkbymoorside/2027-09-28/
LOCATION:Kirkbymoorside Methodist\, 11 Piercy End\, Kirkbymoorside\, North Yorkshire\, YO62 6DQ\, United Kingdom
CATEGORIES:Churches,Coffee,Food,General,Kirkbymoorside,Social
ATTACH;FMTTYPE=image/jpeg:https://www.ryedalemethodist.org.uk/new/wp-content/uploads/2025/12/cup-3426617_1280.jpg
ORGANIZER;CN="Graham Ransom":MAILTO:graham.ransom@methodist.org.uk
END:VEVENT
BEGIN:VEVENT
DTSTART;TZID=Europe/London:20271005T100000
DTEND;TZID=Europe/London:20271005T113000
DTSTAMP:20260422T061438
CREATED:20251218T154455Z
LAST-MODIFIED:20251218T154455Z
UID:10007373-1822730400-1822735800@www.ryedalemethodist.org.uk
SUMMARY:Oasis Coffee @ Kirkbymoorside
DESCRIPTION:Oasis Coffee Morning\nJoin us on Tuesday mornings from 10-11:30am for our Oasis coffee mornings.  All are welcome to drop in for a coffee\, a chat or simply a quiet space.
URL:https://www.ryedalemethodist.org.uk/event/oasis-coffee-kirkbymoorside/2027-10-05/
LOCATION:Kirkbymoorside Methodist\, 11 Piercy End\, Kirkbymoorside\, North Yorkshire\, YO62 6DQ\, United Kingdom
CATEGORIES:Churches,Coffee,Food,General,Kirkbymoorside,Social
ATTACH;FMTTYPE=image/jpeg:https://www.ryedalemethodist.org.uk/new/wp-content/uploads/2025/12/cup-3426617_1280.jpg
ORGANIZER;CN="Graham Ransom":MAILTO:graham.ransom@methodist.org.uk
END:VEVENT
BEGIN:VEVENT
DTSTART;TZID=Europe/London:20271012T100000
DTEND;TZID=Europe/London:20271012T113000
DTSTAMP:20260422T061438
CREATED:20251218T154455Z
LAST-MODIFIED:20251218T154455Z
UID:10007374-1823335200-1823340600@www.ryedalemethodist.org.uk
SUMMARY:Oasis Coffee @ Kirkbymoorside
DESCRIPTION:Oasis Coffee Morning\nJoin us on Tuesday mornings from 10-11:30am for our Oasis coffee mornings.  All are welcome to drop in for a coffee\, a chat or simply a quiet space.
URL:https://www.ryedalemethodist.org.uk/event/oasis-coffee-kirkbymoorside/2027-10-12/
LOCATION:Kirkbymoorside Methodist\, 11 Piercy End\, Kirkbymoorside\, North Yorkshire\, YO62 6DQ\, United Kingdom
CATEGORIES:Churches,Coffee,Food,General,Kirkbymoorside,Social
ATTACH;FMTTYPE=image/jpeg:https://www.ryedalemethodist.org.uk/new/wp-content/uploads/2025/12/cup-3426617_1280.jpg
ORGANIZER;CN="Graham Ransom":MAILTO:graham.ransom@methodist.org.uk
END:VEVENT
BEGIN:VEVENT
DTSTART;TZID=Europe/London:20271019T100000
DTEND;TZID=Europe/London:20271019T113000
DTSTAMP:20260422T061438
CREATED:20251218T154455Z
LAST-MODIFIED:20251218T154455Z
UID:10007375-1823940000-1823945400@www.ryedalemethodist.org.uk
SUMMARY:Oasis Coffee @ Kirkbymoorside
DESCRIPTION:Oasis Coffee Morning\nJoin us on Tuesday mornings from 10-11:30am for our Oasis coffee mornings.  All are welcome to drop in for a coffee\, a chat or simply a quiet space.
URL:https://www.ryedalemethodist.org.uk/event/oasis-coffee-kirkbymoorside/2027-10-19/
LOCATION:Kirkbymoorside Methodist\, 11 Piercy End\, Kirkbymoorside\, North Yorkshire\, YO62 6DQ\, United Kingdom
CATEGORIES:Churches,Coffee,Food,General,Kirkbymoorside,Social
ATTACH;FMTTYPE=image/jpeg:https://www.ryedalemethodist.org.uk/new/wp-content/uploads/2025/12/cup-3426617_1280.jpg
ORGANIZER;CN="Graham Ransom":MAILTO:graham.ransom@methodist.org.uk
END:VEVENT
BEGIN:VEVENT
DTSTART;TZID=Europe/London:20271020T100000
DTEND;TZID=Europe/London:20271020T120000
DTSTAMP:20260422T061438
CREATED:20251218T155617Z
LAST-MODIFIED:20251218T155617Z
UID:10007891-1824026400-1824033600@www.ryedalemethodist.org.uk
SUMMARY:Community Coffee and Cake @ Ebberston
DESCRIPTION:Join Us for Our Community Coffee and Cake Morning at Ebberston Methodist Church\n 
URL:https://www.ryedalemethodist.org.uk/event/community-coffee-and-cake-ebberston/2027-10-20/
LOCATION:Ebberston Methodist Church\, 57 Main Street\, Ebberston\, North Yorkshire\, YO13 9NR\, United Kingdom
CATEGORIES:Churches,Coffee,East-Churches,Ebberston,Food,Social
ATTACH;FMTTYPE=image/jpeg:https://www.ryedalemethodist.org.uk/new/wp-content/uploads/2025/12/chocolate-cake-2872128_1280.jpg
ORGANIZER;CN="Graham Ransom":MAILTO:graham.ransom@methodist.org.uk
END:VEVENT
BEGIN:VEVENT
DTSTART;TZID=Europe/London:20271026T100000
DTEND;TZID=Europe/London:20271026T113000
DTSTAMP:20260422T061438
CREATED:20251218T154455Z
LAST-MODIFIED:20251218T154455Z
UID:10007376-1824544800-1824550200@www.ryedalemethodist.org.uk
SUMMARY:Oasis Coffee @ Kirkbymoorside
DESCRIPTION:Oasis Coffee Morning\nJoin us on Tuesday mornings from 10-11:30am for our Oasis coffee mornings.  All are welcome to drop in for a coffee\, a chat or simply a quiet space.
URL:https://www.ryedalemethodist.org.uk/event/oasis-coffee-kirkbymoorside/2027-10-26/
LOCATION:Kirkbymoorside Methodist\, 11 Piercy End\, Kirkbymoorside\, North Yorkshire\, YO62 6DQ\, United Kingdom
CATEGORIES:Churches,Coffee,Food,General,Kirkbymoorside,Social
ATTACH;FMTTYPE=image/jpeg:https://www.ryedalemethodist.org.uk/new/wp-content/uploads/2025/12/cup-3426617_1280.jpg
ORGANIZER;CN="Graham Ransom":MAILTO:graham.ransom@methodist.org.uk
END:VEVENT
BEGIN:VEVENT
DTSTART;TZID=Europe/London:20271102T100000
DTEND;TZID=Europe/London:20271102T113000
DTSTAMP:20260422T061438
CREATED:20251218T154455Z
LAST-MODIFIED:20251218T154455Z
UID:10007377-1825149600-1825155000@www.ryedalemethodist.org.uk
SUMMARY:Oasis Coffee @ Kirkbymoorside
DESCRIPTION:Oasis Coffee Morning\nJoin us on Tuesday mornings from 10-11:30am for our Oasis coffee mornings.  All are welcome to drop in for a coffee\, a chat or simply a quiet space.
URL:https://www.ryedalemethodist.org.uk/event/oasis-coffee-kirkbymoorside/2027-11-02/
LOCATION:Kirkbymoorside Methodist\, 11 Piercy End\, Kirkbymoorside\, North Yorkshire\, YO62 6DQ\, United Kingdom
CATEGORIES:Churches,Coffee,Food,General,Kirkbymoorside,Social
ATTACH;FMTTYPE=image/jpeg:https://www.ryedalemethodist.org.uk/new/wp-content/uploads/2025/12/cup-3426617_1280.jpg
ORGANIZER;CN="Graham Ransom":MAILTO:graham.ransom@methodist.org.uk
END:VEVENT
BEGIN:VEVENT
DTSTART;TZID=Europe/London:20271109T100000
DTEND;TZID=Europe/London:20271109T113000
DTSTAMP:20260422T061438
CREATED:20251218T154455Z
LAST-MODIFIED:20251218T154455Z
UID:10007378-1825754400-1825759800@www.ryedalemethodist.org.uk
SUMMARY:Oasis Coffee @ Kirkbymoorside
DESCRIPTION:Oasis Coffee Morning\nJoin us on Tuesday mornings from 10-11:30am for our Oasis coffee mornings.  All are welcome to drop in for a coffee\, a chat or simply a quiet space.
URL:https://www.ryedalemethodist.org.uk/event/oasis-coffee-kirkbymoorside/2027-11-09/
LOCATION:Kirkbymoorside Methodist\, 11 Piercy End\, Kirkbymoorside\, North Yorkshire\, YO62 6DQ\, United Kingdom
CATEGORIES:Churches,Coffee,Food,General,Kirkbymoorside,Social
ATTACH;FMTTYPE=image/jpeg:https://www.ryedalemethodist.org.uk/new/wp-content/uploads/2025/12/cup-3426617_1280.jpg
ORGANIZER;CN="Graham Ransom":MAILTO:graham.ransom@methodist.org.uk
END:VEVENT
BEGIN:VEVENT
DTSTART;TZID=Europe/London:20271116T100000
DTEND;TZID=Europe/London:20271116T113000
DTSTAMP:20260422T061438
CREATED:20251218T154455Z
LAST-MODIFIED:20251218T154455Z
UID:10007379-1826359200-1826364600@www.ryedalemethodist.org.uk
SUMMARY:Oasis Coffee @ Kirkbymoorside
DESCRIPTION:Oasis Coffee Morning\nJoin us on Tuesday mornings from 10-11:30am for our Oasis coffee mornings.  All are welcome to drop in for a coffee\, a chat or simply a quiet space.
URL:https://www.ryedalemethodist.org.uk/event/oasis-coffee-kirkbymoorside/2027-11-16/
LOCATION:Kirkbymoorside Methodist\, 11 Piercy End\, Kirkbymoorside\, North Yorkshire\, YO62 6DQ\, United Kingdom
CATEGORIES:Churches,Coffee,Food,General,Kirkbymoorside,Social
ATTACH;FMTTYPE=image/jpeg:https://www.ryedalemethodist.org.uk/new/wp-content/uploads/2025/12/cup-3426617_1280.jpg
ORGANIZER;CN="Graham Ransom":MAILTO:graham.ransom@methodist.org.uk
END:VEVENT
BEGIN:VEVENT
DTSTART;TZID=Europe/London:20271117T100000
DTEND;TZID=Europe/London:20271117T120000
DTSTAMP:20260422T061439
CREATED:20251218T155617Z
LAST-MODIFIED:20251218T155617Z
UID:10007892-1826445600-1826452800@www.ryedalemethodist.org.uk
SUMMARY:Community Coffee and Cake @ Ebberston
DESCRIPTION:Join Us for Our Community Coffee and Cake Morning at Ebberston Methodist Church\n 
URL:https://www.ryedalemethodist.org.uk/event/community-coffee-and-cake-ebberston/2027-11-17/
LOCATION:Ebberston Methodist Church\, 57 Main Street\, Ebberston\, North Yorkshire\, YO13 9NR\, United Kingdom
CATEGORIES:Churches,Coffee,East-Churches,Ebberston,Food,Social
ATTACH;FMTTYPE=image/jpeg:https://www.ryedalemethodist.org.uk/new/wp-content/uploads/2025/12/chocolate-cake-2872128_1280.jpg
ORGANIZER;CN="Graham Ransom":MAILTO:graham.ransom@methodist.org.uk
END:VEVENT
BEGIN:VEVENT
DTSTART;TZID=Europe/London:20271123T100000
DTEND;TZID=Europe/London:20271123T113000
DTSTAMP:20260422T061439
CREATED:20251218T154455Z
LAST-MODIFIED:20251218T154455Z
UID:10007380-1826964000-1826969400@www.ryedalemethodist.org.uk
SUMMARY:Oasis Coffee @ Kirkbymoorside
DESCRIPTION:Oasis Coffee Morning\nJoin us on Tuesday mornings from 10-11:30am for our Oasis coffee mornings.  All are welcome to drop in for a coffee\, a chat or simply a quiet space.
URL:https://www.ryedalemethodist.org.uk/event/oasis-coffee-kirkbymoorside/2027-11-23/
LOCATION:Kirkbymoorside Methodist\, 11 Piercy End\, Kirkbymoorside\, North Yorkshire\, YO62 6DQ\, United Kingdom
CATEGORIES:Churches,Coffee,Food,General,Kirkbymoorside,Social
ATTACH;FMTTYPE=image/jpeg:https://www.ryedalemethodist.org.uk/new/wp-content/uploads/2025/12/cup-3426617_1280.jpg
ORGANIZER;CN="Graham Ransom":MAILTO:graham.ransom@methodist.org.uk
END:VEVENT
BEGIN:VEVENT
DTSTART;TZID=Europe/London:20271130T100000
DTEND;TZID=Europe/London:20271130T113000
DTSTAMP:20260422T061439
CREATED:20251218T154455Z
LAST-MODIFIED:20251218T154455Z
UID:10007381-1827568800-1827574200@www.ryedalemethodist.org.uk
SUMMARY:Oasis Coffee @ Kirkbymoorside
DESCRIPTION:Oasis Coffee Morning\nJoin us on Tuesday mornings from 10-11:30am for our Oasis coffee mornings.  All are welcome to drop in for a coffee\, a chat or simply a quiet space.
URL:https://www.ryedalemethodist.org.uk/event/oasis-coffee-kirkbymoorside/2027-11-30/
LOCATION:Kirkbymoorside Methodist\, 11 Piercy End\, Kirkbymoorside\, North Yorkshire\, YO62 6DQ\, United Kingdom
CATEGORIES:Churches,Coffee,Food,General,Kirkbymoorside,Social
ATTACH;FMTTYPE=image/jpeg:https://www.ryedalemethodist.org.uk/new/wp-content/uploads/2025/12/cup-3426617_1280.jpg
ORGANIZER;CN="Graham Ransom":MAILTO:graham.ransom@methodist.org.uk
END:VEVENT
BEGIN:VEVENT
DTSTART;TZID=Europe/London:20271207T100000
DTEND;TZID=Europe/London:20271207T113000
DTSTAMP:20260422T061439
CREATED:20251218T154455Z
LAST-MODIFIED:20251218T154455Z
UID:10007382-1828173600-1828179000@www.ryedalemethodist.org.uk
SUMMARY:Oasis Coffee @ Kirkbymoorside
DESCRIPTION:Oasis Coffee Morning\nJoin us on Tuesday mornings from 10-11:30am for our Oasis coffee mornings.  All are welcome to drop in for a coffee\, a chat or simply a quiet space.
URL:https://www.ryedalemethodist.org.uk/event/oasis-coffee-kirkbymoorside/2027-12-07/
LOCATION:Kirkbymoorside Methodist\, 11 Piercy End\, Kirkbymoorside\, North Yorkshire\, YO62 6DQ\, United Kingdom
CATEGORIES:Churches,Coffee,Food,General,Kirkbymoorside,Social
ATTACH;FMTTYPE=image/jpeg:https://www.ryedalemethodist.org.uk/new/wp-content/uploads/2025/12/cup-3426617_1280.jpg
ORGANIZER;CN="Graham Ransom":MAILTO:graham.ransom@methodist.org.uk
END:VEVENT
BEGIN:VEVENT
DTSTART;TZID=Europe/London:20271214T100000
DTEND;TZID=Europe/London:20271214T113000
DTSTAMP:20260422T061439
CREATED:20251218T154455Z
LAST-MODIFIED:20251218T154455Z
UID:10007383-1828778400-1828783800@www.ryedalemethodist.org.uk
SUMMARY:Oasis Coffee @ Kirkbymoorside
DESCRIPTION:Oasis Coffee Morning\nJoin us on Tuesday mornings from 10-11:30am for our Oasis coffee mornings.  All are welcome to drop in for a coffee\, a chat or simply a quiet space.
URL:https://www.ryedalemethodist.org.uk/event/oasis-coffee-kirkbymoorside/2027-12-14/
LOCATION:Kirkbymoorside Methodist\, 11 Piercy End\, Kirkbymoorside\, North Yorkshire\, YO62 6DQ\, United Kingdom
CATEGORIES:Churches,Coffee,Food,General,Kirkbymoorside,Social
ATTACH;FMTTYPE=image/jpeg:https://www.ryedalemethodist.org.uk/new/wp-content/uploads/2025/12/cup-3426617_1280.jpg
ORGANIZER;CN="Graham Ransom":MAILTO:graham.ransom@methodist.org.uk
END:VEVENT
BEGIN:VEVENT
DTSTART;TZID=Europe/London:20271215T100000
DTEND;TZID=Europe/London:20271215T120000
DTSTAMP:20260422T061439
CREATED:20251218T155617Z
LAST-MODIFIED:20251218T155617Z
UID:10007893-1828864800-1828872000@www.ryedalemethodist.org.uk
SUMMARY:Community Coffee and Cake @ Ebberston
DESCRIPTION:Join Us for Our Community Coffee and Cake Morning at Ebberston Methodist Church\n 
URL:https://www.ryedalemethodist.org.uk/event/community-coffee-and-cake-ebberston/2027-12-15/
LOCATION:Ebberston Methodist Church\, 57 Main Street\, Ebberston\, North Yorkshire\, YO13 9NR\, United Kingdom
CATEGORIES:Churches,Coffee,East-Churches,Ebberston,Food,Social
ATTACH;FMTTYPE=image/jpeg:https://www.ryedalemethodist.org.uk/new/wp-content/uploads/2025/12/chocolate-cake-2872128_1280.jpg
ORGANIZER;CN="Graham Ransom":MAILTO:graham.ransom@methodist.org.uk
END:VEVENT
BEGIN:VEVENT
DTSTART;TZID=Europe/London:20271221T100000
DTEND;TZID=Europe/London:20271221T113000
DTSTAMP:20260422T061439
CREATED:20251218T154455Z
LAST-MODIFIED:20251218T154455Z
UID:10007384-1829383200-1829388600@www.ryedalemethodist.org.uk
SUMMARY:Oasis Coffee @ Kirkbymoorside
DESCRIPTION:Oasis Coffee Morning\nJoin us on Tuesday mornings from 10-11:30am for our Oasis coffee mornings.  All are welcome to drop in for a coffee\, a chat or simply a quiet space.
URL:https://www.ryedalemethodist.org.uk/event/oasis-coffee-kirkbymoorside/2027-12-21/
LOCATION:Kirkbymoorside Methodist\, 11 Piercy End\, Kirkbymoorside\, North Yorkshire\, YO62 6DQ\, United Kingdom
CATEGORIES:Churches,Coffee,Food,General,Kirkbymoorside,Social
ATTACH;FMTTYPE=image/jpeg:https://www.ryedalemethodist.org.uk/new/wp-content/uploads/2025/12/cup-3426617_1280.jpg
ORGANIZER;CN="Graham Ransom":MAILTO:graham.ransom@methodist.org.uk
END:VEVENT
BEGIN:VEVENT
DTSTART;TZID=Europe/London:20271228T100000
DTEND;TZID=Europe/London:20271228T113000
DTSTAMP:20260422T061439
CREATED:20251218T154455Z
LAST-MODIFIED:20251218T154455Z
UID:10007385-1829988000-1829993400@www.ryedalemethodist.org.uk
SUMMARY:Oasis Coffee @ Kirkbymoorside
DESCRIPTION:Oasis Coffee Morning\nJoin us on Tuesday mornings from 10-11:30am for our Oasis coffee mornings.  All are welcome to drop in for a coffee\, a chat or simply a quiet space.
URL:https://www.ryedalemethodist.org.uk/event/oasis-coffee-kirkbymoorside/2027-12-28/
LOCATION:Kirkbymoorside Methodist\, 11 Piercy End\, Kirkbymoorside\, North Yorkshire\, YO62 6DQ\, United Kingdom
CATEGORIES:Churches,Coffee,Food,General,Kirkbymoorside,Social
ATTACH;FMTTYPE=image/jpeg:https://www.ryedalemethodist.org.uk/new/wp-content/uploads/2025/12/cup-3426617_1280.jpg
ORGANIZER;CN="Graham Ransom":MAILTO:graham.ransom@methodist.org.uk
END:VEVENT
BEGIN:VEVENT
DTSTART;TZID=Europe/London:20280104T100000
DTEND;TZID=Europe/London:20280104T113000
DTSTAMP:20260422T061439
CREATED:20251218T154455Z
LAST-MODIFIED:20251218T154455Z
UID:10007386-1830592800-1830598200@www.ryedalemethodist.org.uk
SUMMARY:Oasis Coffee @ Kirkbymoorside
DESCRIPTION:Oasis Coffee Morning\nJoin us on Tuesday mornings from 10-11:30am for our Oasis coffee mornings.  All are welcome to drop in for a coffee\, a chat or simply a quiet space.
URL:https://www.ryedalemethodist.org.uk/event/oasis-coffee-kirkbymoorside/2028-01-04/
LOCATION:Kirkbymoorside Methodist\, 11 Piercy End\, Kirkbymoorside\, North Yorkshire\, YO62 6DQ\, United Kingdom
CATEGORIES:Churches,Coffee,Food,General,Kirkbymoorside,Social
ATTACH;FMTTYPE=image/jpeg:https://www.ryedalemethodist.org.uk/new/wp-content/uploads/2025/12/cup-3426617_1280.jpg
ORGANIZER;CN="Graham Ransom":MAILTO:graham.ransom@methodist.org.uk
END:VEVENT
BEGIN:VEVENT
DTSTART;TZID=Europe/London:20280111T100000
DTEND;TZID=Europe/London:20280111T113000
DTSTAMP:20260422T061439
CREATED:20251218T154455Z
LAST-MODIFIED:20251218T154455Z
UID:10007387-1831197600-1831203000@www.ryedalemethodist.org.uk
SUMMARY:Oasis Coffee @ Kirkbymoorside
DESCRIPTION:Oasis Coffee Morning\nJoin us on Tuesday mornings from 10-11:30am for our Oasis coffee mornings.  All are welcome to drop in for a coffee\, a chat or simply a quiet space.
URL:https://www.ryedalemethodist.org.uk/event/oasis-coffee-kirkbymoorside/2028-01-11/
LOCATION:Kirkbymoorside Methodist\, 11 Piercy End\, Kirkbymoorside\, North Yorkshire\, YO62 6DQ\, United Kingdom
CATEGORIES:Churches,Coffee,Food,General,Kirkbymoorside,Social
ATTACH;FMTTYPE=image/jpeg:https://www.ryedalemethodist.org.uk/new/wp-content/uploads/2025/12/cup-3426617_1280.jpg
ORGANIZER;CN="Graham Ransom":MAILTO:graham.ransom@methodist.org.uk
END:VEVENT
BEGIN:VEVENT
DTSTART;TZID=Europe/London:20280118T100000
DTEND;TZID=Europe/London:20280118T113000
DTSTAMP:20260422T061439
CREATED:20251218T154455Z
LAST-MODIFIED:20251218T154455Z
UID:10007388-1831802400-1831807800@www.ryedalemethodist.org.uk
SUMMARY:Oasis Coffee @ Kirkbymoorside
DESCRIPTION:Oasis Coffee Morning\nJoin us on Tuesday mornings from 10-11:30am for our Oasis coffee mornings.  All are welcome to drop in for a coffee\, a chat or simply a quiet space.
URL:https://www.ryedalemethodist.org.uk/event/oasis-coffee-kirkbymoorside/2028-01-18/
LOCATION:Kirkbymoorside Methodist\, 11 Piercy End\, Kirkbymoorside\, North Yorkshire\, YO62 6DQ\, United Kingdom
CATEGORIES:Churches,Coffee,Food,General,Kirkbymoorside,Social
ATTACH;FMTTYPE=image/jpeg:https://www.ryedalemethodist.org.uk/new/wp-content/uploads/2025/12/cup-3426617_1280.jpg
ORGANIZER;CN="Graham Ransom":MAILTO:graham.ransom@methodist.org.uk
END:VEVENT
BEGIN:VEVENT
DTSTART;TZID=Europe/London:20280119T100000
DTEND;TZID=Europe/London:20280119T120000
DTSTAMP:20260422T061439
CREATED:20251218T155617Z
LAST-MODIFIED:20251218T155617Z
UID:10007894-1831888800-1831896000@www.ryedalemethodist.org.uk
SUMMARY:Community Coffee and Cake @ Ebberston
DESCRIPTION:Join Us for Our Community Coffee and Cake Morning at Ebberston Methodist Church\n 
URL:https://www.ryedalemethodist.org.uk/event/community-coffee-and-cake-ebberston/2028-01-19/
LOCATION:Ebberston Methodist Church\, 57 Main Street\, Ebberston\, North Yorkshire\, YO13 9NR\, United Kingdom
CATEGORIES:Churches,Coffee,East-Churches,Ebberston,Food,Social
ATTACH;FMTTYPE=image/jpeg:https://www.ryedalemethodist.org.uk/new/wp-content/uploads/2025/12/chocolate-cake-2872128_1280.jpg
ORGANIZER;CN="Graham Ransom":MAILTO:graham.ransom@methodist.org.uk
END:VEVENT
BEGIN:VEVENT
DTSTART;TZID=Europe/London:20280125T100000
DTEND;TZID=Europe/London:20280125T113000
DTSTAMP:20260422T061439
CREATED:20251218T154455Z
LAST-MODIFIED:20251218T154455Z
UID:10007389-1832407200-1832412600@www.ryedalemethodist.org.uk
SUMMARY:Oasis Coffee @ Kirkbymoorside
DESCRIPTION:Oasis Coffee Morning\nJoin us on Tuesday mornings from 10-11:30am for our Oasis coffee mornings.  All are welcome to drop in for a coffee\, a chat or simply a quiet space.
URL:https://www.ryedalemethodist.org.uk/event/oasis-coffee-kirkbymoorside/2028-01-25/
LOCATION:Kirkbymoorside Methodist\, 11 Piercy End\, Kirkbymoorside\, North Yorkshire\, YO62 6DQ\, United Kingdom
CATEGORIES:Churches,Coffee,Food,General,Kirkbymoorside,Social
ATTACH;FMTTYPE=image/jpeg:https://www.ryedalemethodist.org.uk/new/wp-content/uploads/2025/12/cup-3426617_1280.jpg
ORGANIZER;CN="Graham Ransom":MAILTO:graham.ransom@methodist.org.uk
END:VEVENT
BEGIN:VEVENT
DTSTART;TZID=Europe/London:20280201T100000
DTEND;TZID=Europe/London:20280201T113000
DTSTAMP:20260422T061439
CREATED:20251218T154455Z
LAST-MODIFIED:20251218T154455Z
UID:10007390-1833012000-1833017400@www.ryedalemethodist.org.uk
SUMMARY:Oasis Coffee @ Kirkbymoorside
DESCRIPTION:Oasis Coffee Morning\nJoin us on Tuesday mornings from 10-11:30am for our Oasis coffee mornings.  All are welcome to drop in for a coffee\, a chat or simply a quiet space.
URL:https://www.ryedalemethodist.org.uk/event/oasis-coffee-kirkbymoorside/2028-02-01/
LOCATION:Kirkbymoorside Methodist\, 11 Piercy End\, Kirkbymoorside\, North Yorkshire\, YO62 6DQ\, United Kingdom
CATEGORIES:Churches,Coffee,Food,General,Kirkbymoorside,Social
ATTACH;FMTTYPE=image/jpeg:https://www.ryedalemethodist.org.uk/new/wp-content/uploads/2025/12/cup-3426617_1280.jpg
ORGANIZER;CN="Graham Ransom":MAILTO:graham.ransom@methodist.org.uk
END:VEVENT
END:VCALENDAR